BEGIN:VCALENDAR
VERSION:2.0
PRODID:-//Musées et centres d&#039;art - ECPv6.15.20//NONSGML v1.0//EN
CALSCALE:GREGORIAN
METHOD:PUBLISH
X-WR-CALNAME:Musées et centres d&#039;art
X-ORIGINAL-URL:https://museesetcentresdart.caprovenceverte.fr
X-WR-CALDESC:Évènements pour Musées et centres d&#039;art
REFRESH-INTERVAL;VALUE=DURATION:PT1H
X-Robots-Tag:noindex
X-PUBLISHED-TTL:PT1H
BEGIN:VTIMEZONE
TZID:Europe/Paris
BEGIN:DAYLIGHT
TZOFFSETFROM:+0100
TZOFFSETTO:+0200
TZNAME:CEST
DTSTART:20230326T010000
END:DAYLIGHT
BEGIN:STANDARD
TZOFFSETFROM:+0200
TZOFFSETTO:+0100
TZNAME:CET
DTSTART:20231029T010000
END:STANDARD
BEGIN:DAYLIGHT
TZOFFSETFROM:+0100
TZOFFSETTO:+0200
TZNAME:CEST
DTSTART:20240331T010000
END:DAYLIGHT
BEGIN:STANDARD
TZOFFSETFROM:+0200
TZOFFSETTO:+0100
TZNAME:CET
DTSTART:20241027T010000
END:STANDARD
BEGIN:DAYLIGHT
TZOFFSETFROM:+0100
TZOFFSETTO:+0200
TZNAME:CEST
DTSTART:20250330T010000
END:DAYLIGHT
BEGIN:STANDARD
TZOFFSETFROM:+0200
TZOFFSETTO:+0100
TZNAME:CET
DTSTART:20251026T010000
END:STANDARD
END:VTIMEZONE
BEGIN:VEVENT
DTSTART;VALUE=DATE:20240323
DTEND;VALUE=DATE:20241216
DTSTAMP:20260419T165236
CREATED:20240412T132216Z
LAST-MODIFIED:20240412T132216Z
UID:3150-1711152000-1734307199@museesetcentresdart.caprovenceverte.fr
SUMMARY:Exposition L'Aluminium\, un métal de Champions !
DESCRIPTION:L’Aluminium\, un métal de Champions ! L’exposition 2024 au Musée des Gueules Rouges\nEn partenariat avec le Musée National du Sport à Nice et l’Institut pour l’Histoire de l’Aluminium de Paris\, le musée des Gueules Rouges\, présente\, de mars à décembre 2024\, l’exposition « L’aluminium\, un métal de champions ! » sur le thème de l’aluminium à la conquête du milieu sportif et au service de la performance. Plus d’une centaine d’objets et équipements sportifs\, maquettes de bateaux\, archives iconographiques et audiovisuelles seront présentés. \nExploits\, performances\, succès et victoires dépendent avant tout des athlètes\, sportives et sportifs. Mais ils sont aussi dépendants des équipements et du matériel\, ainsi la compétition dépasse la seule performance humaine et concerne les équipements\, matériels et matériaux.\nCette exposition a pour ambition de montrer l’évolution technologique des équipements sportifs grâce à l’utilisation de l’aluminium et son impact sur l’amélioration des performances. En effet\, c’est après 1940 que l’aluminium entre dans la fabrication de nombreux équipements : perches\, bâtons de ski\, cadres de vélo\, bateaux de compétition\, flèches de tir à l’arc\, raquettes de tennis\, mais aussi accessoires de protection comme les casques\, les chaussures de sport et bien plus encore… Plus tard\, ces avancées techniques se démocratisent et arrivent à la portée de l’ensemble des pratiquants.\nCe thème a été choisi à l’occasion des Jeux Olympiques et Paralympiques d’été de 2024\, célébrés à Paris\, et partout en France. \nUne exposition réalisée en étroite collaboration avec l’Institut pour l’Histoire de l’Aluminium\, le Musée National du Sport\, des collectionneurs passionnés\, des sociétés d’équipements sportifs et la Fédération Française Handisport. \nAluminium\, Citius\, altius\, fortius – Plus haut\, plus vite\, plus fort \nIndustriels et concepteurs d’équipements sportifs travaillent en étroite collaboration avec les champions pour faire évoluer le matériel\, car l’aluminium et ses alliages permettent de concevoir des équipements plus efficaces et performants. Très vite\, les records tombent. Dans un second temps\, ces avancées se démocratisent et sont à la portée des sportives et sportifs amateurs. Après des années de conquête\, l’aluminium\, très utilisé dans les années 1950-1970\, est lui-même ensuite concurrencé par d’autres matériaux comme les fibres de verre\, de carbone… Pour quelques activités sportives\, et pour certaines pratiques amateurs\, l’aluminium et ses alliages restent toutefois des matériaux d’actualité. \n \nL’exposition « L’Aluminium\, un métal de champions ! » se focalise sur trois grandes disciplines ayant noué des liens particulièrement ténus avec l’aluminium : le cyclisme\, les sports de montagne et la voile. \nLe feu de l’Olympe\, la flam-luminium ? \n \nLa plupart des torches des Jeux olympiques d’été (5 mises à part)\, sont intégralement ou en partie en aluminium. La conception des torches\, loin d’être anecdotique\, est le support de nombreux symboles. \nTorche olympique\, Atlanta 1996 \nLa torche en aluminium\, laiton et bois de pacanier\, porte : \n\nLa liste des jeux d’été de 1896 à 1996 est gravée sur le manche en bois\n22 tiges d’aluminium représentant le nombre d’éditions de jeux olympiques d’été\nUne connexion entre le ciel\, la terre et la flamme olympique grâce au bois d’origine locale\, don d’agriculteurs.\n\nAthènes 2004\, XVIIIe olympiade \nLa torche est composée de bois d’olivier et d’aluminium : l’olivier\, arbre sacré des peuples méditerranéens\, symbole de la ville d’Athènes et de la paix ; l’aluminium occupant une place majeure en Grèce depuis la fondation du complexe industriel à Agios Nikolaos\, sur le golfe de Corinthe\, en 1960. \nTokyo 2020\, XXIIe olympiade \nL’aluminium recyclé\, présent à hauteur de 30 % environ dans chacune des torches\, a été utilisé à l’origine pour des habitations temporaires préfabriquées destinées aux sinistrés du séisme ayant frappé la région du Tohoku en 2011. \n© collection photographique de L’Aluminium français\,  Institut pour l’histoire de l’aluminium @ Adobe Stock \nLe Musée des Gueules Rouges à Tourves \nLe musée des Gueules Rouges retrace le long d’un parcours de visite ludique\, l’histoire de l’exploitation de bauxite dans le Var. En visite libre grâce aux bornes interactives\, vous découvrirez l’origine de la bauxite\, les techniques de transformation de ce minerai en aluminium et les utilisations d’hier et d’aujourd’hui de ce métal d’exception. Accompagné d’un guide\, vous pourrez aussi plonger au cœur de la vie des mineurs et parcourir la galerie de mine reconstituée. \nInfos pratiques – contact \n\nAccès : Avenue de la Libération – 83170 Tourves\nVenir à Tourves : A8\, sortie 35\, direction Tourves\nContact : 04.94.86.19.63 – mgr@caprovenceverte.fr
URL:https://museesetcentresdart.caprovenceverte.fr/event/exposition-laluminium-un-metal-de-champions/
LOCATION:Musée des Gueules Rouges
CATEGORIES:Général - Accueil,Musée des Gueules Rouges
ATTACH;FMTTYPE=image/png:https://museesetcentresdart.caprovenceverte.fr/wp-content/uploads/2024/04/Alu_sport_v4.png
END:VEVENT
BEGIN:VEVENT
DTSTART;TZID=Europe/Paris:20240628T080000
DTEND;TZID=Europe/Paris:20241201T170000
DTSTAMP:20260419T165236
CREATED:20240610T125300Z
LAST-MODIFIED:20240624T083857Z
UID:3249-1719561600-1733072400@museesetcentresdart.caprovenceverte.fr
SUMMARY:PARADE - Exposition de PIERRE ARDOUVIN
DESCRIPTION:Les titres des expositions de Pierre Ardouvin\, minutieusement et malicieusement choisis par l’artiste\, parmi lesquels « Tout est affaire de décor »\, « Marcel »\, « Soupe de têtes de fantômes »\, « Prouve que tu existes »\, ou encore « Purple Rain »\, laissent aisément deviner que « PARADE »\, titre de l’exposition accueillie au Centre d’art de Châteauvert et œuvre produite pour l’occasion\, s’il fait référence à l’univers du cirque et surtout au film éponyme de Jacques Tati\, est aussi une manière de suggérer l’évitement\, la riposte\, la diversion face à un imprévu ou une attaque. \nPierre Ardouvin s’est saisi des réalités territoriales\, pas si éloignées de celles que l’on nomme globales\, et de leurs débordements\, au travers de son lexique formel pour composer une « PARADE » comme un petit monde habité de manèges domestiques\, telle une invitation joyeuse et mélancolique\, fragile et concrète\, où le maximum rejoint le minimum.
URL:https://museesetcentresdart.caprovenceverte.fr/event/parade-exposition-de-pierre-ardouvin/
LOCATION:Centre d’Art contemporain de Chateauvert
CATEGORIES:Centre d'Art de Châteauvert,Général - Accueil
ATTACH;FMTTYPE=image/jpeg:https://museesetcentresdart.caprovenceverte.fr/wp-content/uploads/2024/06/Affiche-Parade-site.jpg
END:VEVENT
BEGIN:VEVENT
DTSTART;TZID=Europe/Paris:20240628T080000
DTEND;TZID=Europe/Paris:20241201T170000
DTSTAMP:20260419T165236
CREATED:20240624T151751Z
LAST-MODIFIED:20240624T152204Z
UID:3323-1719561600-1733072400@museesetcentresdart.caprovenceverte.fr
SUMMARY:"ARCHÉOLOGIE DU QUOTIDIEN"  Projet participatif avec les adolescents de la Provence verte en lien avec la commande de "LA MAISON DITE DU PONT" de THOMAS MAILAENDER
DESCRIPTION:« LA MAISON DITE DU PONT » \nTHOMAS MAILAENDER \nExposition du 28 juin au 1er décembre 2024 \nFaisant suite à l’appel à projets lancé par la mairie de Châteauvert remporté par Thomas Mailaender\, également soutenu financièrement par l’Agglomération Provence verte\, mais aussi au processus de dialogue et d’échanges avec les habitants du territoire\, l’artiste présente ici quelques éléments et traces de sa quête pour la commande de “La maison dite du Pont”\, œuvre pérenne qui sera installée cet automne en entrée du village de Châteauvert. Il y sera question du passé et du présent\, de fouilles extraordinaires et de récits aussi personnels que collectifs\, pour une œuvre appartenant singulièrement à toutes et tous. \nThomas Mailaender bénéficie actuellement d’une exposition monographique intitulée « Les Belles Images » à la Maison Européenne de la Photographie (MEP) à Paris du 12 juin au 29 septembre 2024. \n« ARCHÉOLOGIE DU QUOTIDIEN » \nProjet participatif avec les adolescents de la Provence verte. \nCette installation sur le mur recto verso présente les productions de 5 adolescents dont le travail s’inspire de la pratique artistique de Thomas Mailaender. Après avoir découvert la démarche de l’artiste et le projet de “La maison dite du Pont”\, les participants\, accompagnés des médiatrices\, ont porté à leur tour l’attention sur leur environnement quotidien\, les objets et les archives qui le constituent. Ainsi\, ils proposent une composition de formes où le commun\, l’insignifiant et le détail sont le vocabulaire d’un poème visuel aux allures de “chambre d’ado”. \nOnt participé au projet Anathaëlle\, Enzo\, Jade\, Julie\, Kylian\, Marjorie et Paolo.
URL:https://museesetcentresdart.caprovenceverte.fr/event/archeologie-du-quotidien-projet-participatif-avec-les-adolescents-de-la-provence-verte/
LOCATION:Centre d’Art contemporain de Chateauvert
CATEGORIES:Centre d'Art de Châteauvert,Général - Accueil
ATTACH;FMTTYPE=image/jpeg:https://museesetcentresdart.caprovenceverte.fr/wp-content/uploads/2024/06/portrait_mailaender1-li.jpg
END:VEVENT
BEGIN:VEVENT
DTSTART;TZID=Europe/Paris:20241010T093000
DTEND;TZID=Europe/Paris:20241010T163000
DTSTAMP:20260419T165236
CREATED:20240923T100535Z
LAST-MODIFIED:20241007T113135Z
UID:3480-1728552600-1728577800@museesetcentresdart.caprovenceverte.fr
SUMMARY:[ SISM - Les Semaines d'Information sur la Santé Mentale]
DESCRIPTION:Dans le cadre des SIMS 2024 et dans le respect de l’Article 30 de la Convention de l’ONU relative aux droits des personnes handicapées à participer à la vie culturelle et récréative\, aux loisirs et au sport\, la Direction de l’Action Culturelle de la Communauté d’Agglomération de la Provence Verte propose une journée « En mouvement pour notre santé mentale » au Centre d’art contemporain de Châteauvert. \n\n9h30 -12h30 : SUR RÉSERVATION uniquement\, visite de l’exposition Parade et atelier de pratique artistique en lien avec l’exposition (pour les groupes de santé mentale\, réservation au 07 81 02 04 66)\n11h30 : Visite de l’exposition Parade pour les professionnels de santé ainsi que leurs familles\n12h30 : Repas aux couverts d’Argens. RÉSERVATION obligatoire au 07 64 71 06 22\n13h30 : Visite des dernières œuvres du jardin\n14h00 : Performance chorégraphique et danse de Caroline Brotons\, avec la complicité de Benoît Bottex en création sonore live. Monument.2 est un rituel conçu pour explorer nos nécessités de commémoration. A Châteauvert le parc et ses sculptures à l échelle du paysage invitent le duo à questionner la surface du parc et la verticalité des œuvres. Le mouvement dansé et la partition sonore s’immiscent pour bouleverser le regard sur nos fragilités et notre possibilité d’effondrement. Depuis deux ans Caroline Brotons et Benoît Bottex produisent des formes contextuelles dans lesquelles danse contemporaine\, musique électronique et clarinette dialoguent pour ré-investir les questions mémorielles.\n14h30 : Diffusion d’un film documentaire à destination des professionnels de santé : « Êtres en mouvement »\, cette vidéo de 44 : 00 min a été réalisée avec la totale implication de 15 patients fréquentant les Ateliers d’Art du Centre Hospitalier Henri Guérin qui se sont questionnés sur l’idée du mouvement\, ont donné contribution par des textes\, des paroles\, des œuvres … des discussions filmées.\n15h30 : Débat avec les intervenants : Jean-Marie Cartereau (responsable Culturel – Atelier d’Art CH Henri Guérin)\, Magali Latil (plasticienne intervenante en Art thérapie – Atelier d’Art CH Henri Guérin) – Les patients/Artistes qui seront disponibles
URL:https://museesetcentresdart.caprovenceverte.fr/event/sism-les-semaines-dinformation-sur-la-sante-mentale-2/
LOCATION:Centre d’Art contemporain de Chateauvert
CATEGORIES:Centre d'Art de Châteauvert,Général - Accueil
ATTACH;FMTTYPE=image/jpeg:https://museesetcentresdart.caprovenceverte.fr/wp-content/uploads/2024/09/SISM2024_Affichesite.jpg
END:VEVENT
BEGIN:VEVENT
DTSTART;TZID=Europe/Paris:20241013T130000
DTEND;TZID=Europe/Paris:20241013T170000
DTSTAMP:20260419T165236
CREATED:20241009T073856Z
LAST-MODIFIED:20241009T073856Z
UID:3505-1728824400-1728838800@museesetcentresdart.caprovenceverte.fr
SUMMARY:La Fête de la Science au musée des Gueules Rouges
DESCRIPTION:« Les duels de l’eau »\nÀ l’occasion de la Fête de la Science 2024\, ce dimanche 13 octobre venez participer à des expériences en famille autour de l’eau\, qui se retrouvera confrontée à un grand nombre de challengers : bauxite\, roches\, liquides\, gaz. Quelle sera sa réaction ? \nDe 13h à 17h\, démonstrations\, ateliers\, découverte du musée et de la mine\, présence des anciens mineurs de l’association des Gueules Rouges du Var\, vente de goûters et boissons. \nEntrée gratuite 
URL:https://museesetcentresdart.caprovenceverte.fr/event/la-fete-de-la-science-au-musee-des-gueules-rouges/
LOCATION:Musée des Gueules Rouges
CATEGORIES:Général - Accueil,Musée des Gueules Rouges
ATTACH;FMTTYPE=image/jpeg:https://museesetcentresdart.caprovenceverte.fr/wp-content/uploads/2024/10/fete-de-la-science-2024.jpg
END:VEVENT
BEGIN:VEVENT
DTSTART;TZID=Europe/Paris:20241020T130000
DTEND;TZID=Europe/Paris:20241020T170000
DTSTAMP:20260419T165236
CREATED:20241014T121136Z
LAST-MODIFIED:20241014T121136Z
UID:3509-1729429200-1729443600@museesetcentresdart.caprovenceverte.fr
SUMMARY:Le Fascinant Week-End - Dégustation vin et chocolat
DESCRIPTION:Le Fascinant Week-End\, événement national attendu du grand public\, célèbre tous les ans le vignoble et ses acteurs\, et permet de faire découvrir la richesse des vignobles de Provence et de Bandol\, le temps de quelques jours.\nL’occasion de s’évader dans des paysages enchanteurs\, de déguster des vins d’exception\, de rencontrer des vignerons passionnés et de découvrir les secrets bien gardés de ce nectar que nous envie le monde entier. \nLe musée des Gueules Rouges est intimement lié au monde viticole. Situé dans une ancienne cave coopérative\, il compte également dans ses racines toute l’histoire des Gueules Rouges\, qui\, en marge du travail à la mine\, exploitaient également des vignes et en produisaient le vin. \nSoucieux de faire appel aux savoir-faire locaux\, venez rencontrer des producteurs d’exception pour un accord vin et chocolat : \n\nDimanche 20 octobre 2024 de 13h à 17h\nPrésence des concepteurs de la nouvelle cuvée de vin rouge et rosé\, hommage aux anciens mineurs de bauxite du bassin minier (sortie en septembre 2024). Dégustation de vin et de jus de raisin.\nEn exclusivité\, sortie de la berline en chocolat remplie de ses truffes\, réalisée par un artisan chocolatier de Tourves\, fils de mineur de bauxite. Dégustation de chocolat et vente de la berline. Quantités très limitées.\nEntrée libre\n\nMusée des Gueules Rouges – Avenue de la Libération – 83170 Tourves \nContact : 04 94 86 19 63 – mgr@caprovenceverte.fr
URL:https://museesetcentresdart.caprovenceverte.fr/event/le-fascinant-week-end-degustation-vin-et-chocolat/
LOCATION:Musée des Gueules Rouges
CATEGORIES:Général - Accueil,Musée des Gueules Rouges
ATTACH;FMTTYPE=image/jpeg:https://museesetcentresdart.caprovenceverte.fr/wp-content/uploads/2024/10/Weekend-Vin-Chocolat-web.jpg
END:VEVENT
BEGIN:VEVENT
DTSTART;TZID=Europe/Paris:20241024T143000
DTEND;TZID=Europe/Paris:20241024T163000
DTSTAMP:20260419T165236
CREATED:20240916T134205Z
LAST-MODIFIED:20241007T075152Z
UID:3459-1729780200-1729787400@museesetcentresdart.caprovenceverte.fr
SUMMARY:Les jeudis de l’art contemporain - Pour les 6/12 ans - Atelier souvenirs en série
DESCRIPTION:Les jeudis de l’art contemporain sont une invitation à une initiation à l’art contemporain pour les enfants de 6 à 12 ans pendant les vacances scolaires. \nIls découvriront au cours d’une visite ludique l’exposition en cours avant de participer à un atelier de pratiques artistiques en lien avec l’exposition… Une expérience amusante et éducative qui ne manquera pas de les étonner. \nCe jeudi : Après la découverte de l’univers de Pierre Ardouvin\, viens expérimenter une technique passionnante : la sérigraphie ! \nEt repart avec ta carte postale sérigraphiée\, souvenir de ta visite au centre d’art. \n  \nSur inscription auprès de l’Office du Tourisme : 04 94 72 04 21
URL:https://museesetcentresdart.caprovenceverte.fr/event/les-jeudis-de-lart-contemporain-pour-les-6-12-ans-atelier-souvenirs-en-serie/
LOCATION:Centre d’Art contemporain de Chateauvert
CATEGORIES:Centre d'Art de Châteauvert,Général - Accueil
ATTACH;FMTTYPE=image/jpeg:https://museesetcentresdart.caprovenceverte.fr/wp-content/uploads/2024/10/souvenir-serie-site.jpg
END:VEVENT
BEGIN:VEVENT
DTSTART;TZID=Europe/Paris:20241031T143000
DTEND;TZID=Europe/Paris:20241031T163000
DTSTAMP:20260419T165236
CREATED:20240916T134657Z
LAST-MODIFIED:20240923T073123Z
UID:3462-1730385000-1730392200@museesetcentresdart.caprovenceverte.fr
SUMMARY:Les jeudis de l’art contemporain - Pour les 6/12 ans - Atelier La parade de l'horreur
DESCRIPTION:Les jeudis matin de l’art contemporain sont une invitation à une initiation à l’art contemporain pour les enfants de 6 à 12 ans pendant les vacances scolaires. \nIls découvriront au cours d’une visite ludique l’exposition en cours avant de participer à un atelier de pratiques artistiques en lien avec l’exposition… Une expérience amusante et éducative qui ne manquera pas de les étonner. \nCe jeudi : Visite de l’exposition de Pierre Ardouvin autour d’un conte : l’histoire glaçante du cirque de Châteauvert ! \nPuis réalisation d’une lanterne pour parader dans la nuit noire d’Halloween… \nAtelier spécial Halloween\, les enfants peuvent venir déguisés. \nSur inscription auprès de l’Office du Tourisme : 04 94 72 04 21
URL:https://museesetcentresdart.caprovenceverte.fr/event/les-jeudis-de-lart-contemporain-pour-les-6-12-ans-atelier-la-parade-de-lhorreur/
LOCATION:Centre d’Art contemporain de Chateauvert
CATEGORIES:Centre d'Art de Châteauvert,Général - Accueil
ATTACH;FMTTYPE=image/jpeg:https://museesetcentresdart.caprovenceverte.fr/wp-content/uploads/2024/09/halloween.jpg
END:VEVENT
END:VCALENDAR