BEGIN:VCALENDAR
VERSION:2.0
PRODID:-//Musées et centres d&#039;art - ECPv6.15.20//NONSGML v1.0//EN
CALSCALE:GREGORIAN
METHOD:PUBLISH
X-WR-CALNAME:Musées et centres d&#039;art
X-ORIGINAL-URL:https://museesetcentresdart.caprovenceverte.fr
X-WR-CALDESC:Évènements pour Musées et centres d&#039;art
REFRESH-INTERVAL;VALUE=DURATION:PT1H
X-Robots-Tag:noindex
X-PUBLISHED-TTL:PT1H
BEGIN:VTIMEZONE
TZID:Europe/Paris
BEGIN:DAYLIGHT
TZOFFSETFROM:+0100
TZOFFSETTO:+0200
TZNAME:CEST
DTSTART:20220327T010000
END:DAYLIGHT
BEGIN:STANDARD
TZOFFSETFROM:+0200
TZOFFSETTO:+0100
TZNAME:CET
DTSTART:20221030T010000
END:STANDARD
BEGIN:DAYLIGHT
TZOFFSETFROM:+0100
TZOFFSETTO:+0200
TZNAME:CEST
DTSTART:20230326T010000
END:DAYLIGHT
BEGIN:STANDARD
TZOFFSETFROM:+0200
TZOFFSETTO:+0100
TZNAME:CET
DTSTART:20231029T010000
END:STANDARD
BEGIN:DAYLIGHT
TZOFFSETFROM:+0100
TZOFFSETTO:+0200
TZNAME:CEST
DTSTART:20240331T010000
END:DAYLIGHT
BEGIN:STANDARD
TZOFFSETFROM:+0200
TZOFFSETTO:+0100
TZNAME:CET
DTSTART:20241027T010000
END:STANDARD
END:VTIMEZONE
BEGIN:VEVENT
DTSTART;TZID=Europe/Paris:20230513T180000
DTEND;TZID=Europe/Paris:20231126T000000
DTSTAMP:20260420T152348
CREATED:20230509T091814Z
LAST-MODIFIED:20230509T091814Z
UID:2545-1684000800-1700956800@museesetcentresdart.caprovenceverte.fr
SUMMARY:Exposition Mine et une briques LEGO®
DESCRIPTION:Le musée des Gueules Rouges est fier de présenter sa nouvelle exposition mettant à l’honneur l’histoire des mines en version briques LEGO®.\nDu 13 mai au 26 novembre 2023\, venez découvrir une exposition ludique et intergénérationnelle qui plaira aux petits et grands. \nPrès de 75 000 briques LEGO® ont été utilisées pour créer des maquettes de différents éléments clés du monde de la mine tels que les coupes de mine\, les chevalements\, les carreaux de mine et les lampisteries. Cette exposition a été conçue et réalisée en collaboration avec la société BrickEvent et le Centre Minier de Faymoreau\, tous deux situés en Vendée. Adaptée à la couleur locale de la bauxite\, cette exposition est désormais proposée sur l’Agglomération Provence Verte. \nEn parcourant l’exposition\, vous découvrirez une autre facette de l’aventure charbonnière grâce à une présentation originale et interactive. Les visiteurs pourront se laisser tenter par la magie des briques LEGO® en créant leur propre souvenir de la mine\, à partir de 4 ans. \n\nLe vernissage de l’exposition aura lieu le samedi 13 mai à 18h à l’occasion de la Nuit européenne des musées. \n\nNous vous invitons à venir découvrir cette exposition inédite qui vous fera (re)découvrir l’histoire des mines d’une manière originale. Ne manquez pas cette opportunité de vous plonger dans le passé charbonnier de la région grâce à l’art des briques LEGO®.
URL:https://museesetcentresdart.caprovenceverte.fr/event/exposition-mine-et-une-briques-lego/
LOCATION:Musée des Gueules Rouges
CATEGORIES:Général - Accueil,Musée des Gueules Rouges
ATTACH;FMTTYPE=image/jpeg:https://museesetcentresdart.caprovenceverte.fr/wp-content/uploads/2023/05/lego-A3-1-scaled.jpg
END:VEVENT
BEGIN:VEVENT
DTSTART;VALUE=DATE:20230707
DTEND;VALUE=DATE:20230904
DTSTAMP:20260420T152348
CREATED:20230704T121610Z
LAST-MODIFIED:20230710T075630Z
UID:2670-1688688000-1693785599@museesetcentresdart.caprovenceverte.fr
SUMMARY:Bienvenue au jardin #3
DESCRIPTION:La trosième édition de Bienvenue au jardin est dédiée au partage et à la pratique artistqiue à travers de multiples propositions ludiques dans le cadre enchanteur du jardin de sculptures du centre d’art. \n7 juillet :  \n\n17h : Vernissage de l’exposition de Martine et Jean Béchameil\n17h : Lancement de Bienvenue au jardin #3 & Vernissage de l’exposition de Simon de la Porte RECTO VERSO #1 « Prism of memory »\n17h30 : Inauguration de l’œuvre d’Ugo Schiavi (acquisition de la commune)\n\n9 juillet : \n\n15-17h : Visite guidée de l’exposition et atelier famille\n\nPublic : Tout public \nTarif : Gratuit sur présentation du billet d’entrée \n13 juillet : \n\n10-12h : Les jeudis matin de l’art contemporain\n\nPublic : Enfant de 6 à 12 ans \nTarif : 4 € sur réservation auprès de l’OIT 04 94 72 04 21 \n14 juillet matin :  \n\n10-12h – Pentathlon des muses\n\nTu veux challenger l’artiste qui sommeille en toi ? Saviez-vous que les compétitions artistiques ont fait partie des Jeux olympiques de 1912 à 1948 ? C’était une idée du fondateur des Jeux\, Pierre de Coubertin. Lors de ce pentathlon des muses\, Enfants et adultes s’affronteront autour de 5 disciplines artistiques différentes qui mettront leurs talents à rudes épreuves. \nPossibilité de pique-nique sur place \nPublic : Famille \nTarif : Gratuit \n16 juillet :  \n\n15-17h : Atelier linogravure autour du travail graphique de Simon De La Porte\n\nPublic : Adultes et enfants à partir de 8 ans \nTarif : 4 € sur réservation auprès de l’OIT 04 94 72 04 21 \n18 juillet : Garden [P]Arty \n\n14h : Visite et Vernissage de l’exposition ‘ Garden [P]Arty ‘ suivi d’un concert (équipe en recherche d’une musicienne ou d’un musicien)\n\nDans le cadre du projet hors-les-murs du centre d’art\, l’équipe de médiation a proposé durant toute l’année des ateliers au sein des accueils de jour de l’Hôpital Psychiatrique Henri Guérin de Pierrefeu situés à Brignoles et St-Maximin-la-Ste-Baume. \nL’après-midi du 18 juillet est consacrée aux patients ayant bénéficiés de ces ateliers lors d’une Garden [P]Arty où seront exposées certaines des œuvres réalisées au cours de ces ateliers. Cette exposition sera accompagnée d’un temps festif ouvert à toutes et tous en musique. \n20 juillet :  \n\n10-12h : Les jeudis matin de l’art contemporain\n\nPublic : Enfant de 6 à 12 ans \nTarif : 4 € sur réservation auprès de l’OIT 04 94 72 04 21 \n22  & 23 juillet :  \n\n10 – 12h30 / 14 – 16h30 : Stage de linogravure\n\nVous avez envie d’explorer la linogravure\, d’imaginer et de concevoir votre propre livre d’artiste sur le thème du jardin ? Alors c’est à Châteauvert que ça se passe ! \nDans le cadre du festival Bienvenue au jardin\, le Centre d’art vous propose un stage de linogravure de 10h réparties sur 2 journées le week-end du 22/23 juillet. \nAu programme : visite des sculptures et collecte dans le jardin\, découverte de la technique et de ses possibilités\, conception d’un livre d’artiste et réalisation d’un tampon à signer. \nPublic : Adultes et enfants à partir de 8 ans \nTarif : 40 € sur réservation auprès de l’OIT 04 94 72 04 21 \n27 juillet :  \n\n10-12h : Les jeudis matin de l’art contemporain\n\nPublic : Enfant de 6 à 12 ans \nTarif : 4 € sur réservation auprès de l’OIT 04 94 72 04 21 \n28 juillet : \n\n19h : Rencontre avec Léo Fourdrinier\, artiste en résidence au centre d’art contemporain de Châteauvert dans le cadre de l’Eté Culturel – Rouvrir le monde mis en place par le Ministère de la Culture\n\n7 > 11 août : \n\n10 – 12h : Stage à l’attention des 6 – 12 ans : « Ça papillonne »\n\nPublic : Enfant de 6 à 12 ans \nTarif : 40 € sur réservation auprès de l’OIT 04 94 72 04 21 \nCe premier stage au centre d’art contemporain de Châteauvert à destination des enfants de 6 à 12 ans propose un croisement ludique de savoirs entre découverte entomologique (science des insectes) et découverte artistique.
URL:https://museesetcentresdart.caprovenceverte.fr/event/bienvenue-au-jardin-3/
LOCATION:Centre d’Art contemporain de Chateauvert
CATEGORIES:Centre d'Art de Châteauvert,Général - Accueil
ATTACH;FMTTYPE=image/png:https://museesetcentresdart.caprovenceverte.fr/wp-content/uploads/2023/07/BAJ-3.png
END:VEVENT
BEGIN:VEVENT
DTSTART;TZID=Europe/Paris:20230707T170000
DTEND;TZID=Europe/Paris:20231126T210000
DTSTAMP:20260420T152348
CREATED:20221118T123052Z
LAST-MODIFIED:20230710T075519Z
UID:1967-1688749200-1701032400@museesetcentresdart.caprovenceverte.fr
SUMMARY:Exposition "Traversée de nuit" de Martine FEIPEL & Jean BECHAMEIL
DESCRIPTION:Le centre d’art contemporain de Châteauvert rouvre ses portes après plusieurs mois de travaux le 7 juillet 2023 avec la première exposition dans une institution culturelle du sud de la France du duo Martine Feipel et Jean Béchameil. \nTraversée de nuit a débuté un mois avant l’ouverture de l’exposition par une performance – tournage d’une marche participative avec une cinquantaine de personnes de tout horizon qui s’est déroulée au crépuscule dans les alentours du centre d’art. \nHommage aux migrations d’hier\, d’aujourd’hui et de demain\, Traversée de Nuit se réfère aux mouvements de population relatés par le médecin grec Ctésias dès le Vème siècle avant J.C.\, aux déplacements de populations de tous les temps\, à la marche du sel de Gandhi en 1930 ou à celle de Mao Tsé Toung en 1934 mais aussi aux marches des réfugié·e·s dans la jungle du Darien au Panama\, jungle qu’ils traversent au péril de leurs vies pour rejoindre les Etats-Unis\, sans oublier les migrations toujours plus risquées qui mènent vers l’Europe par des cheminement et des détours qui changent au grès des contrôles. \nHommage à la nature\, Traversée de Nuit prend la parole pour le compte d’un absent qui ne peut s’exprimer lui-même alors que « nous sommes en pleine crise climatique et que la croissance\, l’économie et les valeurs même du travail sont remises en cause. \nMartine Feipel & Jean Béchameil ont longtemps porté des réflexions sur l’héritage du modernisme tout en en relevant l’ambivalence\, ils soulignent aujourd’hui la place de tous les êtres vivants comme centrale et interrogent de manière optimiste\, le fait que les êtres vivants ne se limitent pas à habiter tel ou tel espace géographique mais à être un sol qui ne cesse de se métamorphoser et de s’adapter à la nature. \nVernissage vendredi 7 juillet à partir de 17h \n  \nMartine Feipel et Jean Bechameil est un duo d’artistes installé à Bruxelles\, représentant du Pavillon Luxembourgeois lors de la Biennale de Venise en 2011. Habités d’une grande sensibilité à la théâtralité du monde et ses beautés\, alliant leurs nombreux savoir-faire – dessin\, sculpture\, ingénierie\, mise en scène\, décor (notamment de plusieurs films de Lars von Trier) – Feipel et Bechameil produisent une œuvre aussi formellement aboutie que fortement engagée. Ils proposent des pistes de réflexion pour un avenir meilleur. \n  \nTRAVERSEE DE NUIT a bénéficié du soutien de KULTUR LX\, de la Fondation Independance by Bil et de Wallonie-Bruxelles International (WBI) / CWB Paris\, Centre Wallonie-Bruxelles/Paris – Hors-Les-Murs Constellations. \n 
URL:https://museesetcentresdart.caprovenceverte.fr/event/exposition-traversee-de-nuit-de-martine-feipel-jean-bechameil/
LOCATION:Centre d’Art contemporain de Chateauvert
CATEGORIES:Centre d'Art de Châteauvert,Général - Accueil
ATTACH;FMTTYPE=image/jpeg:https://museesetcentresdart.caprovenceverte.fr/wp-content/uploads/2022/11/F-P.jpg
END:VEVENT
BEGIN:VEVENT
DTSTART;VALUE=DATE:20230708
DTEND;VALUE=DATE:20231127
DTSTAMP:20260420T152348
CREATED:20230704T111149Z
LAST-MODIFIED:20230925T080712Z
UID:2656-1688774400-1701043199@museesetcentresdart.caprovenceverte.fr
SUMMARY:Bienvenue au jardin #3 - Artiste invité : Simon de la Porte
DESCRIPTION:Le centre d’art contemporain de Châteauvert invite pour la troisième édition de Bienvenue au jardin Simon de la Porte à présenter une série de dessins faisant entrer la nature dans le centre d’art\, nature qu’il qualifie de « plus belle télé du monde ». Ces dessins prennent place au sein d’un nouvel espace de monstration à l’étage du centre d’art que l’équipe a nommé RECTO VERSO et qui accueillera régulièrement des expositions et restitutions de projets pédagogiques. \nLes dessins de Simon de la Porte sont faussement naïfs. Réalisés au feutre sur des petits formats\, ils sont une lecture poétique d’un monde contemporain qui se fait dévorer petit à petit par la nature\, à contrario du climaticide actuel. Les paysages qu’il représente sont imprégnés par la culture française ou européenne facilement reconnaissables aux véhicules vintages des années 80 qu’il aime dessiner. La chaise en plastique blanche\, figure incontournable d’un art de vivre populaire\, hante également ses dessins. Et\, si les personnes masculins sont nombreux\, il n’y a presque aucun personnage féminin  représenté dans les dessins de Simon de la Porte car l’artiste estime dessiner trop mal. Il a peur de « les rater ». Finalement\, les dessins de Simon de la Porte entrainent par ces motifs\, formes et médium un sentiment de familiarité mais aussi de nostalgie qui d’une douce nostalgie qui les rendent infiniment attachants. \n  \nSimon de la Porte (1976)\, diplômé de LISAA Paris (1999)\, est un graphiste\, photo monteur et dessinateur.  En 2014\, il se remet au dessin au feutre\, suivi de plusieurs autres projets jusqu’à\naujourd’hui. Il est notamment co-organisateur du festival de dessin contemporain VRRRAIMENT! à Toulon.\nIl grandit en Normandie\, passe une vingtaine d’année à Paris\, part pour un grand voyage en Asie\, et enfin il s’installe à Toulon. \n 
URL:https://museesetcentresdart.caprovenceverte.fr/event/bienvenue-au-jardin-3-artiste-invite-simon-de-la-porte/
LOCATION:Centre d’Art contemporain de Chateauvert
CATEGORIES:Centre d'Art de Châteauvert,Général - Accueil
ATTACH;FMTTYPE=image/png:https://museesetcentresdart.caprovenceverte.fr/wp-content/uploads/2023/07/230704-CACC-Simon-de-la-Porte.png
END:VEVENT
BEGIN:VEVENT
DTSTART;VALUE=DATE:20230901
DTEND;VALUE=DATE:20230904
DTSTAMP:20260420T152348
CREATED:20230821T091142Z
LAST-MODIFIED:20230821T091142Z
UID:2903-1693526400-1693785599@museesetcentresdart.caprovenceverte.fr
SUMMARY:PARÉIDOLIE
DESCRIPTION:A l’occasion de la 10ème édition de PARÉIDOLIE\, salon international du dessin contemporain à Marseille\, le centre d’art présentera un prequel de sa première exposition de l’année 2024 « REGAIN »\, exposition collective de Côme Di Meglio\, Eve Pietruschi et Javiera Tejerina-Risso. \nChâteau de Servières\, 11 19 boulevard Boisson 13004 Marseille | 04 91 85 42 78 \nToutes les informations sur pareidolie.net
URL:https://museesetcentresdart.caprovenceverte.fr/event/pareidolie/
CATEGORIES:Centre d'Art de Châteauvert,Général - Accueil
ATTACH;FMTTYPE=image/jpeg:https://museesetcentresdart.caprovenceverte.fr/wp-content/uploads/2023/08/Pareidolie-visuel.jpg
END:VEVENT
BEGIN:VEVENT
DTSTART;TZID=Europe/Paris:20230903T150000
DTEND;TZID=Europe/Paris:20230903T163000
DTSTAMP:20260420T152348
CREATED:20230807T090815Z
LAST-MODIFIED:20230807T091417Z
UID:2880-1693753200-1693758600@museesetcentresdart.caprovenceverte.fr
SUMMARY:1er dimanche du mois - Visite de l'exposition de Martine Feipel et Jean Bechameil "
DESCRIPTION:Tous les 1ers dimanches du mois\, l’équipe de médiation du centre d’art invite les visiteurs à découvrir l’exposition en cours sur présentation de leur billet d’entrée. \nCette visite est suivie\, pour celles et ceux qui le souhaitent\, d’un atelier artistique en lien avec l’exposition. \nCet atelier est destiné à toutes et tous\, des plus petits aux plus grands. Il se réalise généralement en famille.
URL:https://museesetcentresdart.caprovenceverte.fr/event/1er-dimanche-du-mois-visite-de-lexposition-de-martine-feipel-et-jean-bechameil-2/
LOCATION:Centre d’Art contemporain de Chateauvert
CATEGORIES:Centre d'Art de Châteauvert,Général - Accueil
ATTACH;FMTTYPE=image/jpeg:https://museesetcentresdart.caprovenceverte.fr/wp-content/uploads/2023/08/visiste-commentee-martine-et-jean-s-scaled.jpg
END:VEVENT
BEGIN:VEVENT
DTSTART;TZID=Europe/Paris:20230904T080000
DTEND;TZID=Europe/Paris:20230904T170000
DTSTAMP:20260420T152348
CREATED:20230904T121043Z
LAST-MODIFIED:20230904T121043Z
UID:2909-1693814400-1693846800@museesetcentresdart.caprovenceverte.fr
SUMMARY:En septembre à la Micro-Folie Provence Verte
DESCRIPTION:Retrouvez la programmation détaillée de votre rentrée à la Micro-Folie Provence Verte\, également disponible à l’accueil du musée des Comtes de Provence.\n\n\nDu 2 au 30 septembre – Portraits de femmes iconiques : Découverte de tableaux célèbres à travers l’émission « A Musée Vous\, A Musée Moi » diffusée sur Arte\, pour une exploration ludique de l’art.\nVendredi 8 septembre à 18h30 – Soirée Discovery Tour Promenade Interactive dans le monde antique – Séance I sur le thème « La vie des femmes dans l’Antiquité »\, les responsabilités et les contraintes qui leur étaient imposées au sein de leurs sociétés respectives. Entrée gratuite\, à partir de 11 ans – Réservation conseillée\nLes 16 et 17 septembre se tiendront les Journées du Patrimoine : À cette occasion\, venez découvrir le « Jeu de l’expo »\, pour comprendre ce qui se cache derrière la réalisation d’une exposition\, et créer votre galerie numérique. De 10h à 18h – Entrée libre\n\nCliquez ICI pour la télécharger 
URL:https://museesetcentresdart.caprovenceverte.fr/event/en-septembre-a-la-micro-folie-provence-verte/
CATEGORIES:Général - Accueil,Musée des Comtes de Provence
ATTACH;FMTTYPE=image/jpeg:https://museesetcentresdart.caprovenceverte.fr/wp-content/uploads/2023/09/Prog_MF_septembre_v2_Page_1.jpg
END:VEVENT
BEGIN:VEVENT
DTSTART;TZID=Europe/Paris:20230908T183000
DTEND;TZID=Europe/Paris:20230908T200000
DTSTAMP:20260420T152348
CREATED:20230904T130331Z
LAST-MODIFIED:20230904T130331Z
UID:2913-1694197800-1694203200@museesetcentresdart.caprovenceverte.fr
SUMMARY:Soirée Discovery Tour Monde Antique - La vie des femmes dans l'Antiquité
DESCRIPTION:Découvrez la maisonnée urbaine chez les Grecs et Égyptiens de l’époque antique\, les rôles et les limitations imposées aux femmes dans chacune de leurs sociétés lors de notre Soirée spéciale Discovery tour / Promenade Interactive dédiée à la vie des femmes dans l’Antiquité.\n\n\n\nVendredi 8 septembre 2023 à 18h30 – Durée 1h30\nEntrée gratuite \n Réservation conseillée\nÀ partir de 11ans\n\n\n\n \n\n\n\nMusée des Comtes de Provence – Brignoles \nTél. : 04 98 05 92 88\nContact : mcp@caprovenceverte.fr
URL:https://museesetcentresdart.caprovenceverte.fr/event/soiree-discovery-tour-monde-antique-la-vie-des-femmes-dans-lantiquite/
LOCATION:Musée des Comtes de Provence
CATEGORIES:Général - Accueil,Musée des Comtes de Provence
ATTACH;FMTTYPE=image/jpeg:https://museesetcentresdart.caprovenceverte.fr/wp-content/uploads/2023/09/Discovery-Tour-8-septembre-1.jpg
END:VEVENT
BEGIN:VEVENT
DTSTART;TZID=Europe/Paris:20230910T150000
DTEND;TZID=Europe/Paris:20230910T163000
DTSTAMP:20260420T152348
CREATED:20230807T093131Z
LAST-MODIFIED:20230807T093131Z
UID:2889-1694358000-1694363400@museesetcentresdart.caprovenceverte.fr
SUMMARY:Les ateliers du dimanche
DESCRIPTION:Tous les deuxièmes dimanche du mois\, l’équipe de médiation du centre d’art propose un atelier d’initiation à la linogravure. \nLe centre d’art fermé\, les ateliers sont maintenues durant le temps des travaux mais se dérouleront dans l’atelier de l’ancien presbytère à proximité du centre d’art. \nQu’est-ce que la linogravure ? Il s’agit d’ une des techniques de l’estampe\, qui consiste à creuser une plaque de linoléum au moyen de gouges. Une fois gravée la plaque est encrée. Puis\, on passe la plaque et la feuille de papier dans une presse afin d’y déposer l’encre. Une plaque peut servir à imprimer plusieurs feuilles. \nCette technique est l’une des plus simples pour commencer la gravure. Elle permet d’obtenir des résultats satisfaisants rapidement. \n  \nSur inscription auprès de l’OIT : 04 94 72 04 21
URL:https://museesetcentresdart.caprovenceverte.fr/event/les-ateliers-du-dimanche-18/
LOCATION:Centre d’Art contemporain de Chateauvert
CATEGORIES:Centre d'Art de Châteauvert,Général - Accueil
ATTACH;FMTTYPE=image/jpeg:https://museesetcentresdart.caprovenceverte.fr/wp-content/uploads/2023/08/COM-ATELIER-LINO4-bleu.jpg
END:VEVENT
BEGIN:VEVENT
DTSTART;TZID=Europe/Paris:20230916T100000
DTEND;TZID=Europe/Paris:20230917T180000
DTSTAMP:20260420T152348
CREATED:20230912T070812Z
LAST-MODIFIED:20230912T072539Z
UID:2921-1694858400-1694973600@museesetcentresdart.caprovenceverte.fr
SUMMARY:Journées Européennes du Patrimoine au musée des Comtes de Provence
DESCRIPTION:Les 16 et 17 septembre 2023\, se tiendront les Journées Européennes du Patrimoine. Notre équipe vous propose de découvrir – ou redécouvrir – le musée pendant ces deux jours.\nAu programme\, visites libres tout le week-end\, de 10h à 18h. \n\n\nLe voyage d’une œuvre  : Tout le week-end de 14h à 18h \nSuivez le voyage parcouru par une œuvre de sa réalisation par l’artiste jusqu’à sa valorisation par le médiateur culturel du musée. Ce voyage commence autour du tableau « Le Vieux Port de Marseille » du peintre Louis Nattero.Visite sous forme de plusieurs ateliers et de rencontres\, avec la présence de Mme Combes\, famille de Louis Nattero\, de Mme Thuillier\, famille donatrice du tableau de Nattero et de Mme Gueritaud\, restauratrice du même tableau. \n\n\nPartez à la découverte de Saint-Louis d’Anjou et du lien qui l’unit à Brignoles et venez décorer votre galerie numérique et réaliser votre exposition collective lors de notre Jeu de l’Expo à la Micro-Folie Provence Verte !\n\n\nProgramme complet à télécharger :
URL:https://museesetcentresdart.caprovenceverte.fr/event/journees-du-patrimoine-au-musee-des-comtes-de-provence/
LOCATION:Musée des Comtes de Provence
CATEGORIES:Général - Accueil,Musée des Comtes de Provence
ATTACH;FMTTYPE=image/jpeg:https://museesetcentresdart.caprovenceverte.fr/wp-content/uploads/2023/09/Flyer-Journees-du-Patrimoine-2023-MCP_Page_1.jpg
END:VEVENT
BEGIN:VEVENT
DTSTART;TZID=Europe/Paris:20230916T100000
DTEND;TZID=Europe/Paris:20230917T180000
DTSTAMP:20260420T152348
CREATED:20230912T072858Z
LAST-MODIFIED:20230912T072858Z
UID:2928-1694858400-1694973600@museesetcentresdart.caprovenceverte.fr
SUMMARY:Journées Européennes du Patrimoine au musée des Gueules Rouges
DESCRIPTION:Les 16 et 17 septembre 2023\, nous vous attendons nombreux pour les Journées Européennes du Patrimoine.\nAu programme du week-end :\n\nOuverture et visite libre du musée et de la mine de 10h à 18h. Possibilité de restauration le midi par l’Association des Gueules Rouges du Var.\nVisites flash au sein de l’exposition « Mine et une briques Lego® » : À 10h30\, 11h\, 11h30\, 14h\, 14h30\, 15h\, 15h30\, 16h\, et 16h30\nLe café des mineurs – par l’Association des Gueules Rouges du Var : Rencontre conviviale avec les anciens mineurs pour un partage de mémoire.Tout le week-end en continu\nChasse au trésor : Découvrir le musée autrement au travers de l’application Baludik sur mobile pour tenter de retrouver le trésor des mineurs. Tout le week-end en continu\n\nProgramme complet à télécharger : 
URL:https://museesetcentresdart.caprovenceverte.fr/event/journees-europeennes-du-patrimoine-au-musee-des-gueules-rouges/
LOCATION:Musée des Gueules Rouges
CATEGORIES:Général - Accueil,Musée des Gueules Rouges
ATTACH;FMTTYPE=image/jpeg:https://museesetcentresdart.caprovenceverte.fr/wp-content/uploads/2023/09/Flyer-Journees-du-Patrimoine-2023-MGR.jpg
END:VEVENT
BEGIN:VEVENT
DTSTART;TZID=Europe/Paris:20230916T150000
DTEND;TZID=Europe/Paris:20230917T173000
DTSTAMP:20260420T152348
CREATED:20230807T094543Z
LAST-MODIFIED:20230807T094543Z
UID:2897-1694876400-1694971800@museesetcentresdart.caprovenceverte.fr
SUMMARY:Journées européennes du patrimoine - Visite du jardin et atelier Tataki Zome
DESCRIPTION:Cette 40 -ème édition des journées européennes du patrimoine est placé sous le thème du patrimoine vivant. Le centre d’art propose samedi 16 et dimanche 17 septembre à 15h  une visite guidée du jardin dans sa dimension historique : sa genèse\, son évolution et les projets à venir. \nPuis à 16h30 atelier floral autour de la technique du Tataki Zome\, qui consiste à imprimer des tissus ou du papier en martelant des végétaux. \nSur inscription au 07 81 02 04 66 ou par mail : cacc@caprovenceverte.fr
URL:https://museesetcentresdart.caprovenceverte.fr/event/journees-europeennes-du-patrimoine-visite-du-jardin-et-atelier-tataki-zome/
LOCATION:Centre d’Art contemporain de Chateauvert
CATEGORIES:Centre d'Art de Châteauvert,Général - Accueil
ATTACH;FMTTYPE=image/jpeg:https://museesetcentresdart.caprovenceverte.fr/wp-content/uploads/2023/08/JEP2023-site.jpg
END:VEVENT
BEGIN:VEVENT
DTSTART;VALUE=DATE:20230927
DTEND;VALUE=DATE:20230930
DTSTAMP:20260420T152348
CREATED:20230821T091424Z
LAST-MODIFIED:20240122T090547Z
UID:2905-1695772800-1696031999@museesetcentresdart.caprovenceverte.fr
SUMMARY:Workshop de l'Ecole Supérieure d'art et de Design de Saint Etienne
DESCRIPTION:Workshop de l’Ecole Supérieure d’art et de Design de Saint Etienne mené par les artistes et professeures Emmanuelle Becquemin et Émilie Perotto. \nLe musée des Gueules Rouges et le centre d’art ont le plaisir d’accueillir le voyage d’intégration des étudiant.e.s d’année 4 du master ACDC_Espaces pour un projet nommé \n\n\n« Rouge c’est rouge » qui a pour but de permettre à 18 étudiant.e.s de s’imprégner des paysages et des récits de ce patrimoine minier local\, mais aussi de se questionner sur l’histoire extractive des ressources naturelles\, de leurs transformations\, et des impacts de cette exploitation sur nos vies actuelles et à venir. Ce projet se construira avec l’accès aux ressources du Musée des Gueules Rouges de Tourves et des rencontres avec des anciens mineurs et le paysage alentour. Cette expérience sensible et historique du territoire se mettra en œuvre lors d’une courte résidence de travail au centre d’art de Châteauvert\, et donnera lieu à une exposition dans l’espace recto verso à l’étage du centre d’art début 2024.
URL:https://museesetcentresdart.caprovenceverte.fr/event/workshop-de-lecole-superieure-dart-et-de-design-de-saint-etienne/
LOCATION:Centre d’Art contemporain de Chateauvert
CATEGORIES:Centre d'Art de Châteauvert,Général - Accueil
ATTACH;FMTTYPE=image/jpeg:https://museesetcentresdart.caprovenceverte.fr/wp-content/uploads/2023/08/LogoESADSESaint-etienne.jpg
END:VEVENT
END:VCALENDAR