BEGIN:VCALENDAR
VERSION:2.0
PRODID:-//Musées et centres d&#039;art - ECPv6.15.20//NONSGML v1.0//EN
CALSCALE:GREGORIAN
METHOD:PUBLISH
X-WR-CALNAME:Musées et centres d&#039;art
X-ORIGINAL-URL:https://museesetcentresdart.caprovenceverte.fr
X-WR-CALDESC:Évènements pour Musées et centres d&#039;art
REFRESH-INTERVAL;VALUE=DURATION:PT1H
X-Robots-Tag:noindex
X-PUBLISHED-TTL:PT1H
BEGIN:VTIMEZONE
TZID:Europe/Paris
BEGIN:DAYLIGHT
TZOFFSETFROM:+0100
TZOFFSETTO:+0200
TZNAME:CEST
DTSTART:20210328T010000
END:DAYLIGHT
BEGIN:STANDARD
TZOFFSETFROM:+0200
TZOFFSETTO:+0100
TZNAME:CET
DTSTART:20211031T010000
END:STANDARD
BEGIN:DAYLIGHT
TZOFFSETFROM:+0100
TZOFFSETTO:+0200
TZNAME:CEST
DTSTART:20220327T010000
END:DAYLIGHT
BEGIN:STANDARD
TZOFFSETFROM:+0200
TZOFFSETTO:+0100
TZNAME:CET
DTSTART:20221030T010000
END:STANDARD
BEGIN:DAYLIGHT
TZOFFSETFROM:+0100
TZOFFSETTO:+0200
TZNAME:CEST
DTSTART:20230326T010000
END:DAYLIGHT
BEGIN:STANDARD
TZOFFSETFROM:+0200
TZOFFSETTO:+0100
TZNAME:CET
DTSTART:20231029T010000
END:STANDARD
END:VTIMEZONE
BEGIN:VEVENT
DTSTART;TZID=Europe/Paris:20220204T180000
DTEND;TZID=Europe/Paris:20220619T180000
DTSTAMP:20260423T122821
CREATED:20220118T111032Z
LAST-MODIFIED:20220304T091636Z
UID:1048-1643997600-1655661600@museesetcentresdart.caprovenceverte.fr
SUMMARY:CHEESE MUSEUM\, exposition de Nicolas BOULARD
DESCRIPTION:Nicolas Boulard\, né en 1976 à Reims\, a fait ses études à l’école supérieure des arts décoratifs de Strasbourg d’où il sort diplômé en art en 2002. Il rejoint ensuite le Collège Invisible\, post-diplôme en réseau de l’école des Beaux-Arts de Marseille. Son travail artistique a été présenté dans plusieurs expositions personnelles en France (Frac Champagne-Ardenne\, Frac Alsace\, Frac Aquitaine\, centre d’art la Halle des bouchers) et à l’étranger (Moma de San Francisco\, Machine Project à Los Angeles\, S-air au Japon). Il vit à Clamart\, en Île de France. \nDepuis près de 20 ans\, cet artiste développe une pratique protéiforme et singulière. Doté d’une parfaite connaissance des règlementations du monde du vin\, c’est en authentique spécialiste que l’artiste a transgressé les normes traditionnelles de production en plantant un vignoble dans une remorque (Clos Mobile 2009)\, en produisant un millésime fantôme du célèbre grand cru de la Romanée Conti (DRC 1946\, 2007) ou en récoltant du raisin dans les supermarchés de Reims pour produire un Grand vin de Reims en 2006. Par ces gestes iconoclastes\, l’intention est de produire de nouvelles formes. Depuis 2010\, il travaille sur un projet intitulé Specific Cheeses\, une étude sur la similitude des formes du Minimal Art et des fromages. Cette recherche artistique s’est développée sous la forme de performances avec la confrérie Specific Cheeses\, de conférences (Cheese Theory et Cheese Analyse) et d’éditions avec les fanzines Specific Cheeses qui compilent dans 12 numéros une anthologie de la représentation du fromage dans les arts du Moyen-âge à nos jours. Que ce soit dans ces projets sur le vin\, le fromage ou le pain\, c’est en pleine conscience des enjeux environnementaux actuels que l’artiste a coopéré avec des personnalités engagées dans des pratiques naturelles et respectueuses des écosystèmes. \nNicolas Boulard réalise des sculptures et des installations en assemblant des références du Minimal art et de l’art conceptuel avec des matériaux organiques issus\, pour la plupart\, de productions alimentaires. Ses œuvres perturbent\, avec beaucoup d’esprit\, l’esthétique aseptisée du minimalisme américain en s’inspirant des formes structurées issues du fromage\, du vin ou du pain. Son travail se caractérise par l’appropriation de matières issues de fermentation pour produire une œuvre atypique et unique : la fermentation est le passage d’un état à un autre où l’action de micro-organismes comme des levures modifie irréversiblement la nature originelle d’une matière. Ce processus de transformation est autant une source d’inspiration qu’une méthode de travail. Par des découpes de bois ou de feutre\, des impressions sur papier en grand format\, des moulages en plâtre ou en bronze\, ses œuvres rendent comptent d’un processus en cours. En s’inspirant d’éléments prélevés dans son environnement quotidien et dans l’histoire de l’art\, ses œuvres prennent une apparence incertaine\, comme prises dans un état intermédiaire. L’esthétique géométrique perturbée par l’utilisation de matières vivantes nous rappelle que l’art est une pratique de la transition. \nPar l’utilisation de matériaux naturels comme le feutre ou le bois\, ses œuvres permettent d’isoler des concepts forts et nous font vivre une expérience particulière. Sa pratique artistique place le spectateur dans une situation ambiguë avec l’œuvre : que ce soit face à l’extravagance ornementale d’une tapisserie réalisée à partir de l’image du penicillium se diffusant dans une tranche de roquefort (Penicillium #1 et #2) ou à la disposition étrange des cavités dans la mie de tranches de pain démesurément agrandies et soigneusement découpées dans des planches de bois de peuplier (Pain #1 et #2). Ces assemblages s’apparentent aux grotesques qui\, à différentes périodes de l’histoire de l’art\, ont intrigué en mettant en avant un goût de l’hybridation\, de la métamorphose et du caricatural. \nPour son exposition intitulée Cheese Museum au centre d’art de Châteauvert\, Nicolas Boulard a souhaité regrouper des œuvres récentes. Le partie pris d’une scénographie muséale immerge le visiteur dans un environnement structuré par des œuvres de grand format\, des sculptures et une sélection d’objets provenant des collections du Mucem. Dans le sillage des musées d’artistes comme celui de Marcel Broodthaers ou de Martin Kippenberger\, le Cheese Museum est une institution temporaire\, une exposition vivante au développement organique dans laquelle se croisent des œuvres\, des formes et des idées. Un espace où les individuations se construisent. \nCommissariat : Lydie Marchi \n 
URL:https://museesetcentresdart.caprovenceverte.fr/event/nicolas-boulard-cheese-museum/
CATEGORIES:Centre d'Art de Châteauvert,Général - Accueil
ATTACH;FMTTYPE=image/jpeg:https://museesetcentresdart.caprovenceverte.fr/wp-content/uploads/2022/01/CHEESE-MUSEUM-small.jpg
END:VEVENT
BEGIN:VEVENT
DTSTART;TZID=Europe/Paris:20220411T080000
DTEND;TZID=Europe/Paris:20220515T233000
DTSTAMP:20260423T122821
CREATED:20220426T081307Z
LAST-MODIFIED:20220426T081307Z
UID:1406-1649664000-1652657400@museesetcentresdart.caprovenceverte.fr
SUMMARY:APPEL A CANDIDATURE - RESIDENCE DE RECHERCHE ET DE PRODUCTION 2022-2023  VILLE DE SAINT-MAXIMIN-LA-SAINTE-BAUME COMMUNAUTE D’AGGLOMERATION DE LA PROVENCE VERTE
DESCRIPTION:PROJET & CONTEXTE \nCréé en 2014\, situé dans un cadre verdoyant en plein cœur de la Provence Verte\, le centre d’art contemporain de Châteauvert propose deux expositions par an\, un cycle de conférences et/ou d’événements en lien avec les expositions ainsi que des temps de résidences. Situé dans un parc de plus de 9 hectares\, le centre d’art contemporain de Châteauvert est entouré d’un jardin de sculptures dont la genèse remonte à une trentaine d’années. Le centre d’art contemporain propose des résidences d’artistes depuis 2018. \nIl est porté depuis 2015 par la Communauté d’Agglomération Provence Verte. \nD’une superficie de 952 km²\, la Communauté d’Agglomération Provence Verte comporte 28 communes représentant une population de 105.000 personnes environ. Territoire rural\, le nom même de Provence Verte porte à lui seul sens et valeurs. \nChâteauvert est un village de 140 habitants environ situé au nord de St-Maximin-la Sainte-Baume et de Brignoles\, entre champs\, vignobles et forets. \nSaint-Maximin s’étale au pieds du Massif de la Sainte-Baume\, dans le bassin d’un ancien lac desséché. La ville est située à égale distance des premiers contreforts alpins et de la mer et compte 16.500 habitants. \nLa résidence proposée par le centre d’art contemporain de Châteauvert en partenariat avec la ville de St-Maximin-la-Sainte-Baume et le centre social et culturel Martin Bidouré en 2022 et 2023 est une résidence de médiation\, recherches et production prenant appui sur un projet de réhabilitation de la place Martin Bidouré à St-Maximin-la-Sainte-Baume. \nUn ensemble de bâtiments insalubres\, pour partie consolidés par des ipn – qui semblent être un écho contemporain aux contreforts de la basilique gothique de la ville – \, seront alors détruits avant de laisser place à un nouveau projet urbain. \nL’artiste est invité à imaginer un projet qui pourra prendre place dans cet espace public en utilisant pour partie\, et de quelque manière que ce soit\, les matériaux de la destruction des bâtiments\, matériaux perçus ici comme mémoire d’une place vivante et très fréquentée par les habitants du quartier. L’artiste se placera ainsi dans la tradition du remploi\, chère à l’histoire de l’art depuis l’Antiquité\, tout en prêtant une attention particulière au rôle incontournable de la création artistique dans les prises de conscience et les mises en œuvre de solutions concrètes de développement durable. \nUn travail en amont sera mis en place par l’équipe de médiation du centre d’art contemporain avec les usagers du centre social et culturel Martin Bidouré se trouvant sur cette place. \nLa résidence 2022 donnera lieu à deux rencontres publiques de présentation du projet : à St-Maximin et à Châteauvert. Le projet réalisé sera restitué en juin 2023 à St-Maximin ainsi qu’à Châteauvert. \nDUREE & CALENDRIER \n2022 : 5 semaines – A partir du mois de septembre et jusqu’à fin septembre\, en continu ou non (à l’exception du mois de novembre) \n2023 : 5 semaines – A partir du début de l’année 2023 et jusqu’au mois de mai – juin\, en continu ou non \nRestitution en juin 2023 \nCONDITIONS D’ACCUEIL \n\nAtelier de 30 m2 à Châteauvert\nLogement meublé et équipé à Châteauvert\n2022 :\n\nBourse sur facture de recherche à hauteur de 3.000 € soit : 1.500 € d’honoraires\, 1.000 € au titre de l’animation d’ateliers avec les habitants\, 500 € de frais de déplacement \n\n2023 :\n\nBourse sur facture de recherche à hauteur de 3.000 € soit : 1.500 € d’honoraires\, 1.000 € au titre de l’animation d’ateliers avec les habitants\, 500 € de frais de déplacement \nBourse de production sur facture de 2.000 € \nL’artiste est autonome ; il est invité à prévoir son outillage. \nIl est à noter qu’il est nécessaire de disposer d’un véhicule personnel\, Châteauvert étant situé en zone rurale. \nLes familles sont bienvenues. L’équipe du centre d’art contemporain de Châteauvert sera attentive à fournir à l’artiste des éventuelles solutions de garde ou d’inscription aux écoles les plus proches. \nCADRE JURIDIQUE \nUn contrat de résidence sera établi\, spécifiant les engagements de chacune des parties avec un planning prévisionnel. \nCRITÈRES DE SÉLECTION \nArtistes professionnels résidant en Europe engagés dans une démarche de création contemporaine et écologique\, travaillant dans le champ des arts visuels en privilégiant des notions de pluridisciplinarité et désirant poursuivre leurs recherches et produire de nouvelles œuvres. \nLe jury portera une attention particulière au lien du projet avec les ateliers d’éducation artistique et culturelle à l’attention des habitants. \nLa résidence se fait en continu. L’artiste participera durant ce temps aux activités du centre d’art contemporain. \nL’artiste ouvrira son atelier pour des visites à destination de professionnels\, d’habitants et d’un public scolaire éventuel. \nDOSSIER DE CANDIDATURE \nUn seul document au format pdf enregistré comme suit nom_prénom présentant : \n\nPremière page : Nom – Prénom / Adresse mail et téléphone\nNote d’intention en français\, maximum 1 page\, format A4\, démontrant l’intérêt de l’artiste pour la démarche de cette résidence\nProposition d’ateliers avec les habitants en lien avec la note d’intention\, maximum 1 page\, format A4\nCurriculum-vitae\nPortfolio ou 20 Visuels d’œuvres\nTextes et articles de presse\, maximum 4 pages\n\nLe poids total du fichier doit être de 8 Mo maximum. Merci de ne pas passer par des plateformes de téléchargement permettant d’excéder ce poids. \nLe dossier de candidature doit être envoyé uniquement par mail à lmarchi@caprovenceverte.fr. \nDATE BUTOIR : 15 mai 2022 \nLa sélection du résident se fera en mai 2022. Chaque candidat recevra une réponse au plus tard le 27 mai 2022. \n  \n  \n  \n  \n  \n  \n  \n  \n  \n  \n  \n  \nCONTACT \nPlus d’informations : Lydie Marchi\, responsable du centre d’art contemporain de Châteauvert – lmarchi@caprovenceverte.fr / 06 33 27 43 61.
URL:https://museesetcentresdart.caprovenceverte.fr/event/appel-a-candidature-residence-de-recherche-et-de-production-2022-2023-ville-de-saint-maximin-la-sainte-baume-communaute-dagglomeration-de-la-provence-verte/
CATEGORIES:Centre d'Art de Châteauvert,Général - Accueil
ATTACH;FMTTYPE=image/jpeg:https://museesetcentresdart.caprovenceverte.fr/wp-content/uploads/2022/04/1.jpg
END:VEVENT
BEGIN:VEVENT
DTSTART;TZID=Europe/Paris:20220507T180000
DTEND;TZID=Europe/Paris:20220507T200000
DTSTAMP:20260423T122821
CREATED:20220228T114604Z
LAST-MODIFIED:20220301T101359Z
UID:1290-1651946400-1651953600@museesetcentresdart.caprovenceverte.fr
SUMMARY:CHEESE MUSEUM\, Exposition de Nicolas Boulard - Confrérie Specific Cheeses
DESCRIPTION:« La qualité essentielle des formes géométriques vient de ce qu’elles ne sont pas organiques\, à la différence de toute autre forme dite artistique. » Donald Judd\, entretien avec Lucy Lippard\, 1967 \nLe projet Specific Cheeses est parti du constat de la ressemblance formelle entre un fromage de Valençay et d’une œuvre de Sol LeWitt intitulée “Flat Top Pyramid”.  A partir de ce constat\, une étude a été rédigé sur le rapprochement formel qui existe entre les formes de l’art minimal et les formes des fromages : le cercle\, le carré et la pyramide sont les formes identiques de deux mondes à priori très éloignés. \nNicolas Boulard a fondé la confrérie Specific Cheeses en 2012. La première exposition du Cheese Museum est l’occasion de fêter cette confrérie 10 ans plus tard à Châteauvert. La confrérie est composée de 12 confrères vêtu.e.s de apes en feutre et de chapeaux reprenant les formes des fromages. Le grand maître porte le blouson en cuir aux couleurs de la confrérie et dirige la cérémonie au cours de laquelle 12 confrères sont nommés à chacun des chapitres. \nAprès la cérémonie d’intronisation\, les 12 fromages Specific Cheeses sont dégustés avec le public présent. \nCette fois ci\, l’artiste a choisi de travailler avec un producteur de tommes de brebis local\, le Jas des Espinasses situé à Tourves à une vingtaine de kilomètres de Châteauvert. Ce producteur se servira des 12 moules à fromage inspirés par 12 dessins de Sol LeWitt : “Forms derived from a cube” pour réaliser les tommes qui seront présentées\, puis dégustées\, lors de la cérémonie. \n  \nL’étude Specific Cheese a été présentée sous la forme d’une conférence pour la première fois au mois de mai 2010 au Frac Alsace puis au Musée de l’objet à Blois en 2012\, à Machine Project à Los Angeles en 2013\, à la fondation d’entreprise Ricard en 2015. \n 
URL:https://museesetcentresdart.caprovenceverte.fr/event/confrerie-specific-cheeses/
CATEGORIES:Centre d'Art de Châteauvert,Général - Accueil
ATTACH;FMTTYPE=image/jpeg:https://museesetcentresdart.caprovenceverte.fr/wp-content/uploads/2022/03/CHAPITRE11.jpg
END:VEVENT
BEGIN:VEVENT
DTSTART;TZID=Europe/Paris:20220508T150000
DTEND;TZID=Europe/Paris:20220508T170000
DTSTAMP:20260423T122821
CREATED:20220216T140825Z
LAST-MODIFIED:20220308T142353Z
UID:1192-1652022000-1652029200@museesetcentresdart.caprovenceverte.fr
SUMMARY:1er dimanche du mois – Visite de l’exposition « CHEESE MUSEUM » de Nicolas BOULARD
DESCRIPTION:Tous les 1ers dimanches du mois\, l’équipe de médiation du centre d’art invite les visiteurs à découvrir l’exposition en cours sur présentation de leur billet d’entrée. \nCette visite est suivie\, pour celleux qui le souhaitent\, d’un atelier artistique en lien avec l’exposition. Cet atelier est destiné à toustes\, des plus petits aux plus grands. Il se réalise généralement en famille.
URL:https://museesetcentresdart.caprovenceverte.fr/event/1er-dimanche-du-mois-visite-de-lexposition-cheese-museum-de-nicolas-boulard-4/
CATEGORIES:Centre d'Art de Châteauvert,Général - Accueil
ATTACH;FMTTYPE=image/jpeg:https://museesetcentresdart.caprovenceverte.fr/wp-content/uploads/2022/01/Pain-1-small.jpg
END:VEVENT
BEGIN:VEVENT
DTSTART;TZID=Europe/Paris:20220512T190000
DTEND;TZID=Europe/Paris:20220512T210000
DTSTAMP:20260423T122821
CREATED:20220304T094325Z
LAST-MODIFIED:20220401T111058Z
UID:1347-1652382000-1652389200@museesetcentresdart.caprovenceverte.fr
SUMMARY:Visite insolite - Un verre à la main
DESCRIPTION:Visite insolite de l’exposition de Nicolas Boulard\, le Cheese Museum\, un verre à la main. \nLe principe ? Croiser les savoirs ! \nAux médiatrices d’expliquer une sélection d’œuvres au sein de l’exposition\, à l’œnologue varoise Régine Le Coz de proposer une dégustation de vins en écho à ces œuvres. \nSur inscription auprès de l’OIT 04 94 72 04 21 \nRégine Le Coz débute son aventure en 1991 dans le négoce de vin en tant que comptable. Cette arrivée hasardeuse dans la filière viticole est une révélation pour la jeune femme de 31 ans. Régine reprend ses études et obtient son diplôme en viticulture-œnologie. Inventive\, visionnaire peut-être\, cette toulonnaise s’aventure dans un nouveau projet « Soleil Espace Vigne Emploi » en intervenant dans les lycées du Var. Elle s’attache ensuite à la réinsertion des jeunes au travers d’une formation viticole à Bandol. « Le vin sociabilise » confit-elle.\nEn 2004\, elle lance Le Mondial du Rosé à Cannes\, 1er concours international des vins rosés. Insatiable\, elle en crée de multiples dont le célèbre Femmes et Vins du Monde\, des crus dégustés uniquement par des femmes.\nEn 2011\, c’est la concrétisation. À 40 ans\, cette amoureuse de la vigne décroche son diplôme d’œnologue et part à la conquête des terroirs. \n 
URL:https://museesetcentresdart.caprovenceverte.fr/event/visite-insolite-un-verre-a-la-main/
LOCATION:Centre d’Art contemporain de Chateauvert
CATEGORIES:Centre d'Art de Châteauvert,Général - Accueil
ATTACH;FMTTYPE=image/jpeg:https://museesetcentresdart.caprovenceverte.fr/wp-content/uploads/2022/03/Visite-insolite-li.jpg
END:VEVENT
BEGIN:VEVENT
DTSTART;TZID=Europe/Paris:20220514T190000
DTEND;TZID=Europe/Paris:20220514T220000
DTSTAMP:20260423T122821
CREATED:20220506T114150Z
LAST-MODIFIED:20220506T115849Z
UID:1426-1652554800-1652565600@museesetcentresdart.caprovenceverte.fr
SUMMARY:La Nuit des Musées au Musée des Comtes de Provence
DESCRIPTION:La Nuit Européenne des Musées se tiendra le samedi 14 mai de 19h à 22h.\nPour cette occasion\, le Musée des Comtes de Provence vous propose un beau programme élaboré sur le thème « Collections Nature » : \n\nVisite libre du musée\nVisite de Microfolie\nAtelier origami\nConte et jeux\n\nEn partenariat avec le Conservatoire des Espaces Naturels PACA\, vous pourrez également parcourir une exposition sur l’aigle de Bonelli et rencontrer un guide naturaliste. \nÀ télécharger ICI :
URL:https://museesetcentresdart.caprovenceverte.fr/event/la-nuit-des-musees-au-musee-des-comtes-de-provence/
LOCATION:Musée des Comtes de Provence
CATEGORIES:Général - Accueil,Musée des Comtes de Provence
ATTACH;FMTTYPE=image/png:https://museesetcentresdart.caprovenceverte.fr/wp-content/uploads/2022/05/Nuit-des-musees-22-e1651837228365.png
END:VEVENT
BEGIN:VEVENT
DTSTART;TZID=Europe/Paris:20220514T190000
DTEND;TZID=Europe/Paris:20220514T220000
DTSTAMP:20260423T122821
CREATED:20220506T115710Z
LAST-MODIFIED:20220506T115955Z
UID:1435-1652554800-1652565600@museesetcentresdart.caprovenceverte.fr
SUMMARY:La Nuit des Musées au Musée des Gueules Rouges
DESCRIPTION:La Nuit Européenne des Musées se tiendra le samedi 14 mai de 19h à 22h.\nPour cette occasion\, le Musée des Gueules Rouges vous propose un beau programme élaboré sur le thème « La Nuit des Lumières » : \n\nVisite libre du musée\nVisite de la mine\nAtelier sciences\nAtelier créatif\n\nEn partenariat avec l’Association des Gueules Rouges du Var\,  vous pourrez également participer à des ateliers de réparation de lampes ainsi qu’à un café des mineurs. \nÀ télécharger ICI :
URL:https://museesetcentresdart.caprovenceverte.fr/event/la-nuit-des-musees-au-musee-des-gueules-rouges/
LOCATION:Musée des Gueules Rouges
CATEGORIES:Général - Accueil,Musée des Gueules Rouges
ATTACH;FMTTYPE=image/png:https://museesetcentresdart.caprovenceverte.fr/wp-content/uploads/2022/05/Nuit-des-musees-22-e1651837228365.png
END:VEVENT
BEGIN:VEVENT
DTSTART;TZID=Europe/Paris:20220515T150000
DTEND;TZID=Europe/Paris:20220515T170000
DTSTAMP:20260423T122821
CREATED:20220216T141722Z
LAST-MODIFIED:20220304T092947Z
UID:1198-1652626800-1652634000@museesetcentresdart.caprovenceverte.fr
SUMMARY:Les ateliers du dimanche
DESCRIPTION:Tous les mois\, l’équipe de médiation du centre d’art propose un atelier d’initiation à la linogravure. \nQu’est-ce que la linogravure ? Il s’agit d’ une des techniques de l’estampe\, qui consiste à creuser une plaque de linoléum au moyen de gouges. Une fois gravée la plaque est encrée. Puis\, on passe la plaque et la feuille de papier dans une presse afin d’y déposer l’encre. Une plaque peut servir à imprimer plusieurs feuilles. \nCette technique est l’une des plus simples pour commencer la gravure. Elle permet d’obtenir des résultats satisfaisants rapidement. \n  \nSur inscription auprès de l’OIT : 04 94 72 04 21
URL:https://museesetcentresdart.caprovenceverte.fr/event/les-ateliers-du-dimanche-4/
CATEGORIES:Centre d'Art de Châteauvert,Général - Accueil
ATTACH;FMTTYPE=image/jpeg:https://museesetcentresdart.caprovenceverte.fr/wp-content/uploads/2022/03/COM-ATELIER-LINO4-1.jpg
END:VEVENT
BEGIN:VEVENT
DTSTART;TZID=Europe/Paris:20220519T140000
DTEND;TZID=Europe/Paris:20220519T170000
DTSTAMP:20260423T122821
CREATED:20220331T145145Z
LAST-MODIFIED:20220331T145145Z
UID:1373-1652968800-1652979600@museesetcentresdart.caprovenceverte.fr
SUMMARY:Les Eauditives\, du lycée au musée avec Gorguine Valougeorgis & Patrick Sirot
DESCRIPTION:Rencontres lycéens\, collégiens et auteurs ouvertes au public \nLes lycées de la Provence Verte et les collégiens de Barjols ont accueillis durant l’annnée scolaire 2021/22 les éditeurs et auteurs invités aux Eauditives\, Festival organisé par l’association Plaine Page. Les élèves ont ainsi découvert\, les textes des auteurs en participant à des ateliers poésies animés par Claudie Lenzi & Éric Blanco\, autour les livres publiés Et après ? de Patrick Sirot\, et Cheese !!!\, de Gorguine Valougeorgis\, lors de rencontres aux CDI. \nPar un hasard objectif\, le titre du livre de Gorguine Valougeorgis fait écho à l’exposition Cheese Museum de Nicolas Boulard. Aussi\, les élèves de trois classes\, lycéens et collégiens se retrouvent au centre d’art pour une après-midi de découverte de l’exposition\, suivie d’une restitution des ateliers menés en amont\, d’écoute et d’échanges avec les auteurs et leurs livres. \nProfesseures documentalistes\nKarine Mertens (lycée Raynouard\, Brignoles)\, Christine Pajot (lycée Janetti\, St-Maximin)\, Aurélie Bastos (collège Joseph d’Arbaud\, Barjols) \nProfesseures de Lettres\nSabrina Coutenay (lyc. Raynouard)\, Coralie Gourgeon (lycée Janetti)\, Stéphanie Ambu (coll. Barjols) \nLe centre d’art est exceptionnellement ouvert jeudi 19 mai à cette occasion. 
URL:https://museesetcentresdart.caprovenceverte.fr/event/les-eauditives-du-lycee-au-musee-avec-gorguine-valougeorgis-patrick-sirot/
CATEGORIES:Centre d'Art de Châteauvert,Général - Accueil
ATTACH;FMTTYPE=image/jpeg:https://museesetcentresdart.caprovenceverte.fr/wp-content/uploads/2022/03/affiche-eauditives-2022.jpg
END:VEVENT
BEGIN:VEVENT
DTSTART;TZID=Europe/Paris:20220520T180000
DTEND;TZID=Europe/Paris:20220520T210000
DTSTAMP:20260423T122821
CREATED:20220421T145404Z
LAST-MODIFIED:20220421T145404Z
UID:1400-1653069600-1653080400@museesetcentresdart.caprovenceverte.fr
SUMMARY:Nocturne gratuite de l'exposition Cheese Museum de Nicolas BOULARD
DESCRIPTION:Le centre d’art contemporain vous propose une visite nocturne gratuite et libre du Cheese Museum de Nicolas Boulard à l’occasion du concert de la Cie Au Seuil se déroulant dans la salle communale jouxtant le centre d’art. \nL’équipe de médiation sera attentive à répondre à toutes vos questions et pourra vous accompagner dans cette visite.
URL:https://museesetcentresdart.caprovenceverte.fr/event/nocturne-gratuite-de-lexposition-cheese-museum-de-nicolas-boulard/
CATEGORIES:Centre d'Art de Châteauvert,Général - Accueil
ATTACH;FMTTYPE=image/jpeg:https://museesetcentresdart.caprovenceverte.fr/wp-content/uploads/2022/01/Roquefort.jpg
END:VEVENT
BEGIN:VEVENT
DTSTART;TZID=Europe/Paris:20220520T210000
DTEND;TZID=Europe/Paris:20220520T230000
DTSTAMP:20260423T122821
CREATED:20220421T144555Z
LAST-MODIFIED:20220616T055233Z
UID:1394-1653080400-1653087600@museesetcentresdart.caprovenceverte.fr
SUMMARY:Partenariat avec Le Chantier - Centre de création consacré aux nouvelles musiques traditionnelles & musiques du monde - Concert-rituel pour chanter la mort Au Seuil
DESCRIPTION:Performance musicale\nMathilde Barthélémy • conception\, voix\, percussions\nMélanie Loisel • conception\, contrebasse\, voix\, percussions\nFabien Delisle • conseil mise en scène et scénographie\nAudrey Gendre • costumes\nMaxime Fabre • ingénieur du son \nLe centre d’art contemporain de Châteauvert accueille pendant une semaine Mathilde Barthélémy et Mélanie Loisel autour de leur création concert-rituel pour chanter la mort qui se déroulera dans la salle communale jouxtant le centre d’art. \n\n\nCréation rituelle conçue comme une variation autour des adieux aux morts. « Au Seuil »\, est une cérémonie imaginaire à deux voix\, une contrebasse et des objets. Une danse aux multiples visages qui se déploie selon une scénographie plastique. Les sons et chants\, récits et gestes saisissent l’espace\, s’y font plainte\, hommage\, rire\, cri libérateur\, muant la tristesse en chant infini. Issues de la musique contemporaine et de la musique improvisée\, cette performance est fondée sur une recherche sonore contemporaine\, polyphonies de textures et de matières\, techniques para-instrumentales\, multiples modes de jeu vocaux. Influencée par des recherches ethnomusicologiques et anthropologiques\, cette création est fortement inspirée de musiques traditionnelles liées aux rites funéraires. « Tant murées dans le silence\, les sociétés dites civilisées ont oublié la civilité du mourir. » \nAu Seuil – Production :\nLe Chantier\, en partenariat avec l’Agglomération Provence Verte et le Centre d’Art Contemporain\nCo-production :\nCentre Culturel Albert Camus / EPCC Issoudun. Production déléguée / La Belle Orange. \n\n  \nSur réservation auprès du Chantier  \nTéléphone : +33 (0)4 94 59 56 49 \nLe Chantier – Fort Gibron – BP 24 – 83570 CORRENS \n\nTarif normal : 12€ / Tarif réduit* : 10€ / Enfants -12 ans : entrée libre\nRepas du monde : 12€ (uniquement sur réservation)\nExposition : Entrée libre \nIl est fortement conseillé de réserver vos places avant votre venue sur www.le-chantier.festik.net \n\nModes de règlement acceptés : CB / Chèques / Espèces / Pass Culture / e-Pass Jeunes \n* Tarif réduit sur présentation d’un justificatif : Adhérent du Chantier / Étudiant / -18 ans / Bénéficiaire du RSA / Demandeur d’emploi.
URL:https://museesetcentresdart.caprovenceverte.fr/event/partenariat-avec-le-chantier-centre-de-creation-consacre-aux-nouvelles-musiques-traditionnelles-musiques-du-monde-concert-rituel-pour-chanter-la-mort-au-seuil/
CATEGORIES:Centre d'Art de Châteauvert,Général - Accueil
ATTACH;FMTTYPE=image/jpeg:https://museesetcentresdart.caprovenceverte.fr/wp-content/uploads/2022/04/artoff836.jpg
END:VEVENT
END:VCALENDAR