BEGIN:VCALENDAR
VERSION:2.0
PRODID:-//Musées et centres d&#039;art - ECPv6.15.20//NONSGML v1.0//EN
CALSCALE:GREGORIAN
METHOD:PUBLISH
X-ORIGINAL-URL:https://museesetcentresdart.caprovenceverte.fr
X-WR-CALDESC:Évènements pour Musées et centres d&#039;art
REFRESH-INTERVAL;VALUE=DURATION:PT1H
X-Robots-Tag:noindex
X-PUBLISHED-TTL:PT1H
BEGIN:VTIMEZONE
TZID:Europe/Paris
BEGIN:DAYLIGHT
TZOFFSETFROM:+0100
TZOFFSETTO:+0200
TZNAME:CEST
DTSTART:20230326T010000
END:DAYLIGHT
BEGIN:STANDARD
TZOFFSETFROM:+0200
TZOFFSETTO:+0100
TZNAME:CET
DTSTART:20231029T010000
END:STANDARD
BEGIN:DAYLIGHT
TZOFFSETFROM:+0100
TZOFFSETTO:+0200
TZNAME:CEST
DTSTART:20240331T010000
END:DAYLIGHT
BEGIN:STANDARD
TZOFFSETFROM:+0200
TZOFFSETTO:+0100
TZNAME:CET
DTSTART:20241027T010000
END:STANDARD
BEGIN:DAYLIGHT
TZOFFSETFROM:+0100
TZOFFSETTO:+0200
TZNAME:CEST
DTSTART:20250330T010000
END:DAYLIGHT
BEGIN:STANDARD
TZOFFSETFROM:+0200
TZOFFSETTO:+0100
TZNAME:CET
DTSTART:20251026T010000
END:STANDARD
END:VTIMEZONE
BEGIN:VEVENT
DTSTART;TZID=Europe/Paris:20240628T080000
DTEND;TZID=Europe/Paris:20241201T170000
DTSTAMP:20260422T221556
CREATED:20240610T125300Z
LAST-MODIFIED:20240624T083857Z
UID:3249-1719561600-1733072400@museesetcentresdart.caprovenceverte.fr
SUMMARY:PARADE - Exposition de PIERRE ARDOUVIN
DESCRIPTION:Les titres des expositions de Pierre Ardouvin\, minutieusement et malicieusement choisis par l’artiste\, parmi lesquels « Tout est affaire de décor »\, « Marcel »\, « Soupe de têtes de fantômes »\, « Prouve que tu existes »\, ou encore « Purple Rain »\, laissent aisément deviner que « PARADE »\, titre de l’exposition accueillie au Centre d’art de Châteauvert et œuvre produite pour l’occasion\, s’il fait référence à l’univers du cirque et surtout au film éponyme de Jacques Tati\, est aussi une manière de suggérer l’évitement\, la riposte\, la diversion face à un imprévu ou une attaque. \nPierre Ardouvin s’est saisi des réalités territoriales\, pas si éloignées de celles que l’on nomme globales\, et de leurs débordements\, au travers de son lexique formel pour composer une « PARADE » comme un petit monde habité de manèges domestiques\, telle une invitation joyeuse et mélancolique\, fragile et concrète\, où le maximum rejoint le minimum.
URL:https://museesetcentresdart.caprovenceverte.fr/event/parade-exposition-de-pierre-ardouvin/
LOCATION:Centre d’Art contemporain de Chateauvert
CATEGORIES:Centre d'Art de Châteauvert,Général - Accueil
ATTACH;FMTTYPE=image/jpeg:https://museesetcentresdart.caprovenceverte.fr/wp-content/uploads/2024/06/Affiche-Parade-site.jpg
END:VEVENT
BEGIN:VEVENT
DTSTART;TZID=Europe/Paris:20240628T080000
DTEND;TZID=Europe/Paris:20241201T170000
DTSTAMP:20260422T221556
CREATED:20240624T151751Z
LAST-MODIFIED:20240624T152204Z
UID:3323-1719561600-1733072400@museesetcentresdart.caprovenceverte.fr
SUMMARY:"ARCHÉOLOGIE DU QUOTIDIEN"  Projet participatif avec les adolescents de la Provence verte en lien avec la commande de "LA MAISON DITE DU PONT" de THOMAS MAILAENDER
DESCRIPTION:« LA MAISON DITE DU PONT » \nTHOMAS MAILAENDER \nExposition du 28 juin au 1er décembre 2024 \nFaisant suite à l’appel à projets lancé par la mairie de Châteauvert remporté par Thomas Mailaender\, également soutenu financièrement par l’Agglomération Provence verte\, mais aussi au processus de dialogue et d’échanges avec les habitants du territoire\, l’artiste présente ici quelques éléments et traces de sa quête pour la commande de “La maison dite du Pont”\, œuvre pérenne qui sera installée cet automne en entrée du village de Châteauvert. Il y sera question du passé et du présent\, de fouilles extraordinaires et de récits aussi personnels que collectifs\, pour une œuvre appartenant singulièrement à toutes et tous. \nThomas Mailaender bénéficie actuellement d’une exposition monographique intitulée « Les Belles Images » à la Maison Européenne de la Photographie (MEP) à Paris du 12 juin au 29 septembre 2024. \n« ARCHÉOLOGIE DU QUOTIDIEN » \nProjet participatif avec les adolescents de la Provence verte. \nCette installation sur le mur recto verso présente les productions de 5 adolescents dont le travail s’inspire de la pratique artistique de Thomas Mailaender. Après avoir découvert la démarche de l’artiste et le projet de “La maison dite du Pont”\, les participants\, accompagnés des médiatrices\, ont porté à leur tour l’attention sur leur environnement quotidien\, les objets et les archives qui le constituent. Ainsi\, ils proposent une composition de formes où le commun\, l’insignifiant et le détail sont le vocabulaire d’un poème visuel aux allures de “chambre d’ado”. \nOnt participé au projet Anathaëlle\, Enzo\, Jade\, Julie\, Kylian\, Marjorie et Paolo.
URL:https://museesetcentresdart.caprovenceverte.fr/event/archeologie-du-quotidien-projet-participatif-avec-les-adolescents-de-la-provence-verte/
LOCATION:Centre d’Art contemporain de Chateauvert
CATEGORIES:Centre d'Art de Châteauvert,Général - Accueil
ATTACH;FMTTYPE=image/jpeg:https://museesetcentresdart.caprovenceverte.fr/wp-content/uploads/2024/06/portrait_mailaender1-li.jpg
END:VEVENT
BEGIN:VEVENT
DTSTART;TZID=Europe/Paris:20240712T180000
DTEND;TZID=Europe/Paris:20240712T223000
DTSTAMP:20260422T221556
CREATED:20240624T100109Z
LAST-MODIFIED:20240708T160217Z
UID:3319-1720807200-1720823400@museesetcentresdart.caprovenceverte.fr
SUMMARY:Soirée anniversaire les 10 ans du centre d'art
DESCRIPTION:Inauguré le 14 juin 2014\,  le centre d’art Contemporain à Châteauvert de l’Agglomération Provence Verte fête ses 10 ans sur toute la période estivale ! \nDe juin à août ce sont 10 rendez-vous exceptionnels qui vont rythmer l’été de célébrations : fêtes\, expositions inédites\, moments de partage et de réflexion ; ces 10 événements très sont à l’image du lieu que nous souhaitons construire pour l’avenir. \nCes nombreux rendez-vous festifs pour toutes et tous sont complétés du Festival Bienvenue au jardin débutant le 25 juin avec une Garden [P]Arty au cœur du parc de sculptures. \n  \n\n[ LES10 ANS DU CENTRE D’ART ]\n\n\n \n\n\nUn Week-end anniversaire pour célébrer les 10 ans du Centre d’art contemporain de l’Agglomération Provence verte à Châteauvert\n\n\n \n\n\nNe manquez pas ces rendez-vous incontournables au centre d’art!\n\n\n \n\n\n🔴🔴Vendredi 12 juillet dès 18h \n\n\n🟡Prises de paroles\, discours des élus\n\n\n🟡18h30 – 19h30 : Visites guidées de l’exposition PARADE et de l’espace  » rétrospective des 10 ans « \n\n\n🟡19h : Inauguration de l’œuvre de Jean Denant\n\n\n🟡19h30 : Spectacle de cirque contemporain par la compagnie Toloco\n\n\n🟡22h : Clôture avec un dernier numéro de cirque\n\n\n\n\n🔴🔴Samedi 13 juillet de 17h à 20h\n\n\n🟡Performance d’Extra-lucide\, bureau provisoire de voyance avec Hélène Garcia : lecture divinatoire à partir d’un jeu de 64 cartes sérigraphiées et peintes à la main.\n\n\nL’artiste performeuse Hélène Garcia fait parler ses cartes pour vous prédire l’avenir sous un angle artistique.\n\n\n🟡Restauration sur place avec la présence d’un food truck dès 19h\n\n\n🟡21h : Concert de DJ Vinzoo : DJ/producteur multi instrumentiste originaire de Marseille. Tel un « sound gardener »\, il plante avec délicatesse des mélodies aux sonorités d’ici et d’ailleurs sur des rythmiques electrotribales aux basses envoûtantes.\n\n\nNocturne du Centre d’art jusqu’à 21h\n\n\n\n\n🔴🔴Dimanche 14 juillet de 14h à 18h\n\n\n🟡Performance d’Extra-lucide\, bureau provisoire de voyance avec Hélène Garcia.\n\n\n🟡Atelier Quésaco\, création de cartes à lacer de 14h30 à 16h30. 8€ sur inscription auprès du centre d’art\, dès 9 ans.\n\n 
URL:https://museesetcentresdart.caprovenceverte.fr/event/soiree-anniversaire-les-10-ans-du-centre-dart/
LOCATION:Centre d’Art contemporain de Chateauvert
CATEGORIES:Centre d'Art de Châteauvert,Général - Accueil
ATTACH;FMTTYPE=image/jpeg:https://museesetcentresdart.caprovenceverte.fr/wp-content/uploads/2024/07/10ans_CACC-logo-site.jpg
END:VEVENT
END:VCALENDAR