BEGIN:VCALENDAR
VERSION:2.0
PRODID:-//Musées et centres d&#039;art - ECPv6.15.20//NONSGML v1.0//EN
CALSCALE:GREGORIAN
METHOD:PUBLISH
X-ORIGINAL-URL:https://museesetcentresdart.caprovenceverte.fr
X-WR-CALDESC:Évènements pour Musées et centres d&#039;art
REFRESH-INTERVAL;VALUE=DURATION:PT1H
X-Robots-Tag:noindex
X-PUBLISHED-TTL:PT1H
BEGIN:VTIMEZONE
TZID:Europe/Paris
BEGIN:DAYLIGHT
TZOFFSETFROM:+0100
TZOFFSETTO:+0200
TZNAME:CEST
DTSTART:20220327T010000
END:DAYLIGHT
BEGIN:STANDARD
TZOFFSETFROM:+0200
TZOFFSETTO:+0100
TZNAME:CET
DTSTART:20221030T010000
END:STANDARD
BEGIN:DAYLIGHT
TZOFFSETFROM:+0100
TZOFFSETTO:+0200
TZNAME:CEST
DTSTART:20230326T010000
END:DAYLIGHT
BEGIN:STANDARD
TZOFFSETFROM:+0200
TZOFFSETTO:+0100
TZNAME:CET
DTSTART:20231029T010000
END:STANDARD
BEGIN:DAYLIGHT
TZOFFSETFROM:+0100
TZOFFSETTO:+0200
TZNAME:CEST
DTSTART:20240331T010000
END:DAYLIGHT
BEGIN:STANDARD
TZOFFSETFROM:+0200
TZOFFSETTO:+0100
TZNAME:CET
DTSTART:20241027T010000
END:STANDARD
END:VTIMEZONE
BEGIN:VEVENT
DTSTART;VALUE=DATE:20230102
DTEND;VALUE=DATE:20230707
DTSTAMP:20260423T184507
CREATED:20221118T123654Z
LAST-MODIFIED:20221119T092229Z
UID:1970-1672617600-1688687999@museesetcentresdart.caprovenceverte.fr
SUMMARY:Réaménagement du centre d'art contemporain de Châteauvert : une étape nécessaire à la mesure de l'Agglomération pour l'art contemporain sur le territoire
DESCRIPTION:Le centre d’art contemporain de Châteauvert sera fermé au public durant le premier semestre 2023. Ces travaux sont une étape nécessaire à la mesure de nos ambitions pour l’art contemporain en Provence Verte. Ils leurs permettront d’encore mieux se déployer et ce afin d’offrir une expérience plus complète encore de l’art contemporain à nos visiteurs. \nEn effet\, dans le domaine de l’art contemporain\, l’Agglomération Provence Verte offre des conditions optimales de diffusion d’œuvres\, de soutien à la création ou par la mise en place de médiations artistiques adaptées à chacun.e au sein du centre d’art contemporain de Châteauvert\, lieu incontournable de l’art contemporain en territoire\, et développe de nombreux projets d’art contemporain à l’échelle de ses 28 communes-membres. \nLe centre d’art rouvrira ses portes le 7 juillet avec la première exposition dans une institution culturelle du sud de la France du duo Martine Feipel et Jean Béchameil. \nPour autant les activités de l’équipe du centre d’art seront maintenues durant le temps des travaux et ce notamment au niveau des projets développés en hors-les-murs. \nLe centre d’art en tournée … \nLe service médiation déploiera encore plus d’actions à l’échelle de la Provence Verte : \n\nAteliers 1001 formes au sein des LAEP les Petites Bretelles\, lieu d’accueil parents – enfants de moins de 6 ans\, se déployant à Tourves\, Brignoles et Carcès\nAteliers 1001 formes au sein de la Maison des Petits à Brignoles\nAteliers 1001 formes auprès du réseau des assistant.e.s maternel.le.s en Provence Verte\nAteliers Pop-Up ! dans les médiathèques\nAteliers de pratiques artistiques au sein des antennes de jour de l’hôpital Henri Guérin – Pierrefeu – en Provence Verte. Ces projets seront valorisés lors de la troisième édition du festival Bienvenue au jardin.\nRésidences d’artistes en milieu scolaire :\nFaustine Reibaud-Nicoli au lycée Raynouard de Brignoles\nBernard Pourrières au collège Guy de Maupassant de Garéoult\n\nLes visites du jardin de sculptures et ateliers maintenus à Châteauvert  \nLa visite du premier dimanche du mois à 15h est transformée en visite du jardin de sculptures de Châteauvert. \nLes ateliers de linogravure du deuxième dimanche du mois et les ateliers des vacances scolaires sont également maintenus et se dérouleront dans l’atelier de l’ancien presbytère à proximité du centre d’art. \nLes vacances d’avril sous le signe du jeu \nL’équipe de médiation proposera des vacances d’avril joyeuses\, ludiques et gourmandes avec la complicité de l’office de tourisme Provence Verte & Verdon. \nSamedi 8 avril : Lancement du jeu de piste numérique Baludick du jardin de sculptures \nDimanche 9 avril : Chasse aux œufs \n 
URL:https://museesetcentresdart.caprovenceverte.fr/event/reamenagement-du-centre-dart-contemporain-de-chateauvert-une-etape-necessaire-a-la-mesure-des-ambitions-de-lagglomeration-pour-lart-contemporain-sur-le-territoire/
CATEGORIES:Centre d'Art de Châteauvert,Général - Accueil
ATTACH;FMTTYPE=image/jpeg:https://museesetcentresdart.caprovenceverte.fr/wp-content/uploads/2022/11/Vu-du-centre-dart-et-des-oeuvres-Sans-titre-dAlain-Clement-collection-Agglomeration-Provence-Verte-Centre-dart-contemporain-de-Chateauvert.jpg
END:VEVENT
BEGIN:VEVENT
DTSTART;TZID=Europe/Paris:20230402T150000
DTEND;TZID=Europe/Paris:20230402T160000
DTSTAMP:20260423T184507
CREATED:20230103T144156Z
LAST-MODIFIED:20230103T144156Z
UID:2074-1680447600-1680451200@museesetcentresdart.caprovenceverte.fr
SUMMARY:1er dimanche du mois - Visite du jardin de sculptures
DESCRIPTION:Le centre d’art fermé\, la visite guidée mensuelle est transformée en visite du jardin de sculptures. \n\n\n \n\n\nVenez assister à la visite guidée ce dimanche 2 avril à 15h. \n\n\nRendez-vous devant la terrasse du centre d’art avec des chaussures confortables.\n\n\n \n\n\n5€ par participant \n\n\n \n\n\nRéservation obligatoire auprès de l’OIT : 04 94 72 04 21
URL:https://museesetcentresdart.caprovenceverte.fr/event/1er-dimanche-du-mois-visite-du-jardin-de-sculptures-4/
LOCATION:Centre d’Art contemporain de Chateauvert
CATEGORIES:Centre d'Art de Châteauvert,Général - Accueil
ATTACH;FMTTYPE=image/jpeg:https://museesetcentresdart.caprovenceverte.fr/wp-content/uploads/2022/12/com-visiste-commentee-JARDIN-01.jpg
END:VEVENT
BEGIN:VEVENT
DTSTART;VALUE=DATE:20230403
DTEND;VALUE=DATE:20230414
DTSTAMP:20260423T184507
CREATED:20230224T125026Z
LAST-MODIFIED:20250307T091626Z
UID:2184-1680480000-1681430399@museesetcentresdart.caprovenceverte.fr
SUMMARY:Workshop "Gestes et sons" avec Bernard POURRIERE - Collège Guy de Maupassant\, Garéoult
DESCRIPTION:L’Agglomération Provence Verte et le centre d’art contemporain de Châteauvert développent un partenariat avec le collège Guy de Maupassant de Garéoult en invitant l’artiste Bernard Pourrière à réaliser un workshop Gestes et sons avec une classe de 5ème qui débouchera sur une représentation sous forme de déambulation dans le collège le 13 avril en fin de journée. \nCet atelier autour de la performance sonore est un travail qui tient compte du corps dans l’espace\, aussi bien dans ses gestes et mouvements\, que dans les sons qu’il peut générer par ses déplacements. Il a aussi pour but d’éveiller les élèves à notre environnement proche\, aux bruits\, aux sons qui nous entourent\, aux sons du quotidien. \nCes actions développent des contradictions telles mouvement/immobilité\, vitesse/épuisement\, son/silence et ainsi activent des champs d’expérimentations entre espace et son\, vitesse et lenteur\, attente et action. Le son propose d’autres façons de se mouvoir\, nous rechercherons différentes positions du corps et différents mouvements par rapport aux sonorités. Par la manipulation d’objets divers\, et de machines cet atelier\, qui se veut créatif\, proposera d’expérimenter aussi d’autres façons d’aborder la matière sonore. \n  \nDepuis le début de son travail Bernard Pourrière s’interroge sur l’évolution et la transformation du vivant par rapport aux nouvelles technologies. Il s’intéresse aux notions d’espace-temps\, aux déplacements\, mouvements et gestes du corps dans l’espace en corrélation avec les multimédias. Il développe un travail sonore expérimental à la fin des années quatre vingt dix jusqu’à nos jours dans des performances\, mais aussi dans des installations parfois interactives. A maintes reprises il a collaboré avec des musiciens\, danseurs et chorégraphes\, et réalisé un grand nombre de bandes sonores pour des vidéos d’artistes. \n  \nAvec le soutien de la Région Sud
URL:https://museesetcentresdart.caprovenceverte.fr/event/workshop-gestes-et-sons-avec-bernard-pourriere-college-guy-de-maupassant-gareoult/
CATEGORIES:Centre d'Art de Châteauvert,Général - Accueil
ATTACH;FMTTYPE=image/jpeg:https://museesetcentresdart.caprovenceverte.fr/wp-content/uploads/2023/02/2C.jpg
END:VEVENT
BEGIN:VEVENT
DTSTART;TZID=Europe/Paris:20230413T173000
DTEND;TZID=Europe/Paris:20230413T190000
DTSTAMP:20260423T184507
CREATED:20230328T153549Z
LAST-MODIFIED:20230328T154311Z
UID:2391-1681407000-1681412400@museesetcentresdart.caprovenceverte.fr
SUMMARY:Restitution - Workshop "Gestes et sons" de Bernard POURRIERE au collège Guy de Maupassant - Garéoult
DESCRIPTION:L’Agglomération Provence Verte\, le Collège Guy de Maupassant de Garéoult ont le plaisir de vous inviter à la restitution du workshop de Bernard Pourrière au collège avec une classe de 5ème. \nCe moment a été imaginé en étroite collaboration avec les professeurs impliqués dans ce projet et les élèves comme une balade dans l’architecture remarquable de ce collège de l’architecte Maurice Sauzet. \n 
URL:https://museesetcentresdart.caprovenceverte.fr/event/restitution-workshop-de-bernard-pourriere-au-college-guy-de-maupassant-gareoult/
CATEGORIES:Centre d'Art de Châteauvert,Général - Accueil
ATTACH;FMTTYPE=image/jpeg:https://museesetcentresdart.caprovenceverte.fr/wp-content/uploads/2023/02/2C.jpg
END:VEVENT
BEGIN:VEVENT
DTSTART;TZID=Europe/Paris:20230419T140000
DTEND;TZID=Europe/Paris:20230419T160000
DTSTAMP:20260423T184507
CREATED:20230320T132506Z
LAST-MODIFIED:20230411T091136Z
UID:2324-1681912800-1681920000@museesetcentresdart.caprovenceverte.fr
SUMMARY:Le centre d'art en tournée - ATELIER POP UP ! [ Brignoles ]
DESCRIPTION:L’équipe de médiation du centre d’art repart en tournée dès février  2023 dans les médiathèques du réseau Provence Verte et propose des ateliers autour des albums Pop Up ou livres animés. \nSi les albums Pop Up sont souvent associés à l’enfance\, de nombreux artistes\, tels que Joan Miro par exemple\, en ont réalisé également aussi les médiatrices du centre d’art ont-elles imaginé un atelier qui permettra à chacun des participants de recréer sous forme d’album Pop Up le centre d’art et son jardin de sculptures ainsi qu’une salle vide que les participants à l’atelier décoreront à leur convenance. \nSi l’atelier est facile à faire\, il nécessite deux séances pour que cet album Pop Up prenne forme. \n  \nTout public à partir de 8 ans \nMédiathèque de Brignoles : Place De Gaulle\, 83170Brignoles\n \n\nRéservation obligatoire : 04 98 05 20 55\n \n  \n  \nLe saviez-vous ? \nLes premiers livres animés remonteraient au Moyen Age ! Il s’agit d’un manuscrit posant les bases de l’astronomie ‘De sphaera mundi » du savant Joannes de Sacrobosco.  
URL:https://museesetcentresdart.caprovenceverte.fr/event/le-centre-dart-en-tournee-atelier-pop-up-brignoles/
CATEGORIES:Centre d'Art de Châteauvert,Général - Accueil
ATTACH;FMTTYPE=image/jpeg:https://museesetcentresdart.caprovenceverte.fr/wp-content/uploads/2022/09/POP-UP-carre-vert.jpg
END:VEVENT
BEGIN:VEVENT
DTSTART;TZID=Europe/Paris:20230420T100000
DTEND;TZID=Europe/Paris:20230420T120000
DTSTAMP:20260423T184507
CREATED:20230321T160122Z
LAST-MODIFIED:20230321T160122Z
UID:2314-1681984800-1681992000@museesetcentresdart.caprovenceverte.fr
SUMMARY:Les jeudis matin de l’art contemporain - Ateliers pour les 6/12 ans - Empreintes aromatiques
DESCRIPTION:Les jeudis matin de l’art contemporain sont une invitation à une initiation à l’art contemporain pour les enfants de 6 à 12 ans pendant les vacances scolaires. \n\nLe centre d’art fermé\, les ateliers des vacances scolaires sont maintenues durant le temps des travaux mais se dérouleront dans l’atelier de l’ancien presbytère à proximité du centre d’art ou comme ici dans le jardin de sculptures où les enfants partiront à la découverte de la flore du jardin puis récolteront fleurs et aromates sauvages pour réaliser des œuvres d’art cent pour cent nature. \n\nSur inscription auprès de l’OIT : 04 94 72 04 21
URL:https://museesetcentresdart.caprovenceverte.fr/event/les-jeudis-matin-de-lart-contemporain-ateliers-pour-les-6-12-ans-empreintes-aromatiques/
LOCATION:Centre d’Art contemporain de Chateauvert
CATEGORIES:Centre d'Art de Châteauvert,Général - Accueil
ATTACH;FMTTYPE=image/jpeg:https://museesetcentresdart.caprovenceverte.fr/wp-content/uploads/2023/03/Empreintes-aromatiques-rotated.jpg
END:VEVENT
BEGIN:VEVENT
DTSTART;TZID=Europe/Paris:20230426T140000
DTEND;TZID=Europe/Paris:20230426T160000
DTSTAMP:20260423T184507
CREATED:20230320T132640Z
LAST-MODIFIED:20230407T143548Z
UID:2326-1682517600-1682524800@museesetcentresdart.caprovenceverte.fr
SUMMARY:Le centre d'art en tournée - ATELIER POP UP ! [ Brignoles ]
DESCRIPTION:L’équipe de médiation du centre d’art repart en tournée dès février  2023 dans les médiathèques du réseau Provence Verte et propose des ateliers autour des albums Pop Up ou livres animés. \nSi les albums Pop Up sont souvent associés à l’enfance\, de nombreux artistes\, tels que Joan Miro par exemple\, en ont réalisé également aussi les médiatrices du centre d’art ont-elles imaginé un atelier qui permettra à chacun des participants de recréer sous forme d’album Pop Up le centre d’art et son jardin de sculptures ainsi qu’une salle vide que les participants à l’atelier décoreront à leur convenance. \nSi l’atelier est facile à faire\, il nécessite deux séances pour que cet album Pop Up prenne forme. \n  \nTout public à partir de 8 ans \nMédiathèque de Brignoles : Place De Gaulle\, 83170Brignoles \nRéservation obligatoire : 04 98 05 20 55\n \n  \n  \nLe saviez-vous ? \nLes premiers livres animés remonteraient au Moyen Age ! Il s’agit d’un manuscrit posant les bases de l’astronomie ‘De sphaera mundi » du savant Joannes de Sacrobosco.  
URL:https://museesetcentresdart.caprovenceverte.fr/event/le-centre-dart-en-tournee-atelier-pop-up-brignoles-2/
CATEGORIES:Centre d'Art de Châteauvert,Général - Accueil
ATTACH;FMTTYPE=image/jpeg:https://museesetcentresdart.caprovenceverte.fr/wp-content/uploads/2022/09/POP-UP-carre-vert.jpg
END:VEVENT
BEGIN:VEVENT
DTSTART;TZID=Europe/Paris:20230427T100000
DTEND;TZID=Europe/Paris:20230427T120000
DTSTAMP:20260423T184507
CREATED:20230320T131257Z
LAST-MODIFIED:20230421T083544Z
UID:2316-1682589600-1682596800@museesetcentresdart.caprovenceverte.fr
SUMMARY:Les jeudis matin de l’art contemporain - Ateliers pour les 6/12 ans - Dessine-moi un oiseau
DESCRIPTION:Les jeudis matin de l’art contemporain sont une invitation à une initiation à l’art contemporain pour les enfants de 6 à 12 ans pendant les vacances scolaires. \n\nLe centre d’art fermé\, les ateliers des vacances scolaires sont maintenues durant le temps des travaux mais se dérouleront dans le jardin. \nAprès une visite contée et une observation des oiseaux du jardin de sculptures\, les enfants s’amuseront avec les lignes\, les points et les couleurs et réaliseront une planche d’observation ornithologique très graphique et coloré ! \n\nSur inscription auprès de l’OIT : 04 94 72 04 21
URL:https://museesetcentresdart.caprovenceverte.fr/event/les-jeudis-matin-de-lart-contemporain-ateliers-pour-les-6-12-ans-dessine-moi-un-oiseau/
LOCATION:Centre d’Art contemporain de Chateauvert
CATEGORIES:Centre d'Art de Châteauvert,Général - Accueil
ATTACH;FMTTYPE=image/jpeg:https://museesetcentresdart.caprovenceverte.fr/wp-content/uploads/2023/03/Visuel-dessine-moi-un-oiseau-site.jpg
END:VEVENT
BEGIN:VEVENT
DTSTART;TZID=Europe/Paris:20230428T100000
DTEND;TZID=Europe/Paris:20230428T113000
DTSTAMP:20260423T184507
CREATED:20230220T084903Z
LAST-MODIFIED:20230320T124553Z
UID:2174-1682676000-1682681400@museesetcentresdart.caprovenceverte.fr
SUMMARY:Le centre d'art en tournée - Atelier 1001 formes - LA MAISON DES PETITS BRIGNOLES
DESCRIPTION:Le centre d’art s’associe dans ses actions hors-les-murs  à LA MAISON DES PETITS mis en place par le service Famille – Petite Enfance de l’Agglomération Provence Verte et propose une fois par mois à  Brignoles des ateliers de pratiques artistiques dédiées aux enfants de 0 à 6 ans avec leurs parents. Aucun résultat n’est attendu autre que le plaisir de partager un moment de création. \nLa Maison des Petits s’inscrit dans le cadre du dispositif des 1000 premiers jours\, et accueille des associations\, des professionnels de l’accompagnement à la parentalité et de la santé qui mènent leurs actions auprès de toutes les familles dans un lieu adapté et convivial. \nLa Maison des Petits est un lieu qui accueille les familles dans un espace convivial aménagé pour l’épanouissement et le confort des tout-petits et de leurs parents. \nLa petite enfance constitue le temps central de la construction de l’être humain. C’est le moment où l’enfant développe une appétence à interpréter le monde qui l’entoure et ce grâce aux liens qu’il construit avec ses parents. \nPorté par leurs pensées\, nourri de leur imaginaire\,  bercé par la musicalité des mots qui lui sont adressés\, l’enfant s’inscrit dans ce mouvement d’humanité. Les mouvements internes et externes\, créateurs d’émotions et de représentations\, à la fois visibles et invisibles sont ainsi l’essence même de la culture. \n  \nL’accès au lieu d’accueil est gratuit. Atelier sur inscription. \nAdresse : La Maison des Petits / Impasse passage de grain 83170 Brignoles \nTél : 04 98 14 32 99 ou 06 71 55 83 33 \nMail : maisondespetits@caprovenceverte.fr \n 
URL:https://museesetcentresdart.caprovenceverte.fr/event/le-centre-dart-en-tournee-atelier-1001-formes-la-maison-des-petits-brignoles-3/
CATEGORIES:Centre d'Art de Châteauvert,Général - Accueil
ATTACH;FMTTYPE=image/jpeg:https://museesetcentresdart.caprovenceverte.fr/wp-content/uploads/2022/09/1001-formes-site-2.jpg
END:VEVENT
END:VCALENDAR