BEGIN:VCALENDAR
VERSION:2.0
PRODID:-//Musées et centres d&#039;art - ECPv6.15.20//NONSGML v1.0//EN
CALSCALE:GREGORIAN
METHOD:PUBLISH
X-WR-CALNAME:Musées et centres d&#039;art
X-ORIGINAL-URL:https://museesetcentresdart.caprovenceverte.fr
X-WR-CALDESC:Évènements pour Musées et centres d&#039;art
REFRESH-INTERVAL;VALUE=DURATION:PT1H
X-Robots-Tag:noindex
X-PUBLISHED-TTL:PT1H
BEGIN:VTIMEZONE
TZID:Europe/Paris
BEGIN:DAYLIGHT
TZOFFSETFROM:+0100
TZOFFSETTO:+0200
TZNAME:CEST
DTSTART:20220327T010000
END:DAYLIGHT
BEGIN:STANDARD
TZOFFSETFROM:+0200
TZOFFSETTO:+0100
TZNAME:CET
DTSTART:20221030T010000
END:STANDARD
BEGIN:DAYLIGHT
TZOFFSETFROM:+0100
TZOFFSETTO:+0200
TZNAME:CEST
DTSTART:20230326T010000
END:DAYLIGHT
BEGIN:STANDARD
TZOFFSETFROM:+0200
TZOFFSETTO:+0100
TZNAME:CET
DTSTART:20231029T010000
END:STANDARD
BEGIN:DAYLIGHT
TZOFFSETFROM:+0100
TZOFFSETTO:+0200
TZNAME:CEST
DTSTART:20240331T010000
END:DAYLIGHT
BEGIN:STANDARD
TZOFFSETFROM:+0200
TZOFFSETTO:+0100
TZNAME:CET
DTSTART:20241027T010000
END:STANDARD
END:VTIMEZONE
BEGIN:VEVENT
DTSTART;TZID=Europe/Paris:20230513T180000
DTEND;TZID=Europe/Paris:20231126T000000
DTSTAMP:20260420T200731
CREATED:20230509T091814Z
LAST-MODIFIED:20230509T091814Z
UID:2545-1684000800-1700956800@museesetcentresdart.caprovenceverte.fr
SUMMARY:Exposition Mine et une briques LEGO®
DESCRIPTION:Le musée des Gueules Rouges est fier de présenter sa nouvelle exposition mettant à l’honneur l’histoire des mines en version briques LEGO®.\nDu 13 mai au 26 novembre 2023\, venez découvrir une exposition ludique et intergénérationnelle qui plaira aux petits et grands. \nPrès de 75 000 briques LEGO® ont été utilisées pour créer des maquettes de différents éléments clés du monde de la mine tels que les coupes de mine\, les chevalements\, les carreaux de mine et les lampisteries. Cette exposition a été conçue et réalisée en collaboration avec la société BrickEvent et le Centre Minier de Faymoreau\, tous deux situés en Vendée. Adaptée à la couleur locale de la bauxite\, cette exposition est désormais proposée sur l’Agglomération Provence Verte. \nEn parcourant l’exposition\, vous découvrirez une autre facette de l’aventure charbonnière grâce à une présentation originale et interactive. Les visiteurs pourront se laisser tenter par la magie des briques LEGO® en créant leur propre souvenir de la mine\, à partir de 4 ans. \n\nLe vernissage de l’exposition aura lieu le samedi 13 mai à 18h à l’occasion de la Nuit européenne des musées. \n\nNous vous invitons à venir découvrir cette exposition inédite qui vous fera (re)découvrir l’histoire des mines d’une manière originale. Ne manquez pas cette opportunité de vous plonger dans le passé charbonnier de la région grâce à l’art des briques LEGO®.
URL:https://museesetcentresdart.caprovenceverte.fr/event/exposition-mine-et-une-briques-lego/
LOCATION:Musée des Gueules Rouges
CATEGORIES:Général - Accueil,Musée des Gueules Rouges
ATTACH;FMTTYPE=image/jpeg:https://museesetcentresdart.caprovenceverte.fr/wp-content/uploads/2023/05/lego-A3-1-scaled.jpg
END:VEVENT
BEGIN:VEVENT
DTSTART;VALUE=DATE:20230701
DTEND;VALUE=DATE:20230831
DTSTAMP:20260420T200731
CREATED:20230710T132153Z
LAST-MODIFIED:20230710T132153Z
UID:2728-1688169600-1693439999@museesetcentresdart.caprovenceverte.fr
SUMMARY:En juillet/août au musée des Comtes de Provence & à la Micro-Folie Provence Verte
DESCRIPTION:Retrouvez  la programmation détaillée de votre été au musée des Comtes de Provence  dans ce livret\, également disponible à l’accueil du musée.\n\n\nLes rendez-vous à ne pas manquer :\n\n\n\n12 et 13 août : Les Médiévales avec un programme spécial et une ouverture gratuite tout le week-end : animations autour des collections du musée\, une enquête théâtralisée qui vous fera découvrir le musée autrement….\nDu 16 au 27 août : Fête de la Saint-Louis : Venez découvrir l’histoire de Saint-Louis d’Anjou\, et vous amuser lors de notre atelier créatif.\nTout au long de l’été\, la Micro-Folie vous propose une immersion dans l’Égypte ancienne et de la ville d’Alexandrie\, entre autres…\nRetrouvez également nos ateliers enfants 6/12 ans tous les mardis des vacances scolaires\nNOUVEAUTÉ : une activité pour les 6/12 ans « SOS\, fantôme au musée »  tous les mercredis des vacances scolaires \n\n\n\n\n\nCliquez ICI pour le télécharger  
URL:https://museesetcentresdart.caprovenceverte.fr/event/en-juillet-aout-au-musee-des-comtes-de-provence-a-la-micro-folie-provence-verte/
LOCATION:Musée des Comtes de Provence
CATEGORIES:Général - Accueil,Musée des Comtes de Provence
ATTACH;FMTTYPE=image/jpeg:https://museesetcentresdart.caprovenceverte.fr/wp-content/uploads/2023/07/Prog_MCP_MF_-juillet_aout-e1688994824285.jpg
END:VEVENT
BEGIN:VEVENT
DTSTART;VALUE=DATE:20230707
DTEND;VALUE=DATE:20230904
DTSTAMP:20260420T200731
CREATED:20230704T121610Z
LAST-MODIFIED:20230710T075630Z
UID:2670-1688688000-1693785599@museesetcentresdart.caprovenceverte.fr
SUMMARY:Bienvenue au jardin #3
DESCRIPTION:La trosième édition de Bienvenue au jardin est dédiée au partage et à la pratique artistqiue à travers de multiples propositions ludiques dans le cadre enchanteur du jardin de sculptures du centre d’art. \n7 juillet :  \n\n17h : Vernissage de l’exposition de Martine et Jean Béchameil\n17h : Lancement de Bienvenue au jardin #3 & Vernissage de l’exposition de Simon de la Porte RECTO VERSO #1 « Prism of memory »\n17h30 : Inauguration de l’œuvre d’Ugo Schiavi (acquisition de la commune)\n\n9 juillet : \n\n15-17h : Visite guidée de l’exposition et atelier famille\n\nPublic : Tout public \nTarif : Gratuit sur présentation du billet d’entrée \n13 juillet : \n\n10-12h : Les jeudis matin de l’art contemporain\n\nPublic : Enfant de 6 à 12 ans \nTarif : 4 € sur réservation auprès de l’OIT 04 94 72 04 21 \n14 juillet matin :  \n\n10-12h – Pentathlon des muses\n\nTu veux challenger l’artiste qui sommeille en toi ? Saviez-vous que les compétitions artistiques ont fait partie des Jeux olympiques de 1912 à 1948 ? C’était une idée du fondateur des Jeux\, Pierre de Coubertin. Lors de ce pentathlon des muses\, Enfants et adultes s’affronteront autour de 5 disciplines artistiques différentes qui mettront leurs talents à rudes épreuves. \nPossibilité de pique-nique sur place \nPublic : Famille \nTarif : Gratuit \n16 juillet :  \n\n15-17h : Atelier linogravure autour du travail graphique de Simon De La Porte\n\nPublic : Adultes et enfants à partir de 8 ans \nTarif : 4 € sur réservation auprès de l’OIT 04 94 72 04 21 \n18 juillet : Garden [P]Arty \n\n14h : Visite et Vernissage de l’exposition ‘ Garden [P]Arty ‘ suivi d’un concert (équipe en recherche d’une musicienne ou d’un musicien)\n\nDans le cadre du projet hors-les-murs du centre d’art\, l’équipe de médiation a proposé durant toute l’année des ateliers au sein des accueils de jour de l’Hôpital Psychiatrique Henri Guérin de Pierrefeu situés à Brignoles et St-Maximin-la-Ste-Baume. \nL’après-midi du 18 juillet est consacrée aux patients ayant bénéficiés de ces ateliers lors d’une Garden [P]Arty où seront exposées certaines des œuvres réalisées au cours de ces ateliers. Cette exposition sera accompagnée d’un temps festif ouvert à toutes et tous en musique. \n20 juillet :  \n\n10-12h : Les jeudis matin de l’art contemporain\n\nPublic : Enfant de 6 à 12 ans \nTarif : 4 € sur réservation auprès de l’OIT 04 94 72 04 21 \n22  & 23 juillet :  \n\n10 – 12h30 / 14 – 16h30 : Stage de linogravure\n\nVous avez envie d’explorer la linogravure\, d’imaginer et de concevoir votre propre livre d’artiste sur le thème du jardin ? Alors c’est à Châteauvert que ça se passe ! \nDans le cadre du festival Bienvenue au jardin\, le Centre d’art vous propose un stage de linogravure de 10h réparties sur 2 journées le week-end du 22/23 juillet. \nAu programme : visite des sculptures et collecte dans le jardin\, découverte de la technique et de ses possibilités\, conception d’un livre d’artiste et réalisation d’un tampon à signer. \nPublic : Adultes et enfants à partir de 8 ans \nTarif : 40 € sur réservation auprès de l’OIT 04 94 72 04 21 \n27 juillet :  \n\n10-12h : Les jeudis matin de l’art contemporain\n\nPublic : Enfant de 6 à 12 ans \nTarif : 4 € sur réservation auprès de l’OIT 04 94 72 04 21 \n28 juillet : \n\n19h : Rencontre avec Léo Fourdrinier\, artiste en résidence au centre d’art contemporain de Châteauvert dans le cadre de l’Eté Culturel – Rouvrir le monde mis en place par le Ministère de la Culture\n\n7 > 11 août : \n\n10 – 12h : Stage à l’attention des 6 – 12 ans : « Ça papillonne »\n\nPublic : Enfant de 6 à 12 ans \nTarif : 40 € sur réservation auprès de l’OIT 04 94 72 04 21 \nCe premier stage au centre d’art contemporain de Châteauvert à destination des enfants de 6 à 12 ans propose un croisement ludique de savoirs entre découverte entomologique (science des insectes) et découverte artistique.
URL:https://museesetcentresdart.caprovenceverte.fr/event/bienvenue-au-jardin-3/
LOCATION:Centre d’Art contemporain de Chateauvert
CATEGORIES:Centre d'Art de Châteauvert,Général - Accueil
ATTACH;FMTTYPE=image/png:https://museesetcentresdart.caprovenceverte.fr/wp-content/uploads/2023/07/BAJ-3.png
END:VEVENT
BEGIN:VEVENT
DTSTART;TZID=Europe/Paris:20230707T170000
DTEND;TZID=Europe/Paris:20231126T210000
DTSTAMP:20260420T200731
CREATED:20221118T123052Z
LAST-MODIFIED:20230710T075519Z
UID:1967-1688749200-1701032400@museesetcentresdart.caprovenceverte.fr
SUMMARY:Exposition "Traversée de nuit" de Martine FEIPEL & Jean BECHAMEIL
DESCRIPTION:Le centre d’art contemporain de Châteauvert rouvre ses portes après plusieurs mois de travaux le 7 juillet 2023 avec la première exposition dans une institution culturelle du sud de la France du duo Martine Feipel et Jean Béchameil. \nTraversée de nuit a débuté un mois avant l’ouverture de l’exposition par une performance – tournage d’une marche participative avec une cinquantaine de personnes de tout horizon qui s’est déroulée au crépuscule dans les alentours du centre d’art. \nHommage aux migrations d’hier\, d’aujourd’hui et de demain\, Traversée de Nuit se réfère aux mouvements de population relatés par le médecin grec Ctésias dès le Vème siècle avant J.C.\, aux déplacements de populations de tous les temps\, à la marche du sel de Gandhi en 1930 ou à celle de Mao Tsé Toung en 1934 mais aussi aux marches des réfugié·e·s dans la jungle du Darien au Panama\, jungle qu’ils traversent au péril de leurs vies pour rejoindre les Etats-Unis\, sans oublier les migrations toujours plus risquées qui mènent vers l’Europe par des cheminement et des détours qui changent au grès des contrôles. \nHommage à la nature\, Traversée de Nuit prend la parole pour le compte d’un absent qui ne peut s’exprimer lui-même alors que « nous sommes en pleine crise climatique et que la croissance\, l’économie et les valeurs même du travail sont remises en cause. \nMartine Feipel & Jean Béchameil ont longtemps porté des réflexions sur l’héritage du modernisme tout en en relevant l’ambivalence\, ils soulignent aujourd’hui la place de tous les êtres vivants comme centrale et interrogent de manière optimiste\, le fait que les êtres vivants ne se limitent pas à habiter tel ou tel espace géographique mais à être un sol qui ne cesse de se métamorphoser et de s’adapter à la nature. \nVernissage vendredi 7 juillet à partir de 17h \n  \nMartine Feipel et Jean Bechameil est un duo d’artistes installé à Bruxelles\, représentant du Pavillon Luxembourgeois lors de la Biennale de Venise en 2011. Habités d’une grande sensibilité à la théâtralité du monde et ses beautés\, alliant leurs nombreux savoir-faire – dessin\, sculpture\, ingénierie\, mise en scène\, décor (notamment de plusieurs films de Lars von Trier) – Feipel et Bechameil produisent une œuvre aussi formellement aboutie que fortement engagée. Ils proposent des pistes de réflexion pour un avenir meilleur. \n  \nTRAVERSEE DE NUIT a bénéficié du soutien de KULTUR LX\, de la Fondation Independance by Bil et de Wallonie-Bruxelles International (WBI) / CWB Paris\, Centre Wallonie-Bruxelles/Paris – Hors-Les-Murs Constellations. \n 
URL:https://museesetcentresdart.caprovenceverte.fr/event/exposition-traversee-de-nuit-de-martine-feipel-jean-bechameil/
LOCATION:Centre d’Art contemporain de Chateauvert
CATEGORIES:Centre d'Art de Châteauvert,Général - Accueil
ATTACH;FMTTYPE=image/jpeg:https://museesetcentresdart.caprovenceverte.fr/wp-content/uploads/2022/11/F-P.jpg
END:VEVENT
BEGIN:VEVENT
DTSTART;VALUE=DATE:20230708
DTEND;VALUE=DATE:20231127
DTSTAMP:20260420T200731
CREATED:20230704T111149Z
LAST-MODIFIED:20230925T080712Z
UID:2656-1688774400-1701043199@museesetcentresdart.caprovenceverte.fr
SUMMARY:Bienvenue au jardin #3 - Artiste invité : Simon de la Porte
DESCRIPTION:Le centre d’art contemporain de Châteauvert invite pour la troisième édition de Bienvenue au jardin Simon de la Porte à présenter une série de dessins faisant entrer la nature dans le centre d’art\, nature qu’il qualifie de « plus belle télé du monde ». Ces dessins prennent place au sein d’un nouvel espace de monstration à l’étage du centre d’art que l’équipe a nommé RECTO VERSO et qui accueillera régulièrement des expositions et restitutions de projets pédagogiques. \nLes dessins de Simon de la Porte sont faussement naïfs. Réalisés au feutre sur des petits formats\, ils sont une lecture poétique d’un monde contemporain qui se fait dévorer petit à petit par la nature\, à contrario du climaticide actuel. Les paysages qu’il représente sont imprégnés par la culture française ou européenne facilement reconnaissables aux véhicules vintages des années 80 qu’il aime dessiner. La chaise en plastique blanche\, figure incontournable d’un art de vivre populaire\, hante également ses dessins. Et\, si les personnes masculins sont nombreux\, il n’y a presque aucun personnage féminin  représenté dans les dessins de Simon de la Porte car l’artiste estime dessiner trop mal. Il a peur de « les rater ». Finalement\, les dessins de Simon de la Porte entrainent par ces motifs\, formes et médium un sentiment de familiarité mais aussi de nostalgie qui d’une douce nostalgie qui les rendent infiniment attachants. \n  \nSimon de la Porte (1976)\, diplômé de LISAA Paris (1999)\, est un graphiste\, photo monteur et dessinateur.  En 2014\, il se remet au dessin au feutre\, suivi de plusieurs autres projets jusqu’à\naujourd’hui. Il est notamment co-organisateur du festival de dessin contemporain VRRRAIMENT! à Toulon.\nIl grandit en Normandie\, passe une vingtaine d’année à Paris\, part pour un grand voyage en Asie\, et enfin il s’installe à Toulon. \n 
URL:https://museesetcentresdart.caprovenceverte.fr/event/bienvenue-au-jardin-3-artiste-invite-simon-de-la-porte/
LOCATION:Centre d’Art contemporain de Chateauvert
CATEGORIES:Centre d'Art de Châteauvert,Général - Accueil
ATTACH;FMTTYPE=image/png:https://museesetcentresdart.caprovenceverte.fr/wp-content/uploads/2023/07/230704-CACC-Simon-de-la-Porte.png
END:VEVENT
BEGIN:VEVENT
DTSTART;VALUE=DATE:20230711
DTEND;VALUE=DATE:20230825
DTSTAMP:20260420T200731
CREATED:20230626T123554Z
LAST-MODIFIED:20230704T112312Z
UID:2639-1689033600-1692921599@museesetcentresdart.caprovenceverte.fr
SUMMARY:Les ateliers enfants des musées et du centre d’art – Été 2023
DESCRIPTION:Comme chaque année\, les équipes du centre d’art contemporain de Châteauvert\, du musée des Comtes de Provence à Brignoles et du musée des Gueules Rouges à Tourves ont préparé des ateliers ludiques et artistiques à destination des enfants de 6 à 12 ans\, dont les thèmes variés raviront les petits visiteurs.\n\nChaque atelier a une durée de 2h\nTarif 4 €\nRéservation obligatoire auprès de l’OIT  au 04 94 72 04 21 ou contact@provenceverteverdon.fr\n\nProgramme complet à télécharger  :
URL:https://museesetcentresdart.caprovenceverte.fr/event/les-ateliers-enfants-des-musees-et-du-centre-dart-ete-2023/
CATEGORIES:Centre d'Art de Châteauvert,Général - Accueil,Musée des Comtes de Provence,Musée des Gueules Rouges
ATTACH;FMTTYPE=image/jpeg:https://museesetcentresdart.caprovenceverte.fr/wp-content/uploads/2023/06/ateliers_ete_2023.jpg
END:VEVENT
END:VCALENDAR