BEGIN:VCALENDAR
VERSION:2.0
PRODID:-//Musées et centres d&#039;art - ECPv6.15.20//NONSGML v1.0//EN
CALSCALE:GREGORIAN
METHOD:PUBLISH
X-WR-CALNAME:Musées et centres d&#039;art
X-ORIGINAL-URL:https://museesetcentresdart.caprovenceverte.fr
X-WR-CALDESC:Évènements pour Musées et centres d&#039;art
REFRESH-INTERVAL;VALUE=DURATION:PT1H
X-Robots-Tag:noindex
X-PUBLISHED-TTL:PT1H
BEGIN:VTIMEZONE
TZID:Europe/Paris
BEGIN:DAYLIGHT
TZOFFSETFROM:+0100
TZOFFSETTO:+0200
TZNAME:CEST
DTSTART:20220327T010000
END:DAYLIGHT
BEGIN:STANDARD
TZOFFSETFROM:+0200
TZOFFSETTO:+0100
TZNAME:CET
DTSTART:20221030T010000
END:STANDARD
BEGIN:DAYLIGHT
TZOFFSETFROM:+0100
TZOFFSETTO:+0200
TZNAME:CEST
DTSTART:20230326T010000
END:DAYLIGHT
BEGIN:STANDARD
TZOFFSETFROM:+0200
TZOFFSETTO:+0100
TZNAME:CET
DTSTART:20231029T010000
END:STANDARD
BEGIN:DAYLIGHT
TZOFFSETFROM:+0100
TZOFFSETTO:+0200
TZNAME:CEST
DTSTART:20240331T010000
END:DAYLIGHT
BEGIN:STANDARD
TZOFFSETFROM:+0200
TZOFFSETTO:+0100
TZNAME:CET
DTSTART:20241027T010000
END:STANDARD
END:VTIMEZONE
BEGIN:VEVENT
DTSTART;VALUE=DATE:20230102
DTEND;VALUE=DATE:20230707
DTSTAMP:20260421T005309
CREATED:20221118T123654Z
LAST-MODIFIED:20221119T092229Z
UID:1970-1672617600-1688687999@museesetcentresdart.caprovenceverte.fr
SUMMARY:Réaménagement du centre d'art contemporain de Châteauvert : une étape nécessaire à la mesure de l'Agglomération pour l'art contemporain sur le territoire
DESCRIPTION:Le centre d’art contemporain de Châteauvert sera fermé au public durant le premier semestre 2023. Ces travaux sont une étape nécessaire à la mesure de nos ambitions pour l’art contemporain en Provence Verte. Ils leurs permettront d’encore mieux se déployer et ce afin d’offrir une expérience plus complète encore de l’art contemporain à nos visiteurs. \nEn effet\, dans le domaine de l’art contemporain\, l’Agglomération Provence Verte offre des conditions optimales de diffusion d’œuvres\, de soutien à la création ou par la mise en place de médiations artistiques adaptées à chacun.e au sein du centre d’art contemporain de Châteauvert\, lieu incontournable de l’art contemporain en territoire\, et développe de nombreux projets d’art contemporain à l’échelle de ses 28 communes-membres. \nLe centre d’art rouvrira ses portes le 7 juillet avec la première exposition dans une institution culturelle du sud de la France du duo Martine Feipel et Jean Béchameil. \nPour autant les activités de l’équipe du centre d’art seront maintenues durant le temps des travaux et ce notamment au niveau des projets développés en hors-les-murs. \nLe centre d’art en tournée … \nLe service médiation déploiera encore plus d’actions à l’échelle de la Provence Verte : \n\nAteliers 1001 formes au sein des LAEP les Petites Bretelles\, lieu d’accueil parents – enfants de moins de 6 ans\, se déployant à Tourves\, Brignoles et Carcès\nAteliers 1001 formes au sein de la Maison des Petits à Brignoles\nAteliers 1001 formes auprès du réseau des assistant.e.s maternel.le.s en Provence Verte\nAteliers Pop-Up ! dans les médiathèques\nAteliers de pratiques artistiques au sein des antennes de jour de l’hôpital Henri Guérin – Pierrefeu – en Provence Verte. Ces projets seront valorisés lors de la troisième édition du festival Bienvenue au jardin.\nRésidences d’artistes en milieu scolaire :\nFaustine Reibaud-Nicoli au lycée Raynouard de Brignoles\nBernard Pourrières au collège Guy de Maupassant de Garéoult\n\nLes visites du jardin de sculptures et ateliers maintenus à Châteauvert  \nLa visite du premier dimanche du mois à 15h est transformée en visite du jardin de sculptures de Châteauvert. \nLes ateliers de linogravure du deuxième dimanche du mois et les ateliers des vacances scolaires sont également maintenus et se dérouleront dans l’atelier de l’ancien presbytère à proximité du centre d’art. \nLes vacances d’avril sous le signe du jeu \nL’équipe de médiation proposera des vacances d’avril joyeuses\, ludiques et gourmandes avec la complicité de l’office de tourisme Provence Verte & Verdon. \nSamedi 8 avril : Lancement du jeu de piste numérique Baludick du jardin de sculptures \nDimanche 9 avril : Chasse aux œufs \n 
URL:https://museesetcentresdart.caprovenceverte.fr/event/reamenagement-du-centre-dart-contemporain-de-chateauvert-une-etape-necessaire-a-la-mesure-des-ambitions-de-lagglomeration-pour-lart-contemporain-sur-le-territoire/
CATEGORIES:Centre d'Art de Châteauvert,Général - Accueil
ATTACH;FMTTYPE=image/jpeg:https://museesetcentresdart.caprovenceverte.fr/wp-content/uploads/2022/11/Vu-du-centre-dart-et-des-oeuvres-Sans-titre-dAlain-Clement-collection-Agglomeration-Provence-Verte-Centre-dart-contemporain-de-Chateauvert.jpg
END:VEVENT
BEGIN:VEVENT
DTSTART;VALUE=DATE:20230401
DTEND;VALUE=DATE:20230501
DTSTAMP:20260421T005309
CREATED:20230323T152811Z
LAST-MODIFIED:20230327T081821Z
UID:2383-1680307200-1682899199@museesetcentresdart.caprovenceverte.fr
SUMMARY:Programmation Micro-Folie – Avril 2023
DESCRIPTION:La Micro-Folie Provence Verte vous propose sa nouvelle programmation pour le mois d’avril.\nMusée des Comtes de Provence – Brignoles \nTel : 04 98 05 92 88\nContact : mcp@caprovenceverte.fr\nProgramme à télécharger ici :
URL:https://museesetcentresdart.caprovenceverte.fr/event/programmation-micro-folie-avril-2023/
LOCATION:Musée des Comtes de Provence
CATEGORIES:Général - Accueil,Musée des Comtes de Provence
ATTACH;FMTTYPE=image/jpeg:https://museesetcentresdart.caprovenceverte.fr/wp-content/uploads/2023/03/Prog_avril-MF-site.jpg
END:VEVENT
BEGIN:VEVENT
DTSTART;VALUE=DATE:20230401
DTEND;VALUE=DATE:20230501
DTSTAMP:20260421T005309
CREATED:20230330T114952Z
LAST-MODIFIED:20230330T114952Z
UID:2401-1680307200-1682899199@museesetcentresdart.caprovenceverte.fr
SUMMARY:Programmation Musée des Comtes de Provence - Avril 2023
DESCRIPTION:Retrouvez l’essentiel de la programmation du musée en avril sur ce programme détaillé qui célèbre les Journées européennes des métiers d’art.\nAu cours de ce mois\, une série d’événements passionnants raviront tous les amateurs d’histoire\, d’art et de culture. \nÀ ne pas rater\, un rendez-vous unique et exceptionnel :\n\nSamedi 1er avril de 14h30 à 16h30 :  Atelier broderie/couture animé par les Cousardes\, qui partageront avec vous leur passion pour cette forme d’art.\n\nDans ce programme d’avril\, une variété d’autres événements passionnants  à découvrir tout au long de ce mois\, conçus pour vous offrir une expérience culturelle unique et immersive. \nCliquez pour le télécharger : \n \n 
URL:https://museesetcentresdart.caprovenceverte.fr/event/programmation-musee-des-comtes-de-provence-avril-2023/
LOCATION:Musée des Comtes de Provence
CATEGORIES:Général - Accueil,Musée des Comtes de Provence
ATTACH;FMTTYPE=image/jpeg:https://museesetcentresdart.caprovenceverte.fr/wp-content/uploads/2023/03/Prog-MCP-Avril-SITE.jpg
END:VEVENT
BEGIN:VEVENT
DTSTART;TZID=Europe/Paris:20230430T143000
DTEND;TZID=Europe/Paris:20230430T170000
DTSTAMP:20260421T005309
CREATED:20230418T144956Z
LAST-MODIFIED:20230418T144956Z
UID:2482-1682865000-1682874000@museesetcentresdart.caprovenceverte.fr
SUMMARY:Week-end Journée de la danse - Diffusion du spectacle « Le lac des Cygnes »
DESCRIPTION:À l’occasion de la journée de la danse\, diffusion du spectacle « Le lac des Cygnes » à la Micro-folie Provence Verte.\n\nDimanche 30 avril à partir de 14h30 \nDurée 2h20 \nRéservation conseillée \nTout public / dans la limite des places disponibles \nPrix de l’entrée du Musée des Comtes de Provence : 4 €\n\nMusée des Comtes de Provence – Brignoles \nTel : 04 98 05 92 88\nContact : mcp@caprovenceverte.fr
URL:https://museesetcentresdart.caprovenceverte.fr/event/week-end-journee-de-la-danse-diffusion-du-spectacle-le-lac-des-cygnes/
LOCATION:Musée des Comtes de Provence
CATEGORIES:Général - Accueil,Musée des Comtes de Provence
ATTACH;FMTTYPE=image/jpeg:https://museesetcentresdart.caprovenceverte.fr/wp-content/uploads/2023/04/le-lac-des-cygnes-scaled.jpg
END:VEVENT
END:VCALENDAR