BEGIN:VCALENDAR
VERSION:2.0
PRODID:-//Musées et centres d&#039;art - ECPv6.15.20//NONSGML v1.0//EN
CALSCALE:GREGORIAN
METHOD:PUBLISH
X-WR-CALNAME:Musées et centres d&#039;art
X-ORIGINAL-URL:https://museesetcentresdart.caprovenceverte.fr
X-WR-CALDESC:Évènements pour Musées et centres d&#039;art
REFRESH-INTERVAL;VALUE=DURATION:PT1H
X-Robots-Tag:noindex
X-PUBLISHED-TTL:PT1H
BEGIN:VTIMEZONE
TZID:Europe/Paris
BEGIN:DAYLIGHT
TZOFFSETFROM:+0100
TZOFFSETTO:+0200
TZNAME:CEST
DTSTART:20210328T010000
END:DAYLIGHT
BEGIN:STANDARD
TZOFFSETFROM:+0200
TZOFFSETTO:+0100
TZNAME:CET
DTSTART:20211031T010000
END:STANDARD
BEGIN:DAYLIGHT
TZOFFSETFROM:+0100
TZOFFSETTO:+0200
TZNAME:CEST
DTSTART:20220327T010000
END:DAYLIGHT
BEGIN:STANDARD
TZOFFSETFROM:+0200
TZOFFSETTO:+0100
TZNAME:CET
DTSTART:20221030T010000
END:STANDARD
BEGIN:DAYLIGHT
TZOFFSETFROM:+0100
TZOFFSETTO:+0200
TZNAME:CEST
DTSTART:20230326T010000
END:DAYLIGHT
BEGIN:STANDARD
TZOFFSETFROM:+0200
TZOFFSETTO:+0100
TZNAME:CET
DTSTART:20231029T010000
END:STANDARD
BEGIN:DAYLIGHT
TZOFFSETFROM:+0100
TZOFFSETTO:+0200
TZNAME:CEST
DTSTART:20240331T010000
END:DAYLIGHT
BEGIN:STANDARD
TZOFFSETFROM:+0200
TZOFFSETTO:+0100
TZNAME:CET
DTSTART:20241027T010000
END:STANDARD
END:VTIMEZONE
BEGIN:VEVENT
DTSTART;VALUE=DATE:20221125
DTEND;VALUE=DATE:20230401
DTSTAMP:20260421T022523
CREATED:20221129T153703Z
LAST-MODIFIED:20250307T092440Z
UID:1993-1669334400-1680307199@museesetcentresdart.caprovenceverte.fr
SUMMARY:Résidence de médiation de Faustine REIBAUD-NICOLI - Lycée Raynouard\, Brignoles
DESCRIPTION:L’Agglomération Provence Verte et le centre d’art contemporain de Châteauvert développe un partenariat avec le lycée Raynouard à Brignoles depuis quelques années dans le cadre de ses actions d’éducation artistiques et culturelles et a invité Faustine Reibaud-Nicoli à une résidence de médiation sur plusieurs mois au sein de l’option arts plastiques du lycée. \nCe projet a pour vocation de créer collectivement sous forme performative – poétique et sonore\, en interrogeant la notion de territoire\, abordée dans sa dimension la plus diversifiée. Ce travail sera présenté au sein de l’auditorium du conservatoire intercommunal à Brignoles. \nNée en 1993\, Faustine Reibaud-Nicoli est réalisatrice et plasticienne. Elle vit et travaille entre Correns et Marseille. Diplômée de la Haute Ecole des Arts du Rhin de Strasbourg\, elle travaille le médium vidéo à travers des métrages de type documentaire et des installations. Elle a également une pratique tout aussi importante de l’écriture poétique\, de la photographie et du dessin. Les origines de l’artiste prenant racines autour de la Méditerranée\, elle est y trouve un terrain fertile à sa production et aux réflexions qu’elle développe. « Quand donc est-on chez soi ? » pose Barbara Cassin : cette réflexion accompagne son travail depuis plusieurs années. En effet\, Faustine s’intéresse aux questions d’appartenance d’un individu à un lieu\, à la résonance des êtres par rapport à une terre\, à ce qui définit intimement une forme de chez-soi. Autour du tissu complexe qu’est la Méditerranée\, elle s’attarde à observer\, comparer et disséquer les éléments formant ce tout pourtant si fragmentaire. \n  \nAvec le soutien de la Région Sud \n \n 
URL:https://museesetcentresdart.caprovenceverte.fr/event/residence-de-mediation-de-faustine-reibaud-nicoli-lycee-raynouard-brignoles/
CATEGORIES:Centre d'Art de Châteauvert,Général - Accueil
ATTACH;FMTTYPE=image/png:https://museesetcentresdart.caprovenceverte.fr/wp-content/uploads/2022/11/Capture.png
END:VEVENT
BEGIN:VEVENT
DTSTART;VALUE=DATE:20230102
DTEND;VALUE=DATE:20230707
DTSTAMP:20260421T022523
CREATED:20221118T123654Z
LAST-MODIFIED:20221119T092229Z
UID:1970-1672617600-1688687999@museesetcentresdart.caprovenceverte.fr
SUMMARY:Réaménagement du centre d'art contemporain de Châteauvert : une étape nécessaire à la mesure de l'Agglomération pour l'art contemporain sur le territoire
DESCRIPTION:Le centre d’art contemporain de Châteauvert sera fermé au public durant le premier semestre 2023. Ces travaux sont une étape nécessaire à la mesure de nos ambitions pour l’art contemporain en Provence Verte. Ils leurs permettront d’encore mieux se déployer et ce afin d’offrir une expérience plus complète encore de l’art contemporain à nos visiteurs. \nEn effet\, dans le domaine de l’art contemporain\, l’Agglomération Provence Verte offre des conditions optimales de diffusion d’œuvres\, de soutien à la création ou par la mise en place de médiations artistiques adaptées à chacun.e au sein du centre d’art contemporain de Châteauvert\, lieu incontournable de l’art contemporain en territoire\, et développe de nombreux projets d’art contemporain à l’échelle de ses 28 communes-membres. \nLe centre d’art rouvrira ses portes le 7 juillet avec la première exposition dans une institution culturelle du sud de la France du duo Martine Feipel et Jean Béchameil. \nPour autant les activités de l’équipe du centre d’art seront maintenues durant le temps des travaux et ce notamment au niveau des projets développés en hors-les-murs. \nLe centre d’art en tournée … \nLe service médiation déploiera encore plus d’actions à l’échelle de la Provence Verte : \n\nAteliers 1001 formes au sein des LAEP les Petites Bretelles\, lieu d’accueil parents – enfants de moins de 6 ans\, se déployant à Tourves\, Brignoles et Carcès\nAteliers 1001 formes au sein de la Maison des Petits à Brignoles\nAteliers 1001 formes auprès du réseau des assistant.e.s maternel.le.s en Provence Verte\nAteliers Pop-Up ! dans les médiathèques\nAteliers de pratiques artistiques au sein des antennes de jour de l’hôpital Henri Guérin – Pierrefeu – en Provence Verte. Ces projets seront valorisés lors de la troisième édition du festival Bienvenue au jardin.\nRésidences d’artistes en milieu scolaire :\nFaustine Reibaud-Nicoli au lycée Raynouard de Brignoles\nBernard Pourrières au collège Guy de Maupassant de Garéoult\n\nLes visites du jardin de sculptures et ateliers maintenus à Châteauvert  \nLa visite du premier dimanche du mois à 15h est transformée en visite du jardin de sculptures de Châteauvert. \nLes ateliers de linogravure du deuxième dimanche du mois et les ateliers des vacances scolaires sont également maintenus et se dérouleront dans l’atelier de l’ancien presbytère à proximité du centre d’art. \nLes vacances d’avril sous le signe du jeu \nL’équipe de médiation proposera des vacances d’avril joyeuses\, ludiques et gourmandes avec la complicité de l’office de tourisme Provence Verte & Verdon. \nSamedi 8 avril : Lancement du jeu de piste numérique Baludick du jardin de sculptures \nDimanche 9 avril : Chasse aux œufs \n 
URL:https://museesetcentresdart.caprovenceverte.fr/event/reamenagement-du-centre-dart-contemporain-de-chateauvert-une-etape-necessaire-a-la-mesure-des-ambitions-de-lagglomeration-pour-lart-contemporain-sur-le-territoire/
CATEGORIES:Centre d'Art de Châteauvert,Général - Accueil
ATTACH;FMTTYPE=image/jpeg:https://museesetcentresdart.caprovenceverte.fr/wp-content/uploads/2022/11/Vu-du-centre-dart-et-des-oeuvres-Sans-titre-dAlain-Clement-collection-Agglomeration-Provence-Verte-Centre-dart-contemporain-de-Chateauvert.jpg
END:VEVENT
BEGIN:VEVENT
DTSTART;VALUE=DATE:20230211
DTEND;VALUE=DATE:20230417
DTSTAMP:20260421T022523
CREATED:20230207T125517Z
LAST-MODIFIED:20230207T125517Z
UID:2105-1676073600-1681689599@museesetcentresdart.caprovenceverte.fr
SUMMARY:Mine Interdite – Escape Game au Musée des Gueules Rouges
DESCRIPTION:Parviendrez-vous à sortir de la mine interdite ?\nUne légende raconte qu’au cœur de la mine se cache le minerai le plus pur jamais exploité. Mais l’accès en est restreint. \nOserez-vous braver le danger\, découvrir le passage secret et trouver le filon afin de sauver l’avenir de la mine et des mineurs ? \nL’Escape Game du Musée des Gueules Rouges accueille des groupes de 3 à 6 personnes du 11 février au 16 avril\, selon les jours d’ouverture suivants : \n \nHors vacances scolaires :                                     \n\nMercredi : 14h30 – 16h00\nSamedi : 14h30 – 16h00 – 17h30\nDimanche : 14h30 – 16h00\n\nPendant les vacances scolaires (toutes zones) : \n\nMercredi : 14h30 – 16h00\nJeudi : 14h30 – 16h00\nVendredi : 14h30 – 16h00 – 17h30\nSamedi : 14h30 – 16h00 – 17h30\nDimanche : 14h30 – 16h00\n\nTarif : \n\n12€ par personne\n8€ par personne pour les moins de 14 ans.\n\nL’Escape Game n’est pas adapté aux moins de 7 ans. \nRéservation obligatoire à l’Office de Tourisme Provence Verte Verdon \nTel : 04 94 72 04 21. \n  \nUn Escape Game conçu par une équipe de professionnels du territoire\nPour la conception de cet Escape Game\, le musée des Gueules Rouges s’est associé à Secret Door. \nBasés depuis plus de 10 ans à Brignoles\, les créateurs de Secret Door ont\, en lien étroit avec l’équipe du musée\, entièrement imaginé l’histoire\, les énigmes et tous les mécanismes présents au sein de la salle « Mine Interdite ». \nConcernant la conception du scénario et le choix des accessoires\, l’accent a été mis sur le réalisme : sans rien dévoiler de l’intérieur de la salle\, les participants seront amenés à parcourir un environnement familier aux mineurs et à manipuler des objets qui auraient pu se trouver entre les mains d’une authentique Gueule Rouge. Le tout en étant équipé\, tel un mineur\, d’un casque et d’une lampe frontale. \nPlusieurs mois de préparation ont été nécessaires afin de proposer aux joueurs une expérience d’immersion inédite au sein du Musée des Gueules Rouges.
URL:https://museesetcentresdart.caprovenceverte.fr/event/mine-interdite-escape-game-au-musee-des-gueules-rouges/
LOCATION:Musée des Gueules Rouges
CATEGORIES:Général - Accueil,Musée des Gueules Rouges
ATTACH;FMTTYPE=image/jpeg:https://museesetcentresdart.caprovenceverte.fr/wp-content/uploads/2023/02/Escape-Game_APV_2-e1675774473613.jpg
END:VEVENT
END:VCALENDAR