BEGIN:VCALENDAR
VERSION:2.0
PRODID:-//Musées et centres d&#039;art - ECPv6.15.20//NONSGML v1.0//EN
CALSCALE:GREGORIAN
METHOD:PUBLISH
X-WR-CALNAME:Musées et centres d&#039;art
X-ORIGINAL-URL:https://museesetcentresdart.caprovenceverte.fr
X-WR-CALDESC:Évènements pour Musées et centres d&#039;art
REFRESH-INTERVAL;VALUE=DURATION:PT1H
X-Robots-Tag:noindex
X-PUBLISHED-TTL:PT1H
BEGIN:VTIMEZONE
TZID:Europe/Paris
BEGIN:DAYLIGHT
TZOFFSETFROM:+0100
TZOFFSETTO:+0200
TZNAME:CEST
DTSTART:20210328T010000
END:DAYLIGHT
BEGIN:STANDARD
TZOFFSETFROM:+0200
TZOFFSETTO:+0100
TZNAME:CET
DTSTART:20211031T010000
END:STANDARD
BEGIN:DAYLIGHT
TZOFFSETFROM:+0100
TZOFFSETTO:+0200
TZNAME:CEST
DTSTART:20220327T010000
END:DAYLIGHT
BEGIN:STANDARD
TZOFFSETFROM:+0200
TZOFFSETTO:+0100
TZNAME:CET
DTSTART:20221030T010000
END:STANDARD
BEGIN:DAYLIGHT
TZOFFSETFROM:+0100
TZOFFSETTO:+0200
TZNAME:CEST
DTSTART:20230326T010000
END:DAYLIGHT
BEGIN:STANDARD
TZOFFSETFROM:+0200
TZOFFSETTO:+0100
TZNAME:CET
DTSTART:20231029T010000
END:STANDARD
END:VTIMEZONE
BEGIN:VEVENT
DTSTART;TZID=Europe/Paris:20220701T180000
DTEND;TZID=Europe/Paris:20221127T180000
DTSTAMP:20260421T102121
CREATED:20220217T134606Z
LAST-MODIFIED:20220623T085754Z
UID:1248-1656698400-1669572000@museesetcentresdart.caprovenceverte.fr
SUMMARY:Habitats sauvages\, exposition de Léna Durr
DESCRIPTION:Léna Durr\, Jean-Philippe\, 2022 – Courtesy de l’artiste et du centre d’art contemporain de Châteauvert – © Léna Durr \nLéna Durr s’intéresse aux normes et marges de la société qu’elle met en scène dans un travail photographique toujours tendre et un peu nostalgique. L’œuvre et le quotidien de l’artiste ne font qu’un puisqu’elle vit elle-même dans un mobil-home\, à Cuers dans le Var\, au milieu d’objets collectés depuis son adolescence. Habitats sauvages est à la fois un travail dans la lignée de ses recherches et le fruit de son travail de plusieurs mois en résidence en 2020 au centre d’art en partenariat avec l’ESADPTM. \n« S’il n’en existe pas de définition consacrée\, la notion d’habitats sauvages\, choisie par l’artiste pour qualifier les lieux de vies des personnes qu’elle est allée rencontrer\, permet à la fois d’embrasser la complexité de son approche et l’hétérogénéité des situations observées. \nPar opposition à la notion de domestique\, qui renvoie à l’idée de la maison conventionnelle\, celle de sauvage témoigne d’une volonté de s’inscrire dans un mode d’habiter non-conventionnel\, en marge ou en lisière de la société. Le sauvage\, c’est-ce qu’on ne connaît pas\, ce qui n’a pas été domestiqué. Le sauvage fait peur pour ce qu’il s’écarte des standards sociétaux. \nPour les écologues\, les habitats sauvages s’appliquent aux milieux naturels au sein desquels les animaux évoluent. Dans des espaces naturels\, agricoles ou forestiers\, ces habitants de mobilhome\, caravanes\, cabanes\, yourte\, et autres constructions démontables\, que l’artiste nous présente\, passent l’essentiel de leur temps à l’extérieur et ont en commun avec les animaux sauvages\, la vie en plein-air\, au plus près de la nature et des saisons. Avec leurs tailles modestes\, leurs procédés auto-constructifs\, et la sobriété qui les caractérise\, leurs habitats ne sont pas sans rappeler les nids ou les terriers des animaux de la forêt. \nA travers ses portraits de personnes qui vivent dans des habitats sauvages\, Léna Durr s’appuie sur un travail ethnographique et documentaire pour déployer un récit intime et bienveillant\, dans lequel elle donne à voir des parcours et des modes de vie\, qui échappent aux règles établies\, en décalage et en résistance face à des normes imposées\, des territoires instables où les notions de richesse\, de bonheur et de temps libre sont remises en question. » Alexandre Telliez-Moreni \n  \nCommissariat de l’exposition: Lydie Marchi \nCette exposition fait partie de la programmation des Rencontres d’Arles dans le cadre du Grand Arles Express.  \n \n 
URL:https://museesetcentresdart.caprovenceverte.fr/event/habitats-sauvages-exposition-de-lena-durr/
CATEGORIES:Centre d'Art de Châteauvert,Général - Accueil
ATTACH;FMTTYPE=image/png:https://museesetcentresdart.caprovenceverte.fr/wp-content/uploads/2022/02/Capture-1.png
END:VEVENT
BEGIN:VEVENT
DTSTART;VALUE=DATE:20220910
DTEND;VALUE=DATE:20221213
DTSTAMP:20260421T102121
CREATED:20220831T081429Z
LAST-MODIFIED:20220912T130047Z
UID:1721-1662768000-1670889599@museesetcentresdart.caprovenceverte.fr
SUMMARY:Exposition Avis de passage par Nadya Bertaux
DESCRIPTION:Dans cette exposition\, Nadya Bertaux exprime à travers ses sculptures l’importance de la mémoire\, de l’acquis et de la transmission. La puissance de ses installations\, réalisées en résidence au Centre d’art de Châteauvert en juin\, émane de l’apparente tension des fibrilles d’aluminium qui sont en réalité le fruit d’entrecroisements fragiles. \n\nVernissage le vendredi 9 septembre à 18h\n\nÀ découvrir du 10 septembre au 18 décembre 2022 au Musée des Gueules Rouges.
URL:https://museesetcentresdart.caprovenceverte.fr/event/exposition-avis-de-passage-par-nadya-bertaux-vernissage-vendredi-9-septembre-a-18h/
LOCATION:Musée des Gueules Rouges
CATEGORIES:Général - Accueil,Musée des Gueules Rouges
ATTACH;FMTTYPE=image/jpeg:https://museesetcentresdart.caprovenceverte.fr/wp-content/uploads/2022/08/Affiche-Nadya-Bertaux-e1661933548360.jpeg
END:VEVENT
BEGIN:VEVENT
DTSTART;TZID=Europe/Paris:20221025T143000
DTEND;TZID=Europe/Paris:20221104T120000
DTSTAMP:20260421T102121
CREATED:20221006T075518Z
LAST-MODIFIED:20221010T112401Z
UID:1903-1666708200-1667563200@museesetcentresdart.caprovenceverte.fr
SUMMARY:Programme Ateliers enfants  – Toussaint 2022
DESCRIPTION:L’équipe du Musée des Comtes de Provence vous donne rendez-vous les 25 octobre et 4 novembre pour des ateliers passionnants riches en découverte et créativité artistique.\n    \nPublic : 6 – 12 ans – Durée 2h \nTarif : 4 € – Réservation obligatoire auprès de l’OIT\n04 94 72 04 21\ncontact@provenceverteverdon.fr \nProgramme complet à télécharger ici ⇒ Ateliers enfants Toussaint 2022 \n 
URL:https://museesetcentresdart.caprovenceverte.fr/event/programme-ateliers-enfants-toussaint-2022/
LOCATION:Musée des Comtes de Provence
CATEGORIES:Général - Accueil,Musée des Comtes de Provence
ATTACH;FMTTYPE=image/jpeg:https://museesetcentresdart.caprovenceverte.fr/wp-content/uploads/2022/10/Atelier_enfants_toussaints_pages-00000002_Page_2-e1665042868204.jpg
END:VEVENT
BEGIN:VEVENT
DTSTART;TZID=Europe/Paris:20221026T143000
DTEND;TZID=Europe/Paris:20221102T163000
DTSTAMP:20260421T102121
CREATED:20221006T083859Z
LAST-MODIFIED:20221010T123444Z
UID:1912-1666794600-1667406600@museesetcentresdart.caprovenceverte.fr
SUMMARY:Programme Ateliers enfants – Toussaint 2022
DESCRIPTION:L’équipe du Musée des Gueules Rouges vous donne rendez-vous les mercredis 26 octobre et 2 novembre pour des ateliers riches en découverte et créativité artistique.\n   \nMercredi 26 octobre : Public : 8 – 12 ans – Durée 2h \nMercredi 2 novembre : Public : 6 – 12 ans – Durée 2h \nTarif : 4 € – Réservation obligatoire auprès de l’OIT\n04 94 72 04 21\ncontact@provenceverteverdon.fr \nProgramme complet à télécharger ici ⇒ Ateliers enfants Toussaint 2022
URL:https://museesetcentresdart.caprovenceverte.fr/event/programme-ateliers-enfants-toussaint-2022-2/
LOCATION:Musée des Gueules Rouges
CATEGORIES:Général - Accueil,Musée des Gueules Rouges
ATTACH;FMTTYPE=image/jpeg:https://museesetcentresdart.caprovenceverte.fr/wp-content/uploads/2022/10/Atelier_enfants_toussaints_pages-00000002_Page_4-e1665044468141.jpg
END:VEVENT
BEGIN:VEVENT
DTSTART;TZID=Europe/Paris:20221028T190000
DTEND;TZID=Europe/Paris:20221028T203000
DTSTAMP:20260421T102121
CREATED:20220909T081658Z
LAST-MODIFIED:20220922T080126Z
UID:1763-1666983600-1666989000@museesetcentresdart.caprovenceverte.fr
SUMMARY:Le centre d'art en tournée - Sortie de la résidence ROUVRIR LE MONDE de l'autrice et plasticienne Faustine Reibaud-Nicoli
DESCRIPTION:Soirée poésie en compagnie de l’autrice et plasticienne Faustine Reibaud-Nicoli à la librairie du Bateau Blanc à Brignoles à l’occasion de la présentation de son nouveau recueil Fille de l’air réalisé dans le cadre du dispositif « Rouvrir le Monde de la DRAC PACA etde l’été culturel 2022 mis en place par le Ministère de la Culture » dans la continuité du travail mis en place par le centre d’art avec l’Hôpital Henri Guérin de Pierrefeu et ses différentes antennes.\n\n\n \n\n\nAu programme : \n\n\nLecture musicale par Miquèu Montanaro et Lisa Pagès \n\n\nEntretien animé par Valentin Artus et échange avec le public \n\n\n \n\n\nA découvrir :\n\n\n10 premiers livres en tirage limité\, une quarantaine de textes et des linogravures originales numérotées et signées\, mais aussi de petits et grands formats indépendants à la vente.\n\n\n \n\n\nLa semaine de résidence de création au Centre d’Art Contemporain de Châteauvert a permis à l’artiste d’explorer l’aspect graphique du projet. En effet\, en lien avec les textes\, elle réalise des dessins à la plume tirés ensuite en linogravure. Le rapprochement du dessin et de l’écriture l’intéresse tout particulièrement. Ils font espace à leur manière à la fois dans la page\, dans le corps par le geste\, et par l’imaginaire qu’attrait les lignes\, la projection. L’impression\, du souvenir à la trace\, semble alors être le medium le plus adapté à ce que Faustine souhaite donner à lire et à voir.\n\n\n« Fille de l’air tente une plongée intime dans l’espace du jardin et du corps de la femme. Les poèmes s’articulent comme une sorte de discours morcelé\, de questionnement\, un ensemble de pensées. Celles d’une femme seule qui dialogue avec-dans un jardin. L’ensemble est assez sonore et sensoriel\, j’essaye d’y développer un espace complet\, dimensionnel\, en permanente balance entre intérieur et extérieur\, réalité et songe. Le jardin est enveloppant\, happant\, il appelle\, comme un brame lointain. Femme et jardin se donnent rendez-vous à une certaine heure du jour ou de la nuit. Le jardin c’est aussi le fantasme\, la zone du mythe\, où l’on y rencontre des êtres rêvés\, des êtres impossibles\, infinis. Le jardin comme un atelier : Fille de l’air regroupe également un travail de dessin et de linogravure. Le rapprochement du tracé et de l’écriture m’intéresse tout particulièrement dans la connivence du geste\, de la projection\, de l’espace. La linogravure comme une trace laissée\, une empreinte ou une impression\, a la substance du souvenir\, ce même souvenir qui me pousse à écrire. »\n\n \n\n\nUn événement proposée par l’association Outrevert\, les ami.e.s du centre d’art\n\nRéservation pour la lecture au 04 94 59 04 95
URL:https://museesetcentresdart.caprovenceverte.fr/event/le-centre-dart-en-tournee-sortie-de-residence-de-lautrice-et-plasticienne-faustine-reibaud-nicoli/
CATEGORIES:Centre d'Art de Châteauvert,Général - Accueil
ATTACH;FMTTYPE=image/jpeg:https://museesetcentresdart.caprovenceverte.fr/wp-content/uploads/2022/09/IMG_4245-scaled.jpg
END:VEVENT
END:VCALENDAR