BEGIN:VCALENDAR
VERSION:2.0
PRODID:-//Musées et centres d&#039;art - ECPv6.15.20//NONSGML v1.0//EN
CALSCALE:GREGORIAN
METHOD:PUBLISH
X-WR-CALNAME:Musées et centres d&#039;art
X-ORIGINAL-URL:https://museesetcentresdart.caprovenceverte.fr
X-WR-CALDESC:Évènements pour Musées et centres d&#039;art
REFRESH-INTERVAL;VALUE=DURATION:PT1H
X-Robots-Tag:noindex
X-PUBLISHED-TTL:PT1H
BEGIN:VTIMEZONE
TZID:Europe/Paris
BEGIN:DAYLIGHT
TZOFFSETFROM:+0100
TZOFFSETTO:+0200
TZNAME:CEST
DTSTART:20210328T010000
END:DAYLIGHT
BEGIN:STANDARD
TZOFFSETFROM:+0200
TZOFFSETTO:+0100
TZNAME:CET
DTSTART:20211031T010000
END:STANDARD
BEGIN:DAYLIGHT
TZOFFSETFROM:+0100
TZOFFSETTO:+0200
TZNAME:CEST
DTSTART:20220327T010000
END:DAYLIGHT
BEGIN:STANDARD
TZOFFSETFROM:+0200
TZOFFSETTO:+0100
TZNAME:CET
DTSTART:20221030T010000
END:STANDARD
BEGIN:DAYLIGHT
TZOFFSETFROM:+0100
TZOFFSETTO:+0200
TZNAME:CEST
DTSTART:20230326T010000
END:DAYLIGHT
BEGIN:STANDARD
TZOFFSETFROM:+0200
TZOFFSETTO:+0100
TZNAME:CET
DTSTART:20231029T010000
END:STANDARD
END:VTIMEZONE
BEGIN:VEVENT
DTSTART;VALUE=DATE:20220617
DTEND;VALUE=DATE:20221010
DTSTAMP:20260421T115815
CREATED:20220609T083615Z
LAST-MODIFIED:20220621T121416Z
UID:1580-1655424000-1665359999@museesetcentresdart.caprovenceverte.fr
SUMMARY:Exposition INFRA ROUGE - Jean Roulin
DESCRIPTION:Exposition INFRA ROUGE : Photographies souterraines de Jean Roulin\nVernissage : vendredi 17 juin à 18h\nPassionné par les lieux abandonnés et mystérieux\, Jean Roulin\, dit J.R. passe une partie de sa vie sous la surface\, loin des gens et du bruit. C’est par le désir de partager sa vision de ces lieux qu’il est venu à la photographie\, apprenant en autodidacte à quelques dizaines de mètres sous terre. Petit à petit\, il a pu perfectionner sa technique dans les catacombes parisiennes\, avant d’étendre son terrain de jeu à toute la France et à l’international. \nPhotographe de l’obscurité\, c’est dans les anciennes mines et carrières abandonnées qu’il réalise ses plus beaux clichés. Il sublime la beauté de ces lieux oubliés en y apportant sa vision artistique\, au travers d’une mise en scène de lumières chaudes et froides. Ses créations photographiques invitent au rêve autant qu’au voyage\, à la découverte d’un nouveau monde. \nJ.R. réalise depuis de nombreuses années des clichés de fonds de mines de bauxite du bassin brignolais. Il sublime les lieux en jouant sur les couleurs et les contrastes. Ses photos révèlent avec force et poésie les vestiges de cette exploitation (restes de matériel\, état des lieux…). \nLe Var constitue l’un de ses terrains de prédilection de par la richesse de son passé minier. Appareil photo à la main\, il capture l’âme des mines et pose la question de l’héritage laissé par les Gueules Rouges du XXe siècle aux archéologues de demain. \nLa couleur\, le clair-obscur\, la profondeur et une vision très brute du matériel\, caractérisent ses clichés. \nCette exposition exceptionnelle\, visible du 18 juin au 9 octobre 2022\, marque les 10 ans du Musée des Gueules Rouges\, ouvert au public pour la première fois le vendredi 15 juin 2012. 
URL:https://museesetcentresdart.caprovenceverte.fr/event/exposition-infra-rouge-vernissage-le-vendredi-17-juin-a-18h/
LOCATION:Musée des Gueules Rouges
CATEGORIES:Général - Accueil,Musée des Gueules Rouges
ATTACH;FMTTYPE=image/png:https://museesetcentresdart.caprovenceverte.fr/wp-content/uploads/2022/06/INFRAROUGE_Plan-de-travail-1-01-e1654767320144.png
END:VEVENT
BEGIN:VEVENT
DTSTART;TZID=Europe/Paris:20220701T180000
DTEND;TZID=Europe/Paris:20220921T180000
DTSTAMP:20260421T115815
CREATED:20220505T151438Z
LAST-MODIFIED:20220922T080303Z
UID:1414-1656698400-1663783200@museesetcentresdart.caprovenceverte.fr
SUMMARY:Bienvenue au jardin - De ma fenêtre\, exposition de Rudy Ayoun
DESCRIPTION:Après des études de langues à Aix-en-Provence\, Rudy Ayoun entre aux Beaux-Arts de Marseille\, trouvant dans la peinture un nouveau langage pour communiquer avec le plus grand nombre. En quatrième année\, il part en Hollande pour un semestre à la Willem de Kooning Academy de Rotterdam où il co-fonde\, avec le soutien de son école\, un atelier-galerie : la Pop Up Gallery Lokaal. Diplômé en juin 2018\, il co-fonde en décembre de la même année l’atelier galerie Destré\, espace libre à Marseille. Il est pensionnaire à la Casa Velasquez en 2020/21. \nLes questions de narration\, de construction et de fragmentation du récit sont centrales dans ses peintures. Elles s’accompagnent en outre d’une réflexion sur l’espace peint. Lieux et objets prennent alors une importance croissante dans ses tableaux\, à mesure que la représentation de la figure humaine se raréfie. Cette absence dessine ainsi une narration en creux\, un jeu d’indices et de questions livrées au spectateur. Qui habite ces espaces ? Qui utilise ces objets ? Avec qui ? Dans quel contexte ? \nLes peintures de Rudy Ayoun\, tout comme leur agencement dans une scénographie particulière\, s’imposent alors comme des fragments d’espace qui dialoguent entre eux. En les combinant\, le spectateur vient combler le hors-champs\, laissant libre cours à une narration implicite qui varie en fonction du point de vue. \nCe positionnement singulier permet à Rudy Ayoun d’examiner la pratique picturale contemporaine de manière plus globale\, à travers une série de questions centrales : quoi peindre aujourd’hui ? Comment le peindre ? Comment le montrer ? Il réalise en septembre 2021 ses premiers paysages dans l’atelier situé dans l’ancien presbytère du village dans le cadre de l’Eté Culturel mis en place par le Ministère de la Culture durant laquelle il interviendra au sein de la maison des enfants L’Essor. Ce sont ces paysages qui sont exposés dans l’atelier du centre d’art.
URL:https://museesetcentresdart.caprovenceverte.fr/event/de-ma-fenetre-exposition-de-rudy-ayoun/
CATEGORIES:Centre d'Art de Châteauvert,Général - Accueil
ATTACH;FMTTYPE=image/png:https://museesetcentresdart.caprovenceverte.fr/wp-content/uploads/2022/05/Rudy-Ayoun-San-stitre-2021.png
END:VEVENT
BEGIN:VEVENT
DTSTART;TZID=Europe/Paris:20220701T180000
DTEND;TZID=Europe/Paris:20221127T180000
DTSTAMP:20260421T115815
CREATED:20220217T134606Z
LAST-MODIFIED:20220623T085754Z
UID:1248-1656698400-1669572000@museesetcentresdart.caprovenceverte.fr
SUMMARY:Habitats sauvages\, exposition de Léna Durr
DESCRIPTION:Léna Durr\, Jean-Philippe\, 2022 – Courtesy de l’artiste et du centre d’art contemporain de Châteauvert – © Léna Durr \nLéna Durr s’intéresse aux normes et marges de la société qu’elle met en scène dans un travail photographique toujours tendre et un peu nostalgique. L’œuvre et le quotidien de l’artiste ne font qu’un puisqu’elle vit elle-même dans un mobil-home\, à Cuers dans le Var\, au milieu d’objets collectés depuis son adolescence. Habitats sauvages est à la fois un travail dans la lignée de ses recherches et le fruit de son travail de plusieurs mois en résidence en 2020 au centre d’art en partenariat avec l’ESADPTM. \n« S’il n’en existe pas de définition consacrée\, la notion d’habitats sauvages\, choisie par l’artiste pour qualifier les lieux de vies des personnes qu’elle est allée rencontrer\, permet à la fois d’embrasser la complexité de son approche et l’hétérogénéité des situations observées. \nPar opposition à la notion de domestique\, qui renvoie à l’idée de la maison conventionnelle\, celle de sauvage témoigne d’une volonté de s’inscrire dans un mode d’habiter non-conventionnel\, en marge ou en lisière de la société. Le sauvage\, c’est-ce qu’on ne connaît pas\, ce qui n’a pas été domestiqué. Le sauvage fait peur pour ce qu’il s’écarte des standards sociétaux. \nPour les écologues\, les habitats sauvages s’appliquent aux milieux naturels au sein desquels les animaux évoluent. Dans des espaces naturels\, agricoles ou forestiers\, ces habitants de mobilhome\, caravanes\, cabanes\, yourte\, et autres constructions démontables\, que l’artiste nous présente\, passent l’essentiel de leur temps à l’extérieur et ont en commun avec les animaux sauvages\, la vie en plein-air\, au plus près de la nature et des saisons. Avec leurs tailles modestes\, leurs procédés auto-constructifs\, et la sobriété qui les caractérise\, leurs habitats ne sont pas sans rappeler les nids ou les terriers des animaux de la forêt. \nA travers ses portraits de personnes qui vivent dans des habitats sauvages\, Léna Durr s’appuie sur un travail ethnographique et documentaire pour déployer un récit intime et bienveillant\, dans lequel elle donne à voir des parcours et des modes de vie\, qui échappent aux règles établies\, en décalage et en résistance face à des normes imposées\, des territoires instables où les notions de richesse\, de bonheur et de temps libre sont remises en question. » Alexandre Telliez-Moreni \n  \nCommissariat de l’exposition: Lydie Marchi \nCette exposition fait partie de la programmation des Rencontres d’Arles dans le cadre du Grand Arles Express.  \n \n 
URL:https://museesetcentresdart.caprovenceverte.fr/event/habitats-sauvages-exposition-de-lena-durr/
CATEGORIES:Centre d'Art de Châteauvert,Général - Accueil
ATTACH;FMTTYPE=image/png:https://museesetcentresdart.caprovenceverte.fr/wp-content/uploads/2022/02/Capture-1.png
END:VEVENT
BEGIN:VEVENT
DTSTART;VALUE=DATE:20220910
DTEND;VALUE=DATE:20221213
DTSTAMP:20260421T115815
CREATED:20220831T081429Z
LAST-MODIFIED:20220912T130047Z
UID:1721-1662768000-1670889599@museesetcentresdart.caprovenceverte.fr
SUMMARY:Exposition Avis de passage par Nadya Bertaux
DESCRIPTION:Dans cette exposition\, Nadya Bertaux exprime à travers ses sculptures l’importance de la mémoire\, de l’acquis et de la transmission. La puissance de ses installations\, réalisées en résidence au Centre d’art de Châteauvert en juin\, émane de l’apparente tension des fibrilles d’aluminium qui sont en réalité le fruit d’entrecroisements fragiles. \n\nVernissage le vendredi 9 septembre à 18h\n\nÀ découvrir du 10 septembre au 18 décembre 2022 au Musée des Gueules Rouges.
URL:https://museesetcentresdart.caprovenceverte.fr/event/exposition-avis-de-passage-par-nadya-bertaux-vernissage-vendredi-9-septembre-a-18h/
LOCATION:Musée des Gueules Rouges
CATEGORIES:Général - Accueil,Musée des Gueules Rouges
ATTACH;FMTTYPE=image/jpeg:https://museesetcentresdart.caprovenceverte.fr/wp-content/uploads/2022/08/Affiche-Nadya-Bertaux-e1661933548360.jpeg
END:VEVENT
BEGIN:VEVENT
DTSTART;TZID=Europe/Paris:20220911T150000
DTEND;TZID=Europe/Paris:20220911T163000
DTSTAMP:20260421T115815
CREATED:20220606T135839Z
LAST-MODIFIED:20220606T135839Z
UID:1570-1662908400-1662913800@museesetcentresdart.caprovenceverte.fr
SUMMARY:Les ateliers du dimanche
DESCRIPTION:Tous les deuxièmes dimanche du mois\, l’équipe de médiation du centre d’art propose un atelier d’initiation à la linogravure. \nQu’est-ce que la linogravure ? Il s’agit d’ une des techniques de l’estampe\, qui consiste à creuser une plaque de linoléum au moyen de gouges. Une fois gravée la plaque est encrée. Puis\, on passe la plaque et la feuille de papier dans une presse afin d’y déposer l’encre. Une plaque peut servir à imprimer plusieurs feuilles. \nCette technique est l’une des plus simples pour commencer la gravure. Elle permet d’obtenir des résultats satisfaisants rapidement. \n  \nSur inscription auprès de l’OIT : 04 94 72 04 21
URL:https://museesetcentresdart.caprovenceverte.fr/event/les-ateliers-du-dimanche-7/
LOCATION:Centre d’Art contemporain de Chateauvert
CATEGORIES:Centre d'Art de Châteauvert,Général - Accueil
ATTACH;FMTTYPE=image/jpeg:https://museesetcentresdart.caprovenceverte.fr/wp-content/uploads/2022/03/COM-ATELIER-LINO4-1.jpg
END:VEVENT
END:VCALENDAR