BEGIN:VCALENDAR
VERSION:2.0
PRODID:-//Musées et centres d&#039;art - ECPv6.15.20//NONSGML v1.0//EN
CALSCALE:GREGORIAN
METHOD:PUBLISH
X-WR-CALNAME:Musées et centres d&#039;art
X-ORIGINAL-URL:https://museesetcentresdart.caprovenceverte.fr
X-WR-CALDESC:Évènements pour Musées et centres d&#039;art
REFRESH-INTERVAL;VALUE=DURATION:PT1H
X-Robots-Tag:noindex
X-PUBLISHED-TTL:PT1H
BEGIN:VTIMEZONE
TZID:Europe/Paris
BEGIN:DAYLIGHT
TZOFFSETFROM:+0100
TZOFFSETTO:+0200
TZNAME:CEST
DTSTART:20210328T010000
END:DAYLIGHT
BEGIN:STANDARD
TZOFFSETFROM:+0200
TZOFFSETTO:+0100
TZNAME:CET
DTSTART:20211031T010000
END:STANDARD
BEGIN:DAYLIGHT
TZOFFSETFROM:+0100
TZOFFSETTO:+0200
TZNAME:CEST
DTSTART:20220327T010000
END:DAYLIGHT
BEGIN:STANDARD
TZOFFSETFROM:+0200
TZOFFSETTO:+0100
TZNAME:CET
DTSTART:20221030T010000
END:STANDARD
BEGIN:DAYLIGHT
TZOFFSETFROM:+0100
TZOFFSETTO:+0200
TZNAME:CEST
DTSTART:20230326T010000
END:DAYLIGHT
BEGIN:STANDARD
TZOFFSETFROM:+0200
TZOFFSETTO:+0100
TZNAME:CET
DTSTART:20231029T010000
END:STANDARD
END:VTIMEZONE
BEGIN:VEVENT
DTSTART;TZID=Europe/Paris:20220204T180000
DTEND;TZID=Europe/Paris:20220619T180000
DTSTAMP:20260423T122748
CREATED:20220118T111032Z
LAST-MODIFIED:20220304T091636Z
UID:1048-1643997600-1655661600@museesetcentresdart.caprovenceverte.fr
SUMMARY:CHEESE MUSEUM\, exposition de Nicolas BOULARD
DESCRIPTION:Nicolas Boulard\, né en 1976 à Reims\, a fait ses études à l’école supérieure des arts décoratifs de Strasbourg d’où il sort diplômé en art en 2002. Il rejoint ensuite le Collège Invisible\, post-diplôme en réseau de l’école des Beaux-Arts de Marseille. Son travail artistique a été présenté dans plusieurs expositions personnelles en France (Frac Champagne-Ardenne\, Frac Alsace\, Frac Aquitaine\, centre d’art la Halle des bouchers) et à l’étranger (Moma de San Francisco\, Machine Project à Los Angeles\, S-air au Japon). Il vit à Clamart\, en Île de France. \nDepuis près de 20 ans\, cet artiste développe une pratique protéiforme et singulière. Doté d’une parfaite connaissance des règlementations du monde du vin\, c’est en authentique spécialiste que l’artiste a transgressé les normes traditionnelles de production en plantant un vignoble dans une remorque (Clos Mobile 2009)\, en produisant un millésime fantôme du célèbre grand cru de la Romanée Conti (DRC 1946\, 2007) ou en récoltant du raisin dans les supermarchés de Reims pour produire un Grand vin de Reims en 2006. Par ces gestes iconoclastes\, l’intention est de produire de nouvelles formes. Depuis 2010\, il travaille sur un projet intitulé Specific Cheeses\, une étude sur la similitude des formes du Minimal Art et des fromages. Cette recherche artistique s’est développée sous la forme de performances avec la confrérie Specific Cheeses\, de conférences (Cheese Theory et Cheese Analyse) et d’éditions avec les fanzines Specific Cheeses qui compilent dans 12 numéros une anthologie de la représentation du fromage dans les arts du Moyen-âge à nos jours. Que ce soit dans ces projets sur le vin\, le fromage ou le pain\, c’est en pleine conscience des enjeux environnementaux actuels que l’artiste a coopéré avec des personnalités engagées dans des pratiques naturelles et respectueuses des écosystèmes. \nNicolas Boulard réalise des sculptures et des installations en assemblant des références du Minimal art et de l’art conceptuel avec des matériaux organiques issus\, pour la plupart\, de productions alimentaires. Ses œuvres perturbent\, avec beaucoup d’esprit\, l’esthétique aseptisée du minimalisme américain en s’inspirant des formes structurées issues du fromage\, du vin ou du pain. Son travail se caractérise par l’appropriation de matières issues de fermentation pour produire une œuvre atypique et unique : la fermentation est le passage d’un état à un autre où l’action de micro-organismes comme des levures modifie irréversiblement la nature originelle d’une matière. Ce processus de transformation est autant une source d’inspiration qu’une méthode de travail. Par des découpes de bois ou de feutre\, des impressions sur papier en grand format\, des moulages en plâtre ou en bronze\, ses œuvres rendent comptent d’un processus en cours. En s’inspirant d’éléments prélevés dans son environnement quotidien et dans l’histoire de l’art\, ses œuvres prennent une apparence incertaine\, comme prises dans un état intermédiaire. L’esthétique géométrique perturbée par l’utilisation de matières vivantes nous rappelle que l’art est une pratique de la transition. \nPar l’utilisation de matériaux naturels comme le feutre ou le bois\, ses œuvres permettent d’isoler des concepts forts et nous font vivre une expérience particulière. Sa pratique artistique place le spectateur dans une situation ambiguë avec l’œuvre : que ce soit face à l’extravagance ornementale d’une tapisserie réalisée à partir de l’image du penicillium se diffusant dans une tranche de roquefort (Penicillium #1 et #2) ou à la disposition étrange des cavités dans la mie de tranches de pain démesurément agrandies et soigneusement découpées dans des planches de bois de peuplier (Pain #1 et #2). Ces assemblages s’apparentent aux grotesques qui\, à différentes périodes de l’histoire de l’art\, ont intrigué en mettant en avant un goût de l’hybridation\, de la métamorphose et du caricatural. \nPour son exposition intitulée Cheese Museum au centre d’art de Châteauvert\, Nicolas Boulard a souhaité regrouper des œuvres récentes. Le partie pris d’une scénographie muséale immerge le visiteur dans un environnement structuré par des œuvres de grand format\, des sculptures et une sélection d’objets provenant des collections du Mucem. Dans le sillage des musées d’artistes comme celui de Marcel Broodthaers ou de Martin Kippenberger\, le Cheese Museum est une institution temporaire\, une exposition vivante au développement organique dans laquelle se croisent des œuvres\, des formes et des idées. Un espace où les individuations se construisent. \nCommissariat : Lydie Marchi \n 
URL:https://museesetcentresdart.caprovenceverte.fr/event/nicolas-boulard-cheese-museum/
CATEGORIES:Centre d'Art de Châteauvert,Général - Accueil
ATTACH;FMTTYPE=image/jpeg:https://museesetcentresdart.caprovenceverte.fr/wp-content/uploads/2022/01/CHEESE-MUSEUM-small.jpg
END:VEVENT
BEGIN:VEVENT
DTSTART;VALUE=DATE:20220604
DTEND;VALUE=DATE:20220829
DTSTAMP:20260423T122748
CREATED:20220519T124909Z
LAST-MODIFIED:20220609T081603Z
UID:1516-1654300800-1661731199@museesetcentresdart.caprovenceverte.fr
SUMMARY:Exposition La Roche et l’Ether
DESCRIPTION:LA ROCHE et L’ETHER – Exposition collective avec :\nGeorges BRU\, Jean-Marie CARTEREAU\, Guy IBANEZ\, Magali LATIL\, Antoine SIMON\, Carla VAN DER WERF \nTemps fort de la programmation annuelle du musée des Gueules Rouges\, l’exposition LA ROCHE et L’ETHER est née sous l’impulsion du peintre varois Jean-Marie Cartereau qui a imaginé associer LA ROCHE\, matière brute à laquelle se confrontaient les mineurs lors de l’extraction du minerai bauxite\, et L’ETHER\, état gazeux final impalpable à force de manipulations. \nLa mine\, la bauxite et le mineur sont au cœur du propos de chacun des artistes qui se sont attachés à réaliser un ensemble de nouvelles œuvres en écho au patrimoine industriel de l’Agglomération Provence Verte qui est ici\, plus que jamais\, source d’inspiration. \nUn texte du poète Antoine Simon accompagne cette exposition et fait de la publication qui accompagne l’exposition un véritable objet littéraire. \nLA ROCHE et L’ETHER s’inscrit dans une volonté de soutenir la création d’œuvres nouvelles avec une diversité d’expressions. Depuis plusieurs années\, la programmation en art contemporain du musée des Gueules Rouges se veut ouverte sur des pratiques favorisant la porosité des champs d’expression et la diversité des publics. C’est dans cette continuité que LA ROCHE et L’ETHER a été conçue. Cette exposition se veut naturellement conviviale\, dans un souci de dialogue et d’échange. \nProgrammation  \n\n7 juillet à 18h : Visite de l’exposition par Evelyne Artaud\, commissaire d’exposition indépendante et lecture performée du poète Antoine Simon\n24 août à 18h : Performance de Guy Ibanez\n\nAteliers des vacances scolaires  \nLA ROCHE et L’ETHER est l’occasion pour le musée des Gueules Rouges de proposer une série d’ateliers animés par les artistes de l’exposition.
URL:https://museesetcentresdart.caprovenceverte.fr/event/exposition-la-roche-et-lether/
LOCATION:Musée des Gueules Rouges
CATEGORIES:Général - Accueil,Musée des Gueules Rouges
ATTACH;FMTTYPE=image/png:https://museesetcentresdart.caprovenceverte.fr/wp-content/uploads/2022/05/AFFICHEMGRROCHE_Plan-de-travail-1-e1652780396890.png
END:VEVENT
END:VCALENDAR