BEGIN:VCALENDAR
VERSION:2.0
PRODID:-//Musées et centres d&#039;art - ECPv6.15.20//NONSGML v1.0//EN
CALSCALE:GREGORIAN
METHOD:PUBLISH
X-WR-CALNAME:Musées et centres d&#039;art
X-ORIGINAL-URL:https://museesetcentresdart.caprovenceverte.fr
X-WR-CALDESC:Évènements pour Musées et centres d&#039;art
REFRESH-INTERVAL;VALUE=DURATION:PT1H
X-Robots-Tag:noindex
X-PUBLISHED-TTL:PT1H
BEGIN:VTIMEZONE
TZID:Europe/Paris
BEGIN:DAYLIGHT
TZOFFSETFROM:+0100
TZOFFSETTO:+0200
TZNAME:CEST
DTSTART:20200329T010000
END:DAYLIGHT
BEGIN:STANDARD
TZOFFSETFROM:+0200
TZOFFSETTO:+0100
TZNAME:CET
DTSTART:20201025T010000
END:STANDARD
BEGIN:DAYLIGHT
TZOFFSETFROM:+0100
TZOFFSETTO:+0200
TZNAME:CEST
DTSTART:20210328T010000
END:DAYLIGHT
BEGIN:STANDARD
TZOFFSETFROM:+0200
TZOFFSETTO:+0100
TZNAME:CET
DTSTART:20211031T010000
END:STANDARD
BEGIN:DAYLIGHT
TZOFFSETFROM:+0100
TZOFFSETTO:+0200
TZNAME:CEST
DTSTART:20220327T010000
END:DAYLIGHT
BEGIN:STANDARD
TZOFFSETFROM:+0200
TZOFFSETTO:+0100
TZNAME:CET
DTSTART:20221030T010000
END:STANDARD
END:VTIMEZONE
BEGIN:VEVENT
DTSTART;VALUE=DATE:20210519
DTEND;VALUE=DATE:20211129
DTSTAMP:20260424T020423
CREATED:20210603T122543Z
LAST-MODIFIED:20210708T143728Z
UID:587-1621382400-1638143999@museesetcentresdart.caprovenceverte.fr
SUMMARY:"Deep in the Wood" par Pierre Beloüin
DESCRIPTION:Né en 1973 à Toulon\, Pierre Beloüin a passé son enfance à Salernes\, dans le Haut-Var. \nPierre Beloüin a été diplômé de l’École nationale supérieure des Beaux-Arts de Paris en 1999. Il est membre fondateur de la galerie Glassbox (1997) et créateur du label et de la plateforme collaborative Optical Sound (1997). Artiste hybride et iconoclaste\, directeur artistique et homme-orchestre à ses heures\, Pierre Beloüin est par ailleurs enseignant à l’École supérieure d’art et de design de Toulon. Son travail a été montré dans de nombreuses institutions en France et à l’étranger. Ses œuvres font partie de collections publiques et privées (Centre national des arts plastiques (Paris)\, Espace de l’art concret (Mouans-Sartoux)\, (Mécènes du Sud…). Sa dernière monographie a été récemment publiée par les Presses du Réel. \nLes titres de ses expositions empruntent à une certaine histoire de la musique. La présente exposition\, « Deep In The Wood »\, réfère à un morceau du groupe punk-rock australien Birthday Party qui résonne avec toutes les œuvres exposées. \nPierre Beloüin traduit – à première vue et comme souvent dans ses projets – l’environnement immédiat de manière littérale. Il est question ici de celui du Centre d’art contemporain de Châteauvert : une sorte de Twin Peaks à la française chargée de forces étranges et telluriques … \nPierre Beloüin opère à sa façon en invitant des amitiés visibles ou quasiment imperceptibles. C’est le cas de la formation musicale et expérimentale anglaise Nurse With Wound\, qui est en charge de la bande sonore de l’exposition. \nL’artiste réactive en outre le travail d’un peintre local du XIXe siècle\, Charles Vourrial\, avec l’accrochage d’une bataille navale. Le principal espace d’exposition est organisé autour d’un podium central – sorte de catwalk sans mannequin et vestige d’un défilé invisible\, avec un conifère planté à son extrémité\, l’ensemble étant encadré par des caissons lumineux typographiés et un bas-relief vinicole constitué de bouteilles. \nÀ ce dispositif seront associées sur la durée de l’exposition la plasticienne sonore Alice Dourlen\, la danseuse Florie Laroche et les groupes Hifiklub et Lune Apache. Dans le jardin de sculptures\, une installation littéralement sortie de terre de l’artiste génétiquement modifié Ludovic Chemarin© parachève l’ensemble. \nL’installation Icosajack : V/a (OS.024)\, sculpture sonore en étoile de la collection du FRAC Provence-Alpes-Côte d’Azur (PACA)\, présente l’intégralité des albums édités par le label Optical Sound (1997-2020) dans l’espace documentaire qui surplombe la salle d’exposition. \nL’exposition « Deep In The Wood » est le lieu de la convergence d’ondes et de formes\, brillantes et vibrantes lucioles frétillant au fond d’un white cube en perte de de lumière et d’incarnation. Loin des conventions\, les œuvres génèrent leur propre espace dans un épanouissement proche du sublime. \n  \nCliquez ici pour retrouver toutes les informations à propos expositions visitables cet été au sein des établissements culturels de l’Agglomération Provence Verte. \n 
URL:https://museesetcentresdart.caprovenceverte.fr/event/expo-deep-in-the-wood-par-p-belouin/
LOCATION:Centre d’Art contemporain de Chateauvert
CATEGORIES:Centre d'Art de Châteauvert
ATTACH;FMTTYPE=image/jpeg:https://museesetcentresdart.caprovenceverte.fr/wp-content/uploads/2021/07/affiche-belouin.jpg
END:VEVENT
BEGIN:VEVENT
DTSTART;VALUE=DATE:20210521
DTEND;VALUE=DATE:20210920
DTSTAMP:20260424T020423
CREATED:20210603T114431Z
LAST-MODIFIED:20210708T143656Z
UID:564-1621555200-1632095999@museesetcentresdart.caprovenceverte.fr
SUMMARY:"Dark Side of the Moon" par Quentin Spohn
DESCRIPTION:S’inspirant à la fois de l’histoire du lieu et du village\, de mythes et de l’actualité\, Quentin Spohn livre une nouvelle fresque inspirée par Bacchus prenant place sur les murs de la cave coopérative abritant le centre d’art. Cette fresque se mêle à des œuvres récentes réalisées dans le secret de son atelier niçois et à des œuvres plus anciennes. « Dark side of the moon »\, emprunté au groupe Pink Floyd\, invite à l’immersion dans un univers parallèle à la fois familier et à la fois totalement fantasmagorique… \n  \n« Ma pratique\, qui est avant tout basée sur le dessin\, se construit autour de deux axes : j’essaye de mettre en image\, souvent avec décalage et humour\, ma perception de la société et dans un même temps de trouver un terrain d’expression à mes propres obsessions. De sorte\, mon travail est à la fois très inspiré de mouvements picturaux telles que la Nouvelle Objectivité et l’Ashcan School qui proposaient un point de vue critique sur le monde\, de même qu’il se situe un peu dans un certain héritage de recherches surréalistes autour de l’expression refoulée et de l’obsessionnel. Un peintre comme Otto Dix a eu autant d’importance par rapport au développement de ma pratique qu’un artiste comme Dado\, dont l’oeuvre a été qualifiée de post-surréaliste. \nOn retrouve\, dans certain nombre de mes réalisations\, cette tendance à mêler réel et merveilleux\, à introduire de l’étrange dans un cadre réaliste\, comme ont pu le faire des artistes américains que l’on a rattaché au Réalisme magique. J’ai en effet été assez fortement influencé par les oeuvres de peintres comme Georges Tooker et Paul Cadmus qui représentaient des scènes où le quotidien côtoie le fantastique avec parfois une dimension burlesque. Par ailleurs\, les différents thèmes sur lesquels je travaille m’amènent aussi à revisiter un certain nombre de genres picturaux traditionnels comme le portrait\, la scène de guerre\, le paysage en m’inspirant à la fois d’une certaine culture picturale et de la culture populaire dont je suis assez fortement imprégné. Les dessins que je réalise peuvent par ailleurs renvoyer à des iconographies assez éloignées comme le dessin satyrique et l’imagerie fantastique. » Q. Spohn. \nNé en 1984\, Quentin Spohn vit et travaille à Nice. Diplômé de la Villa Arson en 2013\, il a remporté en 2018 le prix de la jeune cération de la Biennale Internationale de Saint-Paul-de-Vence\, en 2017 les Prix Art Collector\, Jennifer Faly et La Cave Filaf\, en 2017 le Prix Yishu8 ainsi qu’en 2013 le prix de la jeune création contemporaine de la ville de Nice—Fondation Bernar Venet \n  \nCliquez ici pour retrouver toutes les informations à propos des expositions visitables cet été au sein des établissements culturels de l’Agglomération Provence Verte.
URL:https://museesetcentresdart.caprovenceverte.fr/event/expo-dark-side-of-the-moon-par-q-spohn/
LOCATION:Centre d’Art de Sainte-Anastasie
CATEGORIES:Centre d'Art de Sainte-Anastasie
ATTACH;FMTTYPE=image/jpeg:https://museesetcentresdart.caprovenceverte.fr/wp-content/uploads/2021/07/affiche-spohn.jpg
END:VEVENT
BEGIN:VEVENT
DTSTART;VALUE=DATE:20210707
DTEND;VALUE=DATE:20210901
DTSTAMP:20260424T020423
CREATED:20210712T092759Z
LAST-MODIFIED:20210824T120550Z
UID:666-1625616000-1630454399@museesetcentresdart.caprovenceverte.fr
SUMMARY:Programme ateliers enfants - Été 2021
DESCRIPTION:Pour l’été 2021\, les Musées et Centres d’Art de l’Agglomération Provence Verte ont prévu un grand nombre d’animations à destination des enfants et des familles.\n  \nAu total\, plus de 50 rendez-vous sont proposés tout au long de l’été au sein du Centre d’Art de Châteauvert\, du Centre d’Art de Sainte-Anastasie\, du Musée des Gueules Rouges et du Musée des Comtes de Provence. \n  \nCliquez ici pour accéder au programme complet et bénéficier d’informations supplémentaires.
URL:https://museesetcentresdart.caprovenceverte.fr/event/programme-ateliers-enfants-ete-2021/
CATEGORIES:Centre d'Art de Châteauvert,Centre d'Art de Sainte-Anastasie,Musée des Comtes de Provence,Musée des Gueules Rouges
ATTACH;FMTTYPE=image/png:https://museesetcentresdart.caprovenceverte.fr/wp-content/uploads/2021/07/ateliers_enfants2021.png
END:VEVENT
END:VCALENDAR