BEGIN:VCALENDAR
VERSION:2.0
PRODID:-//Musées et centres d&#039;art - ECPv6.15.20//NONSGML v1.0//EN
CALSCALE:GREGORIAN
METHOD:PUBLISH
X-WR-CALNAME:Musées et centres d&#039;art
X-ORIGINAL-URL:https://museesetcentresdart.caprovenceverte.fr
X-WR-CALDESC:Events for Musées et centres d&#039;art
REFRESH-INTERVAL;VALUE=DURATION:PT1H
X-Robots-Tag:noindex
X-PUBLISHED-TTL:PT1H
BEGIN:VTIMEZONE
TZID:Europe/Paris
BEGIN:DAYLIGHT
TZOFFSETFROM:+0100
TZOFFSETTO:+0200
TZNAME:CEST
DTSTART:20240331T010000
END:DAYLIGHT
BEGIN:STANDARD
TZOFFSETFROM:+0200
TZOFFSETTO:+0100
TZNAME:CET
DTSTART:20241027T010000
END:STANDARD
BEGIN:DAYLIGHT
TZOFFSETFROM:+0100
TZOFFSETTO:+0200
TZNAME:CEST
DTSTART:20250330T010000
END:DAYLIGHT
BEGIN:STANDARD
TZOFFSETFROM:+0200
TZOFFSETTO:+0100
TZNAME:CET
DTSTART:20251026T010000
END:STANDARD
BEGIN:DAYLIGHT
TZOFFSETFROM:+0100
TZOFFSETTO:+0200
TZNAME:CEST
DTSTART:20260329T010000
END:DAYLIGHT
BEGIN:STANDARD
TZOFFSETFROM:+0200
TZOFFSETTO:+0100
TZNAME:CET
DTSTART:20261025T010000
END:STANDARD
END:VTIMEZONE
BEGIN:VEVENT
DTSTART;TZID=Europe/Paris:20250220T143000
DTEND;TZID=Europe/Paris:20250220T163000
DTSTAMP:20260419T135119
CREATED:20250117T153208Z
LAST-MODIFIED:20250122T105741Z
UID:3553-1740061800-1740069000@museesetcentresdart.caprovenceverte.fr
SUMMARY:Contemporary Art Thursdays - For the 6/12 years old - Atelier "Tomettes revisited"
DESCRIPTION:Contemporary Art Thursdays are an invitation to an introduction to contemporary art for children from 6 to 12 years during school holidays. \nIls découvriront au cours d’une visite ludique l’exposition en cours avant de participer à un atelier de pratiques artistiques en lien avec l’exposition… Une expérience amusante et éducative qui ne manquera pas de les étonner. \nCe jeudi : Après avoir découvert la toute dernière œuvre du jardin de sculptures\, experiments with the modeling technique and creates an original and offbeat clay tile on the theme of the garden. \nSur inscription auprès de l’Office du Tourisme : 04 94 72 04 21
URL:https://museesetcentresdart.caprovenceverte.fr/event/les-jeudis-de-lart-contemporain-pour-les-6-12-ans-atelier-tomettes-revisitees/
LOCATION:Centre d’Art contemporain de Chateauvert
CATEGORIES:Centre d'Art de Châteauvert,General - Accueil
ATTACH;FMTTYPE=image/jpeg:https://museesetcentresdart.caprovenceverte.fr/wp-content/uploads/2025/01/ATELIER-ENFANT-tomettes-revisitees-li.jpg
END:VEVENT
END:VCALENDAR