BEGIN:VCALENDAR
VERSION:2.0
PRODID:-//Musées et centres d&#039;art - ECPv6.15.20//NONSGML v1.0//EN
CALSCALE:GREGORIAN
METHOD:PUBLISH
X-WR-CALNAME:Musées et centres d&#039;art
X-ORIGINAL-URL:https://museesetcentresdart.caprovenceverte.fr
X-WR-CALDESC:Events for Musées et centres d&#039;art
REFRESH-INTERVAL;VALUE=DURATION:PT1H
X-Robots-Tag:noindex
X-PUBLISHED-TTL:PT1H
BEGIN:VTIMEZONE
TZID:Europe/Paris
BEGIN:DAYLIGHT
TZOFFSETFROM:+0100
TZOFFSETTO:+0200
TZNAME:CEST
DTSTART:20230326T010000
END:DAYLIGHT
BEGIN:STANDARD
TZOFFSETFROM:+0200
TZOFFSETTO:+0100
TZNAME:CET
DTSTART:20231029T010000
END:STANDARD
BEGIN:DAYLIGHT
TZOFFSETFROM:+0100
TZOFFSETTO:+0200
TZNAME:CEST
DTSTART:20240331T010000
END:DAYLIGHT
BEGIN:STANDARD
TZOFFSETFROM:+0200
TZOFFSETTO:+0100
TZNAME:CET
DTSTART:20241027T010000
END:STANDARD
BEGIN:DAYLIGHT
TZOFFSETFROM:+0100
TZOFFSETTO:+0200
TZNAME:CEST
DTSTART:20250330T010000
END:DAYLIGHT
BEGIN:STANDARD
TZOFFSETFROM:+0200
TZOFFSETTO:+0100
TZNAME:CET
DTSTART:20251026T010000
END:STANDARD
END:VTIMEZONE
BEGIN:VEVENT
DTSTART;VALUE=DATE:20240323
DTEND;VALUE=DATE:20241216
DTSTAMP:20260420T025546
CREATED:20240412T132216Z
LAST-MODIFIED:20240412T132216Z
UID:3150-1711152000-1734307199@museesetcentresdart.caprovenceverte.fr
SUMMARY:Exposition L'Aluminium\, a metal of Champions !
DESCRIPTION:L’Aluminium\, a metal of Champions ! The exhibition 2024 au Musée des Gueules Rouges\nEn partenariat avec le Musée National du Sport à Nice et l’Institut pour l’Histoire de l’Aluminium de Paris\, le musée des Gueules Rouges\, présente\, from March to December 2024\, l’exposition « L’aluminium\, a metal of champions ! » on the theme of aluminum to conquer the sporting environment and in the service of performance. Plus d’une centaine d’objets et équipements sportifs\, maquettes de bateaux\, iconographic and audiovisual archives will be presented. \nExploits\, performances\, succès et victoires dépendent avant tout des athlètes\, sports and sports. Mais ils sont aussi dépendants des équipements et du matériel\, ainsi la compétition dépasse la seule performance humaine et concerne les équipements\, matériels et matériaux.\nCette exposition a pour ambition de montrer l’évolution technologique des équipements sportifs grâce à l’utilisation de l’aluminium et son impact sur l’amélioration des performances. En effet\, it is after 1940 that aluminum is used in the manufacture of many equipment : perches\, bâtons de ski\, cadres de vélo\, bateaux de compétition\, flèches de tir à l’arc\, raquettes de tennis\, mais aussi accessoires de protection comme les casques\, les chaussures de sport et bien plus encore… Plus tard\, ces avancées techniques se démocratisent et arrivent à la portée de l’ensemble des pratiquants.\nCe thème a été choisi à l’occasion des Jeux Olympiques et Paralympiques d’été de 2024\, célébrés à Paris\, and everywhere in France. \nUne exposition réalisée en étroite collaboration avec l’Institut pour l’Histoire de l’Aluminium\, le Musée National du Sport\, des collectionneurs passionnés\, sports equipment companies and the French Handisport Federation. \nAluminium\, Citius\, altius\, fortius – Plus haut\, plus vite\, plus fort \nIndustriels et concepteurs d’équipements sportifs travaillent en étroite collaboration avec les champions pour faire évoluer le matériel\, because aluminum and its alloys make it possible to design more efficient and effective equipment. Très vite\, records fall. Dans un second temps\, these advances are becoming more popular and are within the reach of amateur athletes. Après des années de conquête\, l’aluminium\, widely used over the years 1950-1970\, est lui-même ensuite concurrencé par d’autres matériaux comme les fibres de verre\, de carbone… Pour quelques activités sportives\, et pour certaines pratiques amateurs\, aluminum and its alloys, however, remain current materials. \n \nL’exposition « L’Aluminium\, a metal of champions ! » se focalise sur trois grandes disciplines ayant noué des liens particulièrement ténus avec l’aluminium : le cyclisme\, mountain sports and sailing. \nLe feu de l’Olympe\, at flam-luminium ? \n \nLa plupart des torches des Jeux olympiques d’été (5 aside)\, are entirely or partly made of aluminum. La conception des torches\, loin d’être anecdotique\, is the support of many symbols. \nTorche olympique\, Atlanta 1996 \nLa torche en aluminium\, laiton et bois de pacanier\, porte : \n\nLa liste des jeux d’été de 1896 to 1996 est gravée sur le manche en bois\n22 tiges d’aluminium représentant le nombre d’éditions de jeux olympiques d’été\nUne connexion entre le ciel\, la terre et la flamme olympique grâce au bois d’origine locale\, don d’agriculteurs.\n\nAthènes 2004\, XVIIIe olympiade \nLa torche est composée de bois d’olivier et d’aluminium : l’olivier\, arbre sacré des peuples méditerranéens\, symbol of the city of Athens and peace ; l’aluminium occupant une place majeure en Grèce depuis la fondation du complexe industriel à Agios Nikolaos\, sur le golfe de Corinthe\, in 1960. \nTokyo 2020\, XXIIe olympiade \nL’aluminium recyclé\, present at the height of 30 % environ dans chacune des torches\, was originally used for prefabricated temporary housing for victims of the earthquake that struck the Tohoku region in 2011. \n© collection photographique de L’Aluminium français\,  Institut pour l’histoire de l’aluminium @ Adobe Stock \nLe Musée des Gueules Rouges à Tourves \nLe musée des Gueules Rouges retrace le long d’un parcours de visite ludique\, the history of bauxite mining in the Var. En visite libre grâce aux bornes interactives\, vous découvrirez l’origine de la bauxite\, les techniques de transformation de ce minerai en aluminium et les utilisations d’hier et d’aujourd’hui de ce métal d’exception. Accompagné d’un guide\, you can also dive into the heart of the life of miners and explore the reconstructed mine gallery. \nInfos pratiques – contact \n\nAccès : Avenue de la Libération – 83170 Tourves\nVenir à Tourves : A8\, sortie 35\, direction Tourves\nContact : 04.94.86.19.63 – mgr@caprovenceverte.fr
URL:https://museesetcentresdart.caprovenceverte.fr/event/exposition-laluminium-un-metal-de-champions/
LOCATION:Musée des Gueules Rouges
CATEGORIES:General - Homepage,Musée des Gueules Rouges
ATTACH;FMTTYPE=image/png:https://museesetcentresdart.caprovenceverte.fr/wp-content/uploads/2024/04/Alu_sport_v4.png
END:VEVENT
END:VCALENDAR