BEGIN:VCALENDAR
VERSION:2.0
PRODID:-//Musées et centres d&#039;art - ECPv6.15.20//NONSGML v1.0//EN
CALSCALE:GREGORIAN
METHOD:PUBLISH
X-WR-CALNAME:Musées et centres d&#039;art
X-ORIGINAL-URL:https://museesetcentresdart.caprovenceverte.fr
X-WR-CALDESC:Events for Musées et centres d&#039;art
REFRESH-INTERVAL;VALUE=DURATION:PT1H
X-Robots-Tag:noindex
X-PUBLISHED-TTL:PT1H
BEGIN:VTIMEZONE
TZID:Europe/Paris
BEGIN:DAYLIGHT
TZOFFSETFROM:+0100
TZOFFSETTO:+0200
TZNAME:CEST
DTSTART:20220327T010000
END:DAYLIGHT
BEGIN:STANDARD
TZOFFSETFROM:+0200
TZOFFSETTO:+0100
TZNAME:CET
DTSTART:20221030T010000
END:STANDARD
BEGIN:DAYLIGHT
TZOFFSETFROM:+0100
TZOFFSETTO:+0200
TZNAME:CEST
DTSTART:20230326T010000
END:DAYLIGHT
BEGIN:STANDARD
TZOFFSETFROM:+0200
TZOFFSETTO:+0100
TZNAME:CET
DTSTART:20231029T010000
END:STANDARD
BEGIN:DAYLIGHT
TZOFFSETFROM:+0100
TZOFFSETTO:+0200
TZNAME:CEST
DTSTART:20240331T010000
END:DAYLIGHT
BEGIN:STANDARD
TZOFFSETFROM:+0200
TZOFFSETTO:+0100
TZNAME:CET
DTSTART:20241027T010000
END:STANDARD
END:VTIMEZONE
BEGIN:VEVENT
DTSTART;TZID=Europe/Paris:20230513T180000
DTEND;TZID=Europe/Paris:20231126T000000
DTSTAMP:20260420T201044
CREATED:20230509T091814Z
LAST-MODIFIED:20230509T091814Z
UID:2545-1684000800-1700956800@museesetcentresdart.caprovenceverte.fr
SUMMARY:Exposition Mine et une briques LEGO®
DESCRIPTION:Le musée des Gueules Rouges est fier de présenter sa nouvelle exposition mettant à l’honneur l’histoire des mines en version briques LEGO®.\nDu 13 May to 26 November 2023\, come and discover a playful and intergenerational exhibition that will appeal to young and old. \nPrès de 75 000 briques LEGO® ont été utilisées pour créer des maquettes de différents éléments clés du monde de la mine tels que les coupes de mine\, les chevalements\, pitheads and lamps. Cette exposition a été conçue et réalisée en collaboration avec la société BrickEvent et le Centre Minier de Faymoreau\, both located in Vendée. Adaptée à la couleur locale de la bauxite\, this exhibition is now offered in the Provence Verte Agglomeration. \nEn parcourant l’exposition\, you will discover another facet of the coal adventure thanks to an original and interactive presentation. Les visiteurs pourront se laisser tenter par la magie des briques LEGO® en créant leur propre souvenir de la mine\, from 4 years old. \n\nLe vernissage de l’exposition aura lieu le samedi 13 May at 6 p.m. on the occasion of the European Night of Museums. \n\nNous vous invitons à venir découvrir cette exposition inédite qui vous fera (re)discover the history of the mines in an original way. Don't miss this opportunity to immerse yourself in the region's coal mining past through the art of LEGO® bricks.
URL:https://museesetcentresdart.caprovenceverte.fr/event/exposition-mine-et-une-briques-lego/
LOCATION:Musée des Gueules Rouges
CATEGORIES:General - Homepage,Musée des Gueules Rouges
ATTACH;FMTTYPE=image/jpeg:https://museesetcentresdart.caprovenceverte.fr/wp-content/uploads/2023/05/lego-A3-1-scaled.jpg
END:VEVENT
BEGIN:VEVENT
DTSTART;VALUE=DATE:20230701
DTEND;VALUE=DATE:20230831
DTSTAMP:20260420T201044
CREATED:20230710T132153Z
LAST-MODIFIED:20230710T132153Z
UID:2728-1688169600-1693439999@museesetcentresdart.caprovenceverte.fr
SUMMARY:En juillet/août au musée des Comtes de Provence & à la Micro-Folie Provence Verte
DESCRIPTION:Retrouvez  la programmation détaillée de votre été au musée des Comtes de Provence  dans ce livret\, également disponible à l’accueil du musée.\n\n\nLes rendez-vous à ne pas manquer :\n\n\n\n12 et 13 august : Les Médiévales with a special program and free opening all weekend : animations autour des collections du musée\, une enquête théâtralisée qui vous fera découvrir le musée autrement….\nDu 16 to 27 august : St. Louis Day : Venez découvrir l’histoire de Saint-Louis d’Anjou\, et vous amuser lors de notre atelier créatif.\nTout au long de l’été\, la Micro-Folie vous propose une immersion dans l’Égypte ancienne et de la ville d’Alexandrie\, entre autres…\nRetrouvez également nos ateliers enfants 6/12 ans tous les mardis des vacances scolaires\nNOUVEAUTÉ : an activity for 6/12 ans “SOS\, fantôme au musée”  tous les mercredis des vacances scolaires \n\n\n\n\n\nCliquez ICI pour le télécharger  
URL:https://museesetcentresdart.caprovenceverte.fr/event/en-juillet-aout-au-musee-des-comtes-de-provence-a-la-micro-folie-provence-verte/
LOCATION:Musée des Comtes de Provence
CATEGORIES:General - Homepage,Musée des Comtes de Provence
ATTACH;FMTTYPE=image/jpeg:https://museesetcentresdart.caprovenceverte.fr/wp-content/uploads/2023/07/Prog_MCP_MF_-juillet_aout-e1688994824285.jpg
END:VEVENT
BEGIN:VEVENT
DTSTART;VALUE=DATE:20230707
DTEND;VALUE=DATE:20230904
DTSTAMP:20260420T201044
CREATED:20230704T121610Z
LAST-MODIFIED:20230710T075630Z
UID:2670-1688688000-1693785599@museesetcentresdart.caprovenceverte.fr
SUMMARY:Welcome to the garden #3
DESCRIPTION:The third edition of Bienvenue au jardin is dedicated to sharing and artistic practice through multiple playful proposals in the enchanting setting of the art center's sculpture garden.. \n7 juillet :  \n\n17h : Vernissage de l’exposition de Martine et Jean Béchameil\n17h : Launch of Welcome to the Garden #3 & Vernissage de l’exposition de Simon de la Porte RECTO VERSO #1 “Prism of memory”\n17h30 : Inauguration of the work of Ugo Schiavi (acquisition of the municipality)\n\n9 juillet : \n\n15-17h : Visite guidée de l’exposition et atelier famille\n\nPublic : Tout public \nTarif : Gratuit sur présentation du billet d’entrée \n13 juillet : \n\n10-12h : Les jeudis matin de l’art contemporain\n\nPublic : child of 6 to 12 ans \nTarif : 4 € upon reservation with the ILO 04 94 72 04 21 \n14 juillet matin :  \n\n10-12h – Pentathlon des muses\n\nTu veux challenger l’artiste qui sommeille en toi ? Did you know that artistic competitions were part of the Olympic Games in 1912 to 1948 ? C’était une idée du fondateur des Jeux\, Stone coubertin. Lors de ce pentathlon des muses\, Children and adults will compete around 5 different artistic disciplines that will put their talents to the test. \nPossibilité de pique-nique sur place \nPublic : Famille \nTarif : Gratuit \n16 juillet :  \n\n15-17h : Atelier linogravure autour du travail graphique de Simon De La Porte\n\nPublic : Adults and children from 8 ans \nTarif : 4 € upon reservation with the ILO 04 94 72 04 21 \n18 juillet : Garden [P]Arty \n\n14h : Visite et Vernissage de l’exposition ‘ Garden [P]Arty ‘ suivi d’un concert (team looking for a musician)\n\nDans le cadre du projet hors-les-murs du centre d’art\, the mediation team offered workshops throughout the year in the day centers of the Henri Guérin Psychiatric Hospital in Pierrefeu located in Brignoles and St-Maximin-la-Ste-Baume. \nL’après-midi du 18 July is devoted to patients who have benefited from these workshops during a Garden [P]Arty where some of the works produced during these workshops will be exhibited. This exhibition will be accompanied by a festive time open to all in music. \n20 juillet :  \n\n10-12h : Les jeudis matin de l’art contemporain\n\nPublic : child of 6 to 12 ans \nTarif : 4 € upon reservation with the ILO 04 94 72 04 21 \n22  & 23 July :  \n\n10 – 12h30 / 14 – 16h30 : Stage de linogravure\n\nVous avez envie d’explorer la linogravure\, to imagine and design your own artist's book on the theme of the garden ? So it's in Châteauvert that it's happening ! \nDans le cadre du festival Bienvenue au jardin\, the Art Center offers you a 10-hour linocut course spread over 2 weekend days from 22/23 July. \nAu programme : visite des sculptures et collecte dans le jardin\, découverte de la technique et de ses possibilités\, design of an artist's book and creation of a stamp to be signed. \nPublic : Adults and children from 8 ans \nTarif : 40 € upon reservation with the ILO 04 94 72 04 21 \n27 juillet :  \n\n10-12h : Les jeudis matin de l’art contemporain\n\nPublic : child of 6 to 12 ans \nTarif : 4 € upon reservation with the ILO 04 94 72 04 21 \n28 juillet : \n\n19h : Rencontre avec Léo Fourdrinier\, artiste en résidence au centre d’art contemporain de Châteauvert dans le cadre de l’Eté Culturel – Rouvrir le monde mis en place par le Ministère de la Culture\n\n7 > 11 august : \n\n10 – 12h : Internship for 6 – 12 years old : « Ça papillonne »\n\nPublic : child of 6 to 12 ans \nTarif : 40 € upon reservation with the ILO 04 94 72 04 21 \nCe premier stage au centre d’art contemporain de Châteauvert à destination des enfants de 6 to 12 years offers a playful crossroads of knowledge between entomological discovery (insect science) and artistic discovery.
URL:https://museesetcentresdart.caprovenceverte.fr/event/bienvenue-au-jardin-3/
LOCATION:Centre d’Art contemporain de Chateauvert
CATEGORIES:Centre d'Art de Châteauvert,General - Accueil
ATTACH;FMTTYPE=image/png:https://museesetcentresdart.caprovenceverte.fr/wp-content/uploads/2023/07/BAJ-3.png
END:VEVENT
BEGIN:VEVENT
DTSTART;TZID=Europe/Paris:20230707T170000
DTEND;TZID=Europe/Paris:20231126T210000
DTSTAMP:20260420T201044
CREATED:20221118T123052Z
LAST-MODIFIED:20230710T075519Z
UID:1967-1688749200-1701032400@museesetcentresdart.caprovenceverte.fr
SUMMARY:Exposition "Night crossing" de Martine FEIPEL & Jean BECHAMEIL
DESCRIPTION:The Châteauvert contemporary art center reopens its doors after several months of work on 7 July 2023 with the first exhibition in a cultural institution in the south of France by the duo Martine Feipel and Jean Béchameil. \nTraversée de nuit a débuté un mois avant l’ouverture de l’exposition par une performance – tournage d’une marche participative avec une cinquantaine de personnes de tout horizon qui s’est déroulée au crépuscule dans les alentours du centre d’art. \nHommage aux migrations d’hier\, d’aujourd’hui et de demain\, Traversée de Nuit se réfère aux mouvements de population relatés par le médecin grec Ctésias dès le Vème siècle avant J.C.\, aux déplacements de populations de tous les temps\, to Gandhi's salt march in 1930 or that of Mao Tse Toung in 1934 mais aussi aux marches des réfugié·e·s dans la jungle du Darien au Panama\, jungle qu’ils traversent au péril de leurs vies pour rejoindre les Etats-Unis\, without forgetting the increasingly risky migrations that lead to Europe by paths and detours that change with the sandstone of controls. \nHommage à la nature\, Traversée de Nuit prend la parole pour le compte d’un absent qui ne peut s’exprimer lui-même alors que « nous sommes en pleine crise climatique et que la croissance\, the economy and the very values ​​of work are called into question. \nMartine Feipel & Jean Béchameil ont longtemps porté des réflexions sur l’héritage du modernisme tout en en relevant l’ambivalence\, ils soulignent aujourd’hui la place de tous les êtres vivants comme centrale et interrogent de manière optimiste\, the fact that living beings are not limited to inhabiting this or that geographical space but to being a soil that is constantly changing and adapting to nature. \nVernissage vendredi 7 juillet à partir de 17h \n  \nMartine Feipel et Jean Bechameil est un duo d’artistes installé à Bruxelles\, representative of the Luxembourg Pavilion at the Venice Biennale in 2011. Habités d’une grande sensibilité à la théâtralité du monde et ses beautés\, alliant leurs nombreux savoir-faire – dessin\, sculpture\, ingénierie\, mise en scène\, décor (including several films by Lars von Trier) – Feipel and Bechameil produce a work that is as formally accomplished as it is strongly committed. They offer food for thought for a better future. \n  \nTRAVERSEE DE NUIT a bénéficié du soutien de KULTUR LX\, de la Fondation Independance by Bil et de Wallonie-Bruxelles International (WBI) / CWB Paris\, Centre Wallonie-Bruxelles/Paris – Hors-Les-Murs Constellations. \n 
URL:https://museesetcentresdart.caprovenceverte.fr/event/exposition-traversee-de-nuit-de-martine-feipel-jean-bechameil/
LOCATION:Centre d’Art contemporain de Chateauvert
CATEGORIES:Centre d'Art de Châteauvert,General - Accueil
ATTACH;FMTTYPE=image/jpeg:https://museesetcentresdart.caprovenceverte.fr/wp-content/uploads/2022/11/F-P.jpg
END:VEVENT
BEGIN:VEVENT
DTSTART;VALUE=DATE:20230708
DTEND;VALUE=DATE:20231127
DTSTAMP:20260420T201044
CREATED:20230704T111149Z
LAST-MODIFIED:20230925T080712Z
UID:2656-1688774400-1701043199@museesetcentresdart.caprovenceverte.fr
SUMMARY:Welcome to the garden #3 - Guest artist : Simon de la Porte
DESCRIPTION:Le centre d’art contemporain de Châteauvert invite pour la troisième édition de Bienvenue au jardin Simon de la Porte à présenter une série de dessins faisant entrer la nature dans le centre d’art\, nature qu’il qualifie de “plus belle télé du monde”. These drawings take place in a new exhibition space on the first floor of the art center that the team has named RECTO VERSO and which will regularly host exhibitions and restitutions of educational projects.. \nLes dessins de Simon de la Porte sont faussement naïfs. Réalisés au feutre sur des petits formats\, ils sont une lecture poétique d’un monde contemporain qui se fait dévorer petit à petit par la nature\, contrary to the current climaticide. The landscapes it represents are steeped in French or European culture, easily recognizable by vintage vehicles from the years 80 that he likes to draw. La chaise en plastique blanche\, figure incontournable d’un art de vivre populaire\, also haunts his drawings. Et\, si les personnes masculins sont nombreux\, there are almost no female characters represented in the drawings of Simon de la Porte because the artist considers that he draws too badly. Il a peur de “les rater”. Finalement\, les dessins de Simon de la Porte entrainent par ces motifs\, forms and medium a feeling of familiarity but also of nostalgia which of a sweet nostalgia which make them infinitely endearing. \n  \nSimon de la Porte (1976)\, graduated from LISAA Paris (1999)\, est un graphiste\, photo editor and draftsman.  In 2014\, il se remet au dessin au feutre\, suivi de plusieurs autres projets jusqu’à\naujourd’hui. He is notably co-organizer of the contemporary drawing festival VRRRAIMENT! à Toulon.\nIl grandit en Normandie\, passe une vingtaine d’année à Paris\, part pour un grand voyage en Asie\, and finally he settled in Toulon. \n 
URL:https://museesetcentresdart.caprovenceverte.fr/event/bienvenue-au-jardin-3-artiste-invite-simon-de-la-porte/
LOCATION:Centre d’Art contemporain de Chateauvert
CATEGORIES:Centre d'Art de Châteauvert,General - Accueil
ATTACH;FMTTYPE=image/png:https://museesetcentresdart.caprovenceverte.fr/wp-content/uploads/2023/07/230704-CACC-Simon-de-la-Porte.png
END:VEVENT
BEGIN:VEVENT
DTSTART;VALUE=DATE:20230711
DTEND;VALUE=DATE:20230825
DTSTAMP:20260420T201044
CREATED:20230626T123554Z
LAST-MODIFIED:20230704T112312Z
UID:2639-1689033600-1692921599@museesetcentresdart.caprovenceverte.fr
SUMMARY:Children's workshops in museums and at the art center – Summer 2023
DESCRIPTION:Comme chaque année\, les équipes du centre d’art contemporain de Châteauvert\, the Musée des Comtes de Provence in Brignoles and the Musée des Gueules Rouges in Tourves have prepared fun and artistic workshops for children from 6 to 12 ans\, dont les thèmes variés raviront les petits visiteurs.\n\nChaque atelier a une durée de 2h\nTarif 4 €\nRéservation obligatoire auprès de l’OIT  au 04 94 72 04 21 ou contact@provenceverteverdon.fr\n\nProgramme complet à télécharger  :
URL:https://museesetcentresdart.caprovenceverte.fr/event/les-ateliers-enfants-des-musees-et-du-centre-dart-ete-2023/
CATEGORIES:Centre d'Art de Châteauvert,General - Homepage,Musée des Comtes de Provence,Musée des Gueules Rouges
ATTACH;FMTTYPE=image/jpeg:https://museesetcentresdart.caprovenceverte.fr/wp-content/uploads/2023/06/ateliers_ete_2023.jpg
END:VEVENT
BEGIN:VEVENT
DTSTART;TZID=Europe/Paris:20230816T140000
DTEND;TZID=Europe/Paris:20230827T180000
DTSTAMP:20260420T201044
CREATED:20230721T073548Z
LAST-MODIFIED:20230721T081250Z
UID:2839-1692194400-1693159200@museesetcentresdart.caprovenceverte.fr
SUMMARY:Fête de la Saint-Louis
DESCRIPTION:À l’occasion de la fête de la Saint-Louis\, our team offers 16 to 27 août\, a program dedicated to Saint-Louis d'Anjou :\n\nExposition Saint-Louis d’Anjou : Visite libre – Découvrez l’histoire de Saint-Louis d’Anjou\, fils de Charles II d’Anjou\, comte de Provence.\nDécore ta chape : Open-access creative workshop. Inspirez-vous des objets du musée et créez vos propres motifs pour décorer une chape comme celle de Saint-Louis d’Anjou. Dans la limite des places disponibles.\nUniquement les jours d’ouverture du musée\, du mercredi au dimanche de 14h à 18h \nTout public -Tarif musée
URL:https://museesetcentresdart.caprovenceverte.fr/event/fete-de-la-saint-louis/
LOCATION:Musée des Comtes de Provence
CATEGORIES:General - Homepage,Musée des Comtes de Provence
ATTACH;FMTTYPE=image/jpeg:https://museesetcentresdart.caprovenceverte.fr/wp-content/uploads/2023/07/chape-st-louis-no-text.jpg
END:VEVENT
END:VCALENDAR