BEGIN:VCALENDAR
VERSION:2.0
PRODID:-//Musées et centres d&#039;art - ECPv6.15.20//NONSGML v1.0//EN
CALSCALE:GREGORIAN
METHOD:PUBLISH
X-WR-CALNAME:Musées et centres d&#039;art
X-ORIGINAL-URL:https://museesetcentresdart.caprovenceverte.fr
X-WR-CALDESC:Events for Musées et centres d&#039;art
REFRESH-INTERVAL;VALUE=DURATION:PT1H
X-Robots-Tag:noindex
X-PUBLISHED-TTL:PT1H
BEGIN:VTIMEZONE
TZID:Europe/Paris
BEGIN:DAYLIGHT
TZOFFSETFROM:+0100
TZOFFSETTO:+0200
TZNAME:CEST
DTSTART:20220327T010000
END:DAYLIGHT
BEGIN:STANDARD
TZOFFSETFROM:+0200
TZOFFSETTO:+0100
TZNAME:CET
DTSTART:20221030T010000
END:STANDARD
BEGIN:DAYLIGHT
TZOFFSETFROM:+0100
TZOFFSETTO:+0200
TZNAME:CEST
DTSTART:20230326T010000
END:DAYLIGHT
BEGIN:STANDARD
TZOFFSETFROM:+0200
TZOFFSETTO:+0100
TZNAME:CET
DTSTART:20231029T010000
END:STANDARD
BEGIN:DAYLIGHT
TZOFFSETFROM:+0100
TZOFFSETTO:+0200
TZNAME:CEST
DTSTART:20240331T010000
END:DAYLIGHT
BEGIN:STANDARD
TZOFFSETFROM:+0200
TZOFFSETTO:+0100
TZNAME:CET
DTSTART:20241027T010000
END:STANDARD
END:VTIMEZONE
BEGIN:VEVENT
DTSTART;VALUE=DATE:20230102
DTEND;VALUE=DATE:20230707
DTSTAMP:20260421T022830
CREATED:20221118T123654Z
LAST-MODIFIED:20221119T092229Z
UID:1970-1672617600-1688687999@museesetcentresdart.caprovenceverte.fr
SUMMARY:Réaménagement du centre d'art contemporain de Châteauvert : une étape nécessaire à la mesure de l'Agglomération pour l'art contemporain sur le territoire
DESCRIPTION:The Châteauvert contemporary art center will be closed to the public during the first semester 2023. These works are a necessary step to measure our ambitions for contemporary art in Provence Verte. They will allow them to deploy even better and this in order to offer an even more complete experience of contemporary art to our visitors.. \nEn effet\, dans le domaine de l’art contemporain\, l’Agglomération Provence Verte offre des conditions optimales de diffusion d’œuvres\, de soutien à la création ou par la mise en place de médiations artistiques adaptées à chacun.e au sein du centre d’art contemporain de Châteauvert\, lieu incontournable de l’art contemporain en territoire\, and develops numerous contemporary art projects on the scale of its 28 member municipalities. \nLe centre d’art rouvrira ses portes le 7 July with the first exhibition in a cultural institution in the south of France by the duo Martine Feipel and Jean Béchameil. \nPour autant les activités de l’équipe du centre d’art seront maintenues durant le temps des travaux et ce notamment au niveau des projets développés en hors-les-murs. \nLe centre d’art en tournée … \nLe service médiation déploiera encore plus d’actions à l’échelle de la Provence Verte : \n\nAteliers 1001 formes au sein des LAEP les Petites Bretelles\, place of reception parents – children under 6 ans\, se déployant à Tourves\, Brignoles et Carcès\nAteliers 1001 formes au sein de la Maison des Petits à Brignoles\nAteliers 1001 formes auprès du réseau des assistant.e.s maternel.le.s en Provence Verte\nAteliers Pop-Up ! dans les médiathèques\nAteliers de pratiques artistiques au sein des antennes de jour de l’hôpital Henri Guérin – Pierrefeu – en Provence Verte. Ces projets seront valorisés lors de la troisième édition du festival Bienvenue au jardin.\nRésidences d’artistes en milieu scolaire :\nFaustine Reibaud-Nicoli au lycée Raynouard de Brignoles\nBernard Pourrières au collège Guy de Maupassant de Garéoult\n\nLes visites du jardin de sculptures et ateliers maintenus à Châteauvert  \nLa visite du premier dimanche du mois à 15h est transformée en visite du jardin de sculptures de Châteauvert. \nLes ateliers de linogravure du deuxième dimanche du mois et les ateliers des vacances scolaires sont également maintenus et se dérouleront dans l’atelier de l’ancien presbytère à proximité du centre d’art. \nLes vacances d’avril sous le signe du jeu \nL’équipe de médiation proposera des vacances d’avril joyeuses\, ludiques et gourmandes avec la complicité de l’office de tourisme Provence Verte & Verdon. \nSamedi 8 April : Lancement du jeu de piste numérique Baludick du jardin de sculptures \nDimanche 9 April : Chasse aux œufs \n 
URL:https://museesetcentresdart.caprovenceverte.fr/event/reamenagement-du-centre-dart-contemporain-de-chateauvert-une-etape-necessaire-a-la-mesure-des-ambitions-de-lagglomeration-pour-lart-contemporain-sur-le-territoire/
CATEGORIES:Centre d'Art de Châteauvert,General - Accueil
ATTACH;FMTTYPE=image/jpeg:https://museesetcentresdart.caprovenceverte.fr/wp-content/uploads/2022/11/Vu-du-centre-dart-et-des-oeuvres-Sans-titre-dAlain-Clement-collection-Agglomeration-Provence-Verte-Centre-dart-contemporain-de-Chateauvert.jpg
END:VEVENT
BEGIN:VEVENT
DTSTART;VALUE=DATE:20230211
DTEND;VALUE=DATE:20230417
DTSTAMP:20260421T022830
CREATED:20230207T125517Z
LAST-MODIFIED:20230207T125517Z
UID:2105-1676073600-1681689599@museesetcentresdart.caprovenceverte.fr
SUMMARY:Mine Interdite – Escape Game au Musée des Gueules Rouges
DESCRIPTION:Will you manage to get out of the forbidden mine ?\nUne légende raconte qu’au cœur de la mine se cache le minerai le plus pur jamais exploité. But access is restricted.. \nOserez-vous braver le danger\, discover the secret passage and find the vein in order to save the future of the mine and the miners ? \nL’Escape Game du Musée des Gueules Rouges accueille des groupes de 3 to 6 people from 11 February to 16 avril\, according to the following opening days : \n \nHors vacances scolaires :                                     \n\nMercredi : 14h30 – 16h00\nSamedi : 14h30 – 16h00 – 17h30\nDimanche : 14h30 – 16h00\n\nPendant les vacances scolaires (all areas) : \n\nMercredi : 14h30 – 16h00\nJeudi : 14h30 – 16h00\nVendredi : 14h30 – 16h00 – 17h30\nSamedi : 14h30 – 16h00 – 17h30\nDimanche : 14h30 – 16h00\n\nTarif : \n\n12€ par personne\n8€ par personne pour les moins de 14 ans.\n\nL’Escape Game n’est pas adapté aux moins de 7 years old. \nRéservation obligatoire à l’Office de Tourisme Provence Verte Verdon \nTel : 04 94 72 04 21. \n  \nUn Escape Game conçu par une équipe de professionnels du territoire\nPour la conception de cet Escape Game\, the Gueules Rouges museum has partnered with Secret Door. \nBasés depuis plus de 10 ans à Brignoles\, les créateurs de Secret Door ont\, en lien étroit avec l’équipe du musée\, entièrement imaginé l’histoire\, the puzzles and all the mechanisms present in the “Forbidden Mine” room. \nConcernant la conception du scénario et le choix des accessoires\, emphasis was placed on realism : sans rien dévoiler de l’intérieur de la salle\, participants will be led to walk through an environment familiar to minors and to handle objects that could have been in the hands of an authentic Gueule Rouge. Le tout en étant équipé\, tel un mineur\, a helmet and a headlamp. \nPlusieurs mois de préparation ont été nécessaires afin de proposer aux joueurs une expérience d’immersion inédite au sein du Musée des Gueules Rouges.
URL:https://museesetcentresdart.caprovenceverte.fr/event/mine-interdite-escape-game-au-musee-des-gueules-rouges/
LOCATION:Musée des Gueules Rouges
CATEGORIES:General - Homepage,Musée des Gueules Rouges
ATTACH;FMTTYPE=image/jpeg:https://museesetcentresdart.caprovenceverte.fr/wp-content/uploads/2023/02/Escape-Game_APV_2-e1675774473613.jpg
END:VEVENT
BEGIN:VEVENT
DTSTART;VALUE=DATE:20230401
DTEND;VALUE=DATE:20230501
DTSTAMP:20260421T022830
CREATED:20230323T152811Z
LAST-MODIFIED:20230327T081821Z
UID:2383-1680307200-1682899199@museesetcentresdart.caprovenceverte.fr
SUMMARY:Micro-Madness Programming – April 2023
DESCRIPTION:La Micro-Folie Provence Verte vous propose sa nouvelle programmation pour le mois d’avril.\nMusée des Comtes de Provence – Brignoles \nTel : 04 98 05 92 88\nContact : mcp@caprovenceverte.fr\nProgramme à télécharger ici :
URL:https://museesetcentresdart.caprovenceverte.fr/event/programmation-micro-folie-avril-2023/
LOCATION:Musée des Comtes de Provence
CATEGORIES:General - Homepage,Musée des Comtes de Provence
ATTACH;FMTTYPE=image/jpeg:https://museesetcentresdart.caprovenceverte.fr/wp-content/uploads/2023/03/Prog_avril-MF-site.jpg
END:VEVENT
BEGIN:VEVENT
DTSTART;VALUE=DATE:20230401
DTEND;VALUE=DATE:20230501
DTSTAMP:20260421T022830
CREATED:20230330T114952Z
LAST-MODIFIED:20230330T114952Z
UID:2401-1680307200-1682899199@museesetcentresdart.caprovenceverte.fr
SUMMARY:Programming Museum of the Counts of Provence - Avril 2023
DESCRIPTION:Retrouvez l’essentiel de la programmation du musée en avril sur ce programme détaillé qui célèbre les Journées européennes des métiers d’art.\nAu cours de ce mois\, une série d’événements passionnants raviront tous les amateurs d’histoire\, of art and culture. \nÀ ne pas rater\, a unique and exceptional meeting :\n\nSamedi 1er avril de 14h30 à 16h30 :  Atelier broderie/couture animé par les Cousardes\, qui partageront avec vous leur passion pour cette forme d’art.\n\nDans ce programme d’avril\, une variété d’autres événements passionnants  à découvrir tout au long de ce mois\, designed to offer you a unique and immersive cultural experience. \nCliquez pour le télécharger : \n \n 
URL:https://museesetcentresdart.caprovenceverte.fr/event/programmation-musee-des-comtes-de-provence-avril-2023/
LOCATION:Musée des Comtes de Provence
CATEGORIES:General - Homepage,Musée des Comtes de Provence
ATTACH;FMTTYPE=image/jpeg:https://museesetcentresdart.caprovenceverte.fr/wp-content/uploads/2023/03/Prog-MCP-Avril-SITE.jpg
END:VEVENT
BEGIN:VEVENT
DTSTART;TZID=Europe/Paris:20230401T140000
DTEND;TZID=Europe/Paris:20230414T170000
DTSTAMP:20260421T022830
CREATED:20230320T091036Z
LAST-MODIFIED:20230320T091240Z
UID:2302-1680357600-1681491600@museesetcentresdart.caprovenceverte.fr
SUMMARY:Journées des métiers d'art - « Trésors brodés »
DESCRIPTION:Exceptional ! Come and discover richly decorated 18th century costumes. Ces quelques trésors textiles seront sortis des réserves\, à titre exceptionnel\, pour les journées des métiers d’arts jusqu’au 14 avril.\n\nSamedi 1er et dimanche 2 avril de 14h à 17h  / Entrée libre – Tout public\nVisible ensuite jusqu’au 14 avril\, sur les jours d’ouvertures du Musée / Tarif musée\n\nMusée des Comtes de Provence – Brignoles \nTel : 04 98 05 92 88\nContact : mcp@caprovenceverte.fr
URL:https://museesetcentresdart.caprovenceverte.fr/event/journees-des-metiers-dart-tresors-brodes/
LOCATION:Musée des Comtes de Provence
CATEGORIES:General - Homepage,Musée des Comtes de Provence
ATTACH;FMTTYPE=image/jpeg:https://museesetcentresdart.caprovenceverte.fr/wp-content/uploads/2023/03/Tresors-brodes-scaled.jpg
END:VEVENT
BEGIN:VEVENT
DTSTART;VALUE=DATE:20230403
DTEND;VALUE=DATE:20230414
DTSTAMP:20260421T022830
CREATED:20230224T125026Z
LAST-MODIFIED:20250307T091626Z
UID:2184-1680480000-1681430399@museesetcentresdart.caprovenceverte.fr
SUMMARY:Workshop "Gestures and sounds" with Bernard Pourriere - Collège Guy de Maupassant\, Garéoult
DESCRIPTION:The Provence Verte Agglomeration and the Châteauvert contemporary art center are developing a partnership with the Guy de Maupassant secondary school in Garéoult by inviting the artist Bernard Pourrière to carry out a Gestures and sounds workshop with a 5th grade class which will lead to a performance under form of ambulation in the college on 13 April at the end of the day. \nCet atelier autour de la performance sonore est un travail qui tient compte du corps dans l’espace\, aussi bien dans ses gestes et mouvements\, only in the sounds it can generate by its movements. Il a aussi pour but d’éveiller les élèves à notre environnement proche\, aux bruits\, aux sons qui nous entourent\, to everyday sounds. \nCes actions développent des contradictions telles mouvement/immobilité\, vitesse/épuisement\, son/silence et ainsi activent des champs d’expérimentations entre espace et son\, vitesse et lenteur\, expectation and action. Le son propose d’autres façons de se mouvoir\, we will look for different body positions and different movements in relation to the sounds. Par la manipulation d’objets divers\, et de machines cet atelier\, qui se veut créatif\, will also offer to experiment with other ways of approaching the sound material. \n  \nDepuis le début de son travail Bernard Pourrière s’interroge sur l’évolution et la transformation du vivant par rapport aux nouvelles technologies. Il s’intéresse aux notions d’espace-temps\, aux déplacements\, movements and gestures of the body in space in correlation with multimedia. Il développe un travail sonore expérimental à la fin des années quatre vingt dix jusqu’à nos jours dans des performances\, but also in sometimes interactive installations. A maintes reprises il a collaboré avec des musiciens\, danseurs et chorégraphes\, and produced a large number of soundtracks for artists' videos. \n  \nAvec le soutien de la Région Sud
URL:https://museesetcentresdart.caprovenceverte.fr/event/workshop-gestes-et-sons-avec-bernard-pourriere-college-guy-de-maupassant-gareoult/
CATEGORIES:Centre d'Art de Châteauvert,General - Accueil
ATTACH;FMTTYPE=image/jpeg:https://museesetcentresdart.caprovenceverte.fr/wp-content/uploads/2023/02/2C.jpg
END:VEVENT
END:VCALENDAR