BEGIN:VCALENDAR
VERSION:2.0
PRODID:-//Musées et centres d&#039;art - ECPv6.15.20//NONSGML v1.0//EN
CALSCALE:GREGORIAN
METHOD:PUBLISH
X-WR-CALNAME:Musées et centres d&#039;art
X-ORIGINAL-URL:https://museesetcentresdart.caprovenceverte.fr
X-WR-CALDESC:Events for Musées et centres d&#039;art
REFRESH-INTERVAL;VALUE=DURATION:PT1H
X-Robots-Tag:noindex
X-PUBLISHED-TTL:PT1H
BEGIN:VTIMEZONE
TZID:Europe/Paris
BEGIN:DAYLIGHT
TZOFFSETFROM:+0100
TZOFFSETTO:+0200
TZNAME:CEST
DTSTART:20210328T010000
END:DAYLIGHT
BEGIN:STANDARD
TZOFFSETFROM:+0200
TZOFFSETTO:+0100
TZNAME:CET
DTSTART:20211031T010000
END:STANDARD
BEGIN:DAYLIGHT
TZOFFSETFROM:+0100
TZOFFSETTO:+0200
TZNAME:CEST
DTSTART:20220327T010000
END:DAYLIGHT
BEGIN:STANDARD
TZOFFSETFROM:+0200
TZOFFSETTO:+0100
TZNAME:CET
DTSTART:20221030T010000
END:STANDARD
BEGIN:DAYLIGHT
TZOFFSETFROM:+0100
TZOFFSETTO:+0200
TZNAME:CEST
DTSTART:20230326T010000
END:DAYLIGHT
BEGIN:STANDARD
TZOFFSETFROM:+0200
TZOFFSETTO:+0100
TZNAME:CET
DTSTART:20231029T010000
END:STANDARD
BEGIN:DAYLIGHT
TZOFFSETFROM:+0100
TZOFFSETTO:+0200
TZNAME:CEST
DTSTART:20240331T010000
END:DAYLIGHT
BEGIN:STANDARD
TZOFFSETFROM:+0200
TZOFFSETTO:+0100
TZNAME:CET
DTSTART:20241027T010000
END:STANDARD
END:VTIMEZONE
BEGIN:VEVENT
DTSTART;TZID=Europe/Paris:20221108T080000
DTEND;TZID=Europe/Paris:20230115T210000
DTSTAMP:20260421T071845
CREATED:20221109T103811Z
LAST-MODIFIED:20221109T103811Z
UID:1948-1667894400-1673816400@museesetcentresdart.caprovenceverte.fr
SUMMARY:Artistic commission "The so-called bridge house"
DESCRIPTION:The commune of Châteauvert is pleased to propose an artistic commission to the attention of professional artists for the creation of a work which will take place at the entrance of the chemin de la Réparade in order to prefigure the entrance to the estate. culture of the town where the art center is located. \nL’appel à candidature est ouvert jusqu’au 15 January 2023 at 9 p.m. \nPour y répondre\, it is necessary to go to the public procurement platform : Call for tenders: Commune de Chateauvert – E-marchespublics.com \nPlus d’informations au 07 81 02 04 66 ou cacc@caprovenceverte.fr \n  \n 
URL:https://museesetcentresdart.caprovenceverte.fr/event/commande-artistique-la-maison-dite-du-pont/
CATEGORIES:Centre d'Art de Châteauvert,General - Accueil
ATTACH;FMTTYPE=image/jpeg:https://museesetcentresdart.caprovenceverte.fr/wp-content/uploads/2022/11/Vu-du-centre-dart-et-des-oeuvres-Sans-titre-dAlain-Clement-collection-Agglomeration-Provence-Verte-Centre-dart-contemporain-de-Chateauvert.jpg
END:VEVENT
BEGIN:VEVENT
DTSTART;VALUE=DATE:20221125
DTEND;VALUE=DATE:20230401
DTSTAMP:20260421T071845
CREATED:20221129T153703Z
LAST-MODIFIED:20250307T092440Z
UID:1993-1669334400-1680307199@museesetcentresdart.caprovenceverte.fr
SUMMARY:Mediation residency of Faustine REIBAUD-NICOLI - Lycée Raynouard\, Brignoles
DESCRIPTION:L’Agglomération Provence Verte et le centre d’art contemporain de Châteauvert développe un partenariat avec le lycée Raynouard à Brignoles depuis quelques années dans le cadre de ses actions d’éducation artistiques et culturelles et a invité Faustine Reibaud-Nicoli à une résidence de médiation sur plusieurs mois au sein de l’option arts plastiques du lycée. \nCe projet a pour vocation de créer collectivement sous forme performative – poétique et sonore\, en interrogeant la notion de territoire\, approached in its most diversified dimension. This work will be presented in the auditorium of the intercommunal conservatory in Brignoles. \nNée en 1993\, Faustine Reibaud-Nicoli is a director and visual artist. She lives and works between Correns and Marseille. Diplômée de la Haute Ecole des Arts du Rhin de Strasbourg\, she works the video medium through documentary-type films and installations. Elle a également une pratique tout aussi importante de l’écriture poétique\, photography and drawing. Les origines de l’artiste prenant racines autour de la Méditerranée\, she finds fertile ground there for her production and the reflections she develops.. &quot;When are we at home ? asks Barbara Cassin : this reflection has accompanied his work for several years. En effet\, Faustine s’intéresse aux questions d’appartenance d’un individu à un lieu\, à la résonance des êtres par rapport à une terre\, to what intimately defines a form of home. Autour du tissu complexe qu’est la Méditerranée\, elle s’attarde à observer\, compare and dissect the elements forming this whole, however so fragmentary. \n  \nAvec le soutien de la Région Sud \n \n 
URL:https://museesetcentresdart.caprovenceverte.fr/event/residence-de-mediation-de-faustine-reibaud-nicoli-lycee-raynouard-brignoles/
CATEGORIES:Centre d'Art de Châteauvert,General - Accueil
ATTACH;FMTTYPE=image/png:https://museesetcentresdart.caprovenceverte.fr/wp-content/uploads/2022/11/Capture.png
END:VEVENT
END:VCALENDAR