BEGIN:VCALENDAR
VERSION:2.0
PRODID:-//Musées et centres d&#039;art - ECPv6.15.20//NONSGML v1.0//EN
CALSCALE:GREGORIAN
METHOD:PUBLISH
X-WR-CALNAME:Musées et centres d&#039;art
X-ORIGINAL-URL:https://museesetcentresdart.caprovenceverte.fr
X-WR-CALDESC:Events for Musées et centres d&#039;art
REFRESH-INTERVAL;VALUE=DURATION:PT1H
X-Robots-Tag:noindex
X-PUBLISHED-TTL:PT1H
BEGIN:VTIMEZONE
TZID:Europe/Paris
BEGIN:DAYLIGHT
TZOFFSETFROM:+0100
TZOFFSETTO:+0200
TZNAME:CEST
DTSTART:20210328T010000
END:DAYLIGHT
BEGIN:STANDARD
TZOFFSETFROM:+0200
TZOFFSETTO:+0100
TZNAME:CET
DTSTART:20211031T010000
END:STANDARD
BEGIN:DAYLIGHT
TZOFFSETFROM:+0100
TZOFFSETTO:+0200
TZNAME:CEST
DTSTART:20220327T010000
END:DAYLIGHT
BEGIN:STANDARD
TZOFFSETFROM:+0200
TZOFFSETTO:+0100
TZNAME:CET
DTSTART:20221030T010000
END:STANDARD
BEGIN:DAYLIGHT
TZOFFSETFROM:+0100
TZOFFSETTO:+0200
TZNAME:CEST
DTSTART:20230326T010000
END:DAYLIGHT
BEGIN:STANDARD
TZOFFSETFROM:+0200
TZOFFSETTO:+0100
TZNAME:CET
DTSTART:20231029T010000
END:STANDARD
END:VTIMEZONE
BEGIN:VEVENT
DTSTART;TZID=Europe/Paris:20220701T180000
DTEND;TZID=Europe/Paris:20221127T180000
DTSTAMP:20260421T135444
CREATED:20220217T134606Z
LAST-MODIFIED:20220623T085754Z
UID:1248-1656698400-1669572000@museesetcentresdart.caprovenceverte.fr
SUMMARY:Habitats sauvages\, exposition de Léna Durr
DESCRIPTION:Léna Durr\, Jean-Philippe\, 2022 – Courtesy de l’artiste et du centre d’art contemporain de Châteauvert – © Léna Durr \nLéna Durr s’intéresse aux normes et marges de la société qu’elle met en scène dans un travail photographique toujours tendre et un peu nostalgique. L’œuvre et le quotidien de l’artiste ne font qu’un puisqu’elle vit elle-même dans un mobil-home\, à Cuers dans le Var\, in the middle of objects collected since his adolescence. Habitats sauvage is both a work in line with his research and the fruit of his work over several months in residence in 2020 au centre d’art en partenariat avec l’ESADPTM. \n“S’il n’en existe pas de définition consacrée\, la notion d’habitats sauvages\, choisie par l’artiste pour qualifier les lieux de vies des personnes qu’elle est allée rencontrer\, allows both to embrace the complexity of its approach and the heterogeneity of the situations observed. \nPar opposition à la notion de domestique\, qui renvoie à l’idée de la maison conventionnelle\, celle de sauvage témoigne d’une volonté de s’inscrire dans un mode d’habiter non-conventionnel\, on the margins or on the edge of society. Le sauvage\, c’est-ce qu’on ne connaît pas\, what has not been domesticated. The savage scares people because they deviate from societal standards. \nPour les écologues\, wild habitats apply to the natural environments in which animals live. Dans des espaces naturels\, agricoles ou forestiers\, ces habitants de mobilhome\, caravanes\, cabanes\, yourte\, et autres constructions démontables\, que l’artiste nous présente\, passent l’essentiel de leur temps à l’extérieur et ont en commun avec les animaux sauvages\, la vie en plein-air\, closer to nature and the seasons. Avec leurs tailles modestes\, leurs procédés auto-constructifs\, et la sobriété qui les caractérise\, their habitats are reminiscent of the nests or burrows of forest animals. \nA travers ses portraits de personnes qui vivent dans des habitats sauvages\, Léna Durr s’appuie sur un travail ethnographique et documentaire pour déployer un récit intime et bienveillant\, dans lequel elle donne à voir des parcours et des modes de vie\, qui échappent aux règles établies\, en décalage et en résistance face à des normes imposées\, des territoires instables où les notions de richesse\, de bonheur et de temps libre sont remises en question.” Alexandre Telliez-Moreni \n  \nCommissariat de l’exposition: Lydie Marchi \nCette exposition fait partie de la programmation des Rencontres d’Arles dans le cadre du Grand Arles Express.  \n \n 
URL:https://museesetcentresdart.caprovenceverte.fr/event/habitats-sauvages-exposition-de-lena-durr/
CATEGORIES:Centre d'Art de Châteauvert,General - Accueil
ATTACH;FMTTYPE=image/png:https://museesetcentresdart.caprovenceverte.fr/wp-content/uploads/2022/02/Capture-1.png
END:VEVENT
BEGIN:VEVENT
DTSTART;VALUE=DATE:20220910
DTEND;VALUE=DATE:20221213
DTSTAMP:20260421T135444
CREATED:20220831T081429Z
LAST-MODIFIED:20220912T130047Z
UID:1721-1662768000-1670889599@museesetcentresdart.caprovenceverte.fr
SUMMARY:Exposition Avis de passage par Nadya Bertaux
DESCRIPTION:Dans cette exposition\, Nadya Bertaux exprime à travers ses sculptures l’importance de la mémoire\, acquired and transmission. La puissance de ses installations\, réalisées en résidence au Centre d’art de Châteauvert en juin\, From the apparent tension of aluminum fibrils which are actually the fruit of fragile intertwining. \n\nVernissage le vendredi 9 septembre à 18h\n\nÀ découvrir du 10 September at 18 december 2022 at the Gueules Rouges Museum.
URL:https://museesetcentresdart.caprovenceverte.fr/event/exposition-avis-de-passage-par-nadya-bertaux-vernissage-vendredi-9-septembre-a-18h/
LOCATION:Musée des Gueules Rouges
CATEGORIES:General - Homepage,Musée des Gueules Rouges
ATTACH;FMTTYPE=image/jpeg:https://museesetcentresdart.caprovenceverte.fr/wp-content/uploads/2022/08/Affiche-Nadya-Bertaux-e1661933548360.jpeg
END:VEVENT
BEGIN:VEVENT
DTSTART;TZID=Europe/Paris:20221012T100000
DTEND;TZID=Europe/Paris:20221012T120000
DTSTAMP:20260421T135444
CREATED:20220930T151804Z
LAST-MODIFIED:20220930T151804Z
UID:1885-1665568800-1665576000@museesetcentresdart.caprovenceverte.fr
SUMMARY:Le centre d'art en tournée - ATELIER POP UP !
DESCRIPTION:The art center’s mediation team is going on tour from September 2022 dans les médiathèques du réseau Provence Verte et propose des ateliers autour des albums Pop Up ou livres animés. \nSi les albums Pop Up sont souvent associés à l’enfance\, de nombreux artistes\, tels que Joan Miro par exemple\, The art center mediators have also created a workshop that will allow each of the participants to recreate the art center and its sculpture garden in the form of a Pop Up album, as well as an empty room that workshop participants will decorate as they see fit. \nSi l’atelier est facile à faire\, it requires two sessions for this Pop Up album to take shape. \n  \nTout public à partir de 8 ans \nMédiathèque de Néoules : Areas 83136 Néoules \nRéservation obligatoire : 09 65 39 88 84 \n  \nLe saviez-vous ? \nLes premiers livres animés remonteraient au Moyen Age ! Il s'agit d'un manuscript posant les bases de l'astronomie &quot;De sphaera mundi&quot; du savant Joannes de Sacrobosco.   \n 
URL:https://museesetcentresdart.caprovenceverte.fr/event/le-centre-dart-en-tournee-atelier-pop-up-7/
CATEGORIES:Centre d'Art de Châteauvert,General - Accueil
ATTACH;FMTTYPE=image/jpeg:https://museesetcentresdart.caprovenceverte.fr/wp-content/uploads/2022/09/POP-UP-carre-rose-1.jpg
END:VEVENT
BEGIN:VEVENT
DTSTART;TZID=Europe/Paris:20221012T143000
DTEND;TZID=Europe/Paris:20221012T163000
DTSTAMP:20260421T135444
CREATED:20220909T080244Z
LAST-MODIFIED:20220930T151458Z
UID:1743-1665585000-1665592200@museesetcentresdart.caprovenceverte.fr
SUMMARY:Le centre d'art en tournée - ATELIER POP UP !
DESCRIPTION:The art center’s mediation team is going on tour from September 2022 dans les médiathèques du réseau Provence Verte et propose des ateliers autour des albums Pop Up ou livres animés. \nSi les albums Pop Up sont souvent associés à l’enfance\, de nombreux artistes\, tels que Joan Miro par exemple\, The art center mediators have also created a workshop that will allow each of the participants to recreate the art center and its sculpture garden in the form of a Pop Up album, as well as an empty room that workshop participants will decorate as they see fit. \nSi l’atelier est facile à faire\, it requires two sessions for this Pop Up album to take shape. \n  \nTout public à partir de 8 ans \nMédiathèque de Le Val : Rue des Ecoles 83143 Le Val  \nRéservation obligatoire : 04 94 37 21 93 \n  \nLe saviez-vous ? \nLes premiers livres animés remonteraient au Moyen Age ! Il s'agit d'un manuscript posant les bases de l'astronomie &quot;De sphaera mundi&quot; du savant Joannes de Sacrobosco.   \n 
URL:https://museesetcentresdart.caprovenceverte.fr/event/le-centre-dart-en-tournee-atelier-pop-up-2/
CATEGORIES:Centre d'Art de Châteauvert,General - Accueil
ATTACH;FMTTYPE=image/jpeg:https://museesetcentresdart.caprovenceverte.fr/wp-content/uploads/2022/09/POP-UP-carre-rose-1.jpg
END:VEVENT
BEGIN:VEVENT
DTSTART;TZID=Europe/Paris:20221012T143000
DTEND;TZID=Europe/Paris:20221016T173000
DTSTAMP:20260421T135444
CREATED:20221010T145543Z
LAST-MODIFIED:20221010T145543Z
UID:1928-1665585000-1665941400@museesetcentresdart.caprovenceverte.fr
SUMMARY:Programming Micro-Folie Provence Verte – Week of 12 to 16 octobre
DESCRIPTION:This new week that begins will take you on a journey through ancient Greece :\n\n\n\nMercredi 12 october : Promenade interactive « La politique Spartiate »\nSamedi 15 october : Promenade interactive « Mycènes »\nDimanche 16 october : Promenade interactive « Vin de Kos »\n\n\n\n⏰ Heures de médiation : 14h30\, 15h.30 and 4.30 p.m.. Come many !
URL:https://museesetcentresdart.caprovenceverte.fr/event/programmation-micro-folie-provence-verte-semaine-du-12-au-16-octobre/
LOCATION:Musée des Comtes de Provence
CATEGORIES:General - Homepage,Musée des Comtes de Provence
ATTACH;FMTTYPE=image/jpeg:https://museesetcentresdart.caprovenceverte.fr/wp-content/uploads/2022/10/Semaine-du-12-au-16-oct-e1665413719689.jpg
END:VEVENT
END:VCALENDAR