BEGIN:VCALENDAR
VERSION:2.0
PRODID:-//Musées et centres d&#039;art - ECPv6.15.20//NONSGML v1.0//EN
CALSCALE:GREGORIAN
METHOD:PUBLISH
X-WR-CALNAME:Musées et centres d&#039;art
X-ORIGINAL-URL:https://museesetcentresdart.caprovenceverte.fr
X-WR-CALDESC:Events for Musées et centres d&#039;art
REFRESH-INTERVAL;VALUE=DURATION:PT1H
X-Robots-Tag:noindex
X-PUBLISHED-TTL:PT1H
BEGIN:VTIMEZONE
TZID:Europe/Paris
BEGIN:DAYLIGHT
TZOFFSETFROM:+0100
TZOFFSETTO:+0200
TZNAME:CEST
DTSTART:20200329T010000
END:DAYLIGHT
BEGIN:STANDARD
TZOFFSETFROM:+0200
TZOFFSETTO:+0100
TZNAME:CET
DTSTART:20201025T010000
END:STANDARD
BEGIN:DAYLIGHT
TZOFFSETFROM:+0100
TZOFFSETTO:+0200
TZNAME:CEST
DTSTART:20210328T010000
END:DAYLIGHT
BEGIN:STANDARD
TZOFFSETFROM:+0200
TZOFFSETTO:+0100
TZNAME:CET
DTSTART:20211031T010000
END:STANDARD
BEGIN:DAYLIGHT
TZOFFSETFROM:+0100
TZOFFSETTO:+0200
TZNAME:CEST
DTSTART:20220327T010000
END:DAYLIGHT
BEGIN:STANDARD
TZOFFSETFROM:+0200
TZOFFSETTO:+0100
TZNAME:CET
DTSTART:20221030T010000
END:STANDARD
BEGIN:DAYLIGHT
TZOFFSETFROM:+0100
TZOFFSETTO:+0200
TZNAME:CEST
DTSTART:20230326T010000
END:DAYLIGHT
BEGIN:STANDARD
TZOFFSETFROM:+0200
TZOFFSETTO:+0100
TZNAME:CET
DTSTART:20231029T010000
END:STANDARD
END:VTIMEZONE
BEGIN:VEVENT
DTSTART;VALUE=DATE:20210519
DTEND;VALUE=DATE:20211129
DTSTAMP:20260424T003952
CREATED:20210603T122543Z
LAST-MODIFIED:20210708T143728Z
UID:587-1621382400-1638143999@museesetcentresdart.caprovenceverte.fr
SUMMARY:"Deep in the Wood" par Pierre Beloüin
DESCRIPTION:No and 1973 à Toulon\, Pierre Beloüin a passé son enfance à Salernes\, in Haut-Var. \nPierre Beloüin a été diplômé de l’École nationale supérieure des Beaux-Arts de Paris en 1999. He is a founding member of the Glassbox gallery (1997) and creator of the label and collaborative platform Optical Sound (1997). Artiste hybride et iconoclaste\, directeur artistique et homme-orchestre à ses heures\, Pierre Beloüin is also a teacher at the Toulon School of Art and Design.. His work has been shown in numerous institutions in France and abroad. His works are part of public and private collections. (National Center for Visual Arts (Paris)\, Concrete art space (Mouans-Sartoux)\, (Mécènes du Sud…). His latest monograph was recently published by Presses du Réel. \nLes titres de ses expositions empruntent à une certaine histoire de la musique. La présente exposition\, « Deep In The Wood »\, refers to a song by the Australian punk-rock band Birthday Party which resonates with all the works on display. \nPierre Beloüin traduit – à première vue et comme souvent dans ses projets – l’environnement immédiat de manière littérale. We are talking here about that of the Châteauvert Contemporary Art Center : une sorte de Twin Peaks à la française chargée de forces étranges et telluriques … \nPierre Beloüin opère à sa façon en invitant des amitiés visibles ou quasiment imperceptibles. C’est le cas de la formation musicale et expérimentale anglaise Nurse With Wound\, who is in charge of the exhibition soundtrack. \nL’artiste réactive en outre le travail d’un peintre local du XIXe siècle\, Charles Vourrial\, with the skirmish of a naval battle. Le principal espace d’exposition est organisé autour d’un podium central – sorte de catwalk sans mannequin et vestige d’un défilé invisible\, avec un conifère planté à son extrémité\, the whole being framed by typographical light boxes and a wine bas-relief made up of bottles. \nÀ ce dispositif seront associées sur la durée de l’exposition la plasticienne sonore Alice Dourlen\, the dancer Florie Laroche and the groups Hifiklub and Lune Apache. Dans le jardin de sculptures\, an installation literally coming out of the ground by the genetically modified artist Ludovic Chemarin© completes the whole. \nL’installation Icosajack : V/a (OS.024)\, star sound sculpture from the FRAC Provence-Alpes-Côte d’Azur collection (PACA)\, presents all the albums released by the Optical Sound label (1997-2020) in the documentary space which overlooks the exhibition room. \nL’exposition « Deep In The Wood » est le lieu de la convergence d’ondes et de formes\, brilliant and vibrant fireflies quivering at the bottom of a white cube losing light and incarnation. Loin des conventions\, the works generate their own space in a flourishing close to the sublime. \n  \nCliquez ici pour retrouver toutes les informations à propos expositions visitables cet été au sein des établissements culturels de l’Agglomération Provence Verte. \n 
URL:https://museesetcentresdart.caprovenceverte.fr/event/expo-deep-in-the-wood-par-p-belouin/
LOCATION:Centre d’Art contemporain de Chateauvert
CATEGORIES:Centre d'Art de Châteauvert
ATTACH;FMTTYPE=image/jpeg:https://museesetcentresdart.caprovenceverte.fr/wp-content/uploads/2021/07/affiche-belouin.jpg
END:VEVENT
BEGIN:VEVENT
DTSTART;VALUE=DATE:20210918
DTEND;VALUE=DATE:20220404
DTSTAMP:20260424T003952
CREATED:20210928T083050Z
LAST-MODIFIED:20220114T140647Z
UID:889-1631923200-1649030399@museesetcentresdart.caprovenceverte.fr
SUMMARY:"Le héros de la cuisine"
DESCRIPTION:The exhibition puts the spotlight on aluminum and tells the story of how it has revolutionized the household arts. Ce métal a bousculé l’intérieur des foyers lorsqu’il est apparu au milieu du XXe siècle\, entering first of all, in the daily life of the French by the kitchen. Au-delà des casseroles\, marmites ou moulins à légumes\, l’aluminium va être présent dans les nouveaux équipements électriques tels que fers à repasser\, or vacuums. It will gradually spread throughout the house and will then become indispensable. Libérateur du quotidien de la population\, he will become the star of the technical revolutions of his time. \nSon invention\, made possible by the discovery of bauxite two hundred years ago (March 1821)\, is now highlighted in the Musée des Gueules Rouges, which traces the exploitation of this alumina-rich ore in Provence. \nL’exposition relate l’évolution singulière de l’aluminium\, ce “héros de la cuisine”\, résistant\, inaltérable et toujours brillant\, à la conquête des foyers français et au service de la ménagère du XXe siècle. To be discovered from 18 September 2021 to 3 April 2022.
URL:https://museesetcentresdart.caprovenceverte.fr/event/le-heros-de-la-cuisine/
LOCATION:Musée des Gueules Rouges
CATEGORIES:General - Homepage,Musée des Gueules Rouges
ATTACH;FMTTYPE=image/jpeg:https://museesetcentresdart.caprovenceverte.fr/wp-content/uploads/2021/09/Arts_menagers.jpg
END:VEVENT
END:VCALENDAR